{"text_format":"1","workbook":"xlsx","n_sheets":26,"sheets":["Содержание","Столы Italfrost с боковым","Столы Italfrost с нижним","Столы Italfrost для салатов","Столы ОБ","Столы РП","Столы СП","Столы конд_разделочные","Столы для отходов","Столы закрытые","Столы закрытые с ванной","Столы для моек, для рыбы","Цельнотянутые ванны","Сварные ванны","Рукомойники, Котломоечные","Стеллажи","Полки настольные","Полки навесные открытые","Полки, шкафы закрытые","Стеллажи для инвентаря","Зонты пристенные","Зонты островные","Подставки,подтоварники,тележки","Повышение цен","Техно","Лист2"],"not_rendered":{"charts":0,"images":77,"macros":1,"external_links":3,"defined_names":397,"comments":14,"pivot_tables":0},"unopened":[],"bounds":{"document_bytes":16777216,"sheet_cells":100000,"rows_first":2000,"rows_last":500,"rows_between":2000,"halvings":0,"cell_chars":16384,"cell_head_chars":4096},"cells_cut":0,"cells_raw":0,"read":"whole","date_system":"1900"}

{"sheet":"Содержание","index":0,"n_rows":24,"n_cols":3,"rows_kept":24,"cut":false,"hidden":false,"merged":[[14,0,14,2],[15,0,15,2],[16,0,16,2],[22,0,22,2],[23,0,23,2],[17,0,17,2],[18,0,18,2],[19,0,19,2],[20,0,20,2],[21,0,21,2],[9,0,9,2],[10,0,10,2],[11,0,11,2],[12,0,12,2],[13,0,13,2],[4,0,4,2],[5,0,5,2],[6,0,6,2],[7,0,7,2],[8,0,8,2]]}
[null,null,"ЗАВОД «ОПК»\nТел.: +7 (496) 704-52-11\ne-mail:manager@ozpk.ru\nсайт: ozpk.ru"]
["Ваша скидка","-",0]
["НДС","-"]
[]
["Нейтральное оборудование"]
["Столы производственные  с бортом/без борта обвязка"]
["Столы производственные с бортом/ без борта решетчатая полка"]
["Столы производственные с бортом/ без борта сплошная полка"]
["Столы кондитерские/разделочные"]
["Столы для сбора отходов"]
["Столы закрытые"]
["Столы закрытые с ванной"]
["Столы для посудомоек, столы для рыбы"]
["Цельнотянутые ванны моечные"]
["Сварные ванны моечные"]
["Рукомойники, Котломоечные ванны"]
["Стеллажи"]
["Полки кухонные открытые"]
["Полки настольные"]
["Полки, шкафы закрытые"]
["Передвижные шпильки, полки для посуды и инвентаря"]
["Зонты пристенные"]
["Зонты островные"]
["Подставки, подтоварники, тележки"]

{"sheet":"Столы Italfrost с боковым","index":1,"n_rows":52,"n_cols":15,"rows_kept":52,"cut":false,"hidden":true,"merged":[[17,0,20,1],[17,4,18,4],[17,5,18,5],[17,6,18,6],[17,11,18,11],[17,12,18,12],[17,13,18,13],[19,4,20,4],[19,5,20,5],[19,6,20,6],[19,11,20,11],[19,12,20,12],[19,13,20,13],[17,7,18,7],[17,8,18,8],[17,9,18,9],[17,10,18,10],[19,7,20,7],[19,8,20,8],[19,9,20,9],[19,10,20,10],[13,11,14,11],[13,12,14,12],[13,13,14,13],[15,4,16,4],[15,5,16,5],[15,6,16,6],[15,11,16,11],[15,12,16,12],[15,13,16,13],[15,7,16,7],[15,8,16,8],[15,9,16,9],[15,10,16,10],[13,10,14,10],[13,9,14,9],[13,8,14,8],[13,7,14,7],[13,6,14,6],[6,12,7,12],[6,13,7,13],[6,7,7,7],[6,8,7,8],[6,9,6,11],[8,0,8,13],[9,0,12,1],[9,4,10,4],[9,5,10,5],[9,6,10,6],[6,3,7,3],[6,4,6,5],[6,6,7,6],[9,10,10,10],[9,11,10,11],[9,12,10,12],[9,13,10,13],[11,4,12,4],[11,5,12,5],[11,6,12,6],[11,10,12,10],[11,11,12,11],[11,12,12,12],[11,13,12,13],[1,0,1,1],[2,0,2,1],[3,0,3,1],[6,0,7,0],[6,1,7,1],[6,2,7,2],[13,0,16,1],[13,4,14,4],[13,5,14,5],[21,0,21,13],[22,4,23,4],[22,5,23,5],[22,6,23,6],[22,10,23,10],[22,11,23,11],[22,12,23,12],[22,13,23,13],[22,0,25,1],[26,9,27,9],[28,9,29,9],[24,4,25,4],[24,5,25,5],[24,6,25,6],[24,10,25,10],[24,11,25,11],[24,12,25,12],[24,13,25,13],[26,4,27,4],[26,5,27,5],[26,6,27,6],[26,10,27,10],[26,11,27,11],[26,12,27,12],[26,13,27,13],[32,10,33,10],[32,11,33,11],[32,12,33,12],[32,13,33,13],[30,9,31,9],[32,9,33,9],[28,4,29,4],[28,5,29,5],[28,6,29,6],[28,10,29,10],[28,11,29,11],[28,12,29,12],[28,13,29,13],[30,4,31,4],[30,5,31,5],[30,6,31,6],[30,10,31,10],[30,11,31,11],[30,12,31,12],[30,13,31,13],[34,0,34,13],[9,7,10,7],[9,8,10,8],[11,7,12,7],[11,8,12,8],[22,7,23,7],[22,8,23,8],[24,7,25,7],[24,8,25,8],[26,7,27,7],[26,8,27,8],[28,7,29,7],[28,8,29,8],[30,7,31,7],[30,8,31,8],[32,7,33,7],[32,8,33,8],[9,9,10,9],[11,9,12,9],[22,9,23,9],[24,9,25,9],[32,4,33,4],[32,5,33,5],[32,6,33,6],[35,0,40,1],[41,0,41,1],[42,0,42,1],[43,0,43,1],[45,0,45,1],[46,0,46,1],[47,0,47,1],[48,0,48,1],[40,3,40,8],[35,2,40,2],[35,3,35,8],[36,3,36,8],[37,3,37,8],[38,3,38,8],[39,3,39,8],[49,0,49,1],[50,0,50,1],[51,0,51,1],[41,3,41,11],[42,3,42,11],[43,3,43,11],[45,3,45,11],[47,3,47,11],[46,3,46,11],[48,3,48,11],[49,3,49,11],[50,3,50,8],[51,3,51,8],[44,0,44,13],[28,15,29,15],[30,15,31,15],[32,15,33,15],[9,15,10,15],[11,15,12,15],[13,15,14,15],[15,15,16,15],[17,15,18,15],[19,15,20,15],[22,15,23,15],[24,15,25,15],[26,15,27,15]]}
["Охлаждаемые столы с боковым расположением агрегата",null,null,null,null,null,null,null,null,null,null,null,null,null,"На главную"]
[]
["Ваша скидка:",null,{"$f":"Содержание!C2","v":0}]
["НДС:",null,{"$f":"IF(Лист2!A1=TRUE,\"С НДС\",\"БЕЗ НДС\")","v":"С НДС"}]
[]
[null,null,"Складская программа"]
["№","Внешний вид","Наименование","С бортом/ без борта","Количество",null,"Стандарт\nGastronorm\nGN 1/1","Общий объём, л","Полезный объём, л","Габаритные размеры, мм",null,null,"Базовая цена, руб. (с НДС)",{"$f":"Лист2!$A$5","v":"Ваша цена, руб."}]
[null,null,null,null,"Ящиков","Дверей",null,null,null,"Длина","Ширина","Высота"]
["Холодильные столы с нержавеющей столешницей (температурный режим, °C +1…+10)"]
[null,null,"Шкаф-стол холодильный СШC-0,2 GN-1400","С бортом ",0,2,"+",305,220,1393,700,840,85802,{"$f":"ROUND(M10*(1-$C$3)/Лист2!$A$6,0)","v":85802}]
[null,null,"Шкаф-стол холодильный СШC-0,2 GNВ-1400","Без борта"]
[null,null,"Шкаф-стол холодильный СШС-0,2-1400","С бортом ",0,2,"-",255,200,1393,600,840,85342,{"$f":"ROUND(M12*(1-$C$3)/Лист2!$A$6,0)","v":85342}]
[null,null,"Шкаф-стол холодильный СШС-0,2 В-1400","Без борта"]
[null,null,"Шкаф-стол холодильный СШС-0,3 GN-1850","С бортом ",0,3,"+",465,310,1838,700,840,101152,{"$f":"ROUND(M14*(1-$C$3)/Лист2!$A$6,0)","v":101152}]
[null,null,"Шкаф-стол холодильный СШС-0,3 GNВ-1850","Без борта"]
[null,null,"Шкаф-стол холодильный СШС-0,3-1850","С бортом ",0,3,"-",395,260,1838,600,840,100690,{"$f":"ROUND(M16*(1-$C$3)/Лист2!$A$6,0)","v":100690}]
[null,null,"Шкаф-стол холодильный СШС-0,3 В-1850","Без борта"]
[null,null,"Шкаф-стол холодильный СШС-0,4 GN-2300","С бортом ",0,4,"+",620,410,2283,700,840,122640,{"$f":"ROUND(M18*(1-$C$3)/Лист2!$A$6,0)","v":122640}]
[null,null,"Шкаф-стол холодильный СШС-0,4 GNВ-2300","Без борта"]
[null,null,"Шкаф-стол холодильный СШС-0,4-2300","С бортом ",0,4,"-",520,340,2283,600,840,122180,{"$f":"ROUND(M20*(1-$C$3)/Лист2!$A$6,0)","v":122180}]
[null,null,"Шкаф-стол холодильный СШС-0,4 В-2300","Без борта"]
["Морозильные столы с нержавеющей столешницей (температурный режим, °C -20…-10)"]
[null,null,"Шкаф-стол морозильный СШН-0,2 GN-1400","С бортом",0,2,"+",305,220,1393,700,840,99617,{"$f":"ROUND(M23*(1-$C$3)/Лист2!$A$6,0)","v":99617}]
[null,null,"Шкаф-стол морозильный СШН-0,2 GNВ-1400","Без борта"]
[null,null,"Шкаф-стол морозильный СШН-0,2-1400","С бортом",0,2,"-",255,200,1393,600,840,99156,{"$f":"ROUND(M25*(1-$C$3)/Лист2!$A$6,0)","v":99156}]
[null,null,"Шкаф-стол морозильный СШН-0,2 В-1400","Без борта"]
[null,null,"Шкаф-стол морозильный СШН-0,3 GN-1850","С бортом",0,3,"+",465,310,1838,700,840,127246,{"$f":"ROUND(M27*(1-$C$3)/Лист2!$A$6,0)","v":127246}]
[null,null,"Шкаф-стол морозильный СШН-0,3 GNВ-1850","Без борта"]
[null,null,"Шкаф-стол морозильный СШН-0,3-1850","С бортом",0,3,"-",395,260,1838,600,840,126785,{"$f":"ROUND(M29*(1-$C$3)/Лист2!$A$6,0)","v":126785}]
[null,null,"Шкаф-стол морозильный СШН-0,3 В-1850","Без борта"]
[null,null,"Шкаф-стол морозильный СШН-0,4 GN-2300","С бортом",0,4,"+",620,410,2283,700,840,150269,{"$f":"ROUND(M31*(1-$C$3)/Лист2!$A$6,0)","v":150269}]
[null,null,"Шкаф-стол морозильный СШН-0,4 GNВ-2300","Без борта"]
[null,null,"Шкаф-стол морозильный СШН-0,4-2300","С бортом",0,4,"-",520,340,2283,600,840,149808,{"$f":"ROUND(M33*(1-$C$3)/Лист2!$A$6,0)","v":149808}]
[null,null,"Шкаф-стол морозильный СШН-0,4 В-2300","Без борта"]
["Модификации к холодильным/морозильным столам( добавить к стандартной стоимости изделия)"]
[null,null,"Полипропиленовая столешница, толщина пропилена -   30 мм, клеится к нержавеющей столешнице высотой 20 мм",null,null,null,null,null,null,1393,700,30,24364,{"$f":"ROUND(M36*(1-$C$3)/Лист2!$A$6,0)","v":24364}]
[null,null,null,null,null,null,null,null,null,1393,600,30,23010,{"$f":"ROUND(M37*(1-$C$3)/Лист2!$A$6,0)","v":23010}]
[null,null,null,null,null,null,null,null,null,1838,700,30,29778,{"$f":"ROUND(M38*(1-$C$3)/Лист2!$A$6,0)","v":29778}]
[null,null,null,null,null,null,null,null,null,1838,600,30,28425,{"$f":"ROUND(M39*(1-$C$3)/Лист2!$A$6,0)","v":28425}]
[null,null,null,null,null,null,null,null,null,2283,700,30,35192,{"$f":"ROUND(M40*(1-$C$3)/Лист2!$A$6,0)","v":35192}]
[null,null,null,null,null,null,null,null,null,2283,600,30,33839,{"$f":"ROUND(M41*(1-$C$3)/Лист2!$A$6,0)","v":33839}]
[null,null,"Установка 2-х выдвижных ящиков вместо одной распашной двери",null,null,null,null,null,null,null,null,null,18950,{"$f":"ROUND(M42*(1-$C$3)/Лист2!$A$6,0)","v":18950}]
[null,null,"Установка 3-х выдвижных ящиков вместо одной распашной двери(только для столов с боковым расположением агрегата",null,null,null,null,null,null,null,null,null,28425,{"$f":"ROUND(M43*(1-$C$3)/Лист2!$A$6,0)","v":28425}]
[null,null,"Замена стандартных ножек на колеса, 2 из них с тормозом",null,null,null,null,null,null,null,null,null,8933,{"$f":"ROUND(M44*(1-$C$3)/Лист2!$A$6,0)","v":8933}]
["Опции к холодильным/морозильным столам(поставляются отдельно)"]
[null,null,"Решетка защитаная для агрега из нержавеющей стали (84312), артикул СО.906.57.00.00",null,null,null,null,null,null,null,null,null,2030,{"$f":"ROUND(M46*(1-$C$3)/Лист2!$A$6,0)","v":2030}]
[null,null,"Полкодержатель слева (96480) для столов 700, артикул СО.979.03.0000.05",null,null,null,null,null,null,null,null,null,366,{"$f":"ROUND(M47*(1-$C$3)/Лист2!$A$6,0)","v":366}]
[null,null,"Полкодержатель справа (96481) для столов 700, артикул СО.979.03.0000.05mir",null,null,null,null,null,null,null,null,null,366,{"$f":"ROUND(M48*(1-$C$3)/Лист2!$A$6,0)","v":366}]
[null,null,"Полкодержатель слева (106969) для столов 700, артикул СО.906.03.0000.05",null,null,null,null,null,null,null,null,null,339,{"$f":"ROUND(M49*(1-$C$3)/Лист2!$A$6,0)","v":339}]
[null,null,"Полкодержатель справа (106970) для столов 700, артикул СО.906.03.0000.05mir",null,null,null,null,null,null,null,null,null,339,{"$f":"ROUND(M50*(1-$C$3)/Лист2!$A$6,0)","v":339}]
[null,null,"Полка решетчатая для столов 700, крашенная (100670), артикул СО.979.56.5000.01",null,null,null,null,null,null,332,570,"4(6)",1287,{"$f":"ROUND(M51*(1-$C$3)/Лист2!$A$6,0)","v":1287}]
[null,null,"Полка решетчатая для столов 600, крашенная (100671), артикул СО.906.56.5000.01",null,null,null,null,null,null,332,470,"4(6)",1083,{"$f":"ROUND(M52*(1-$C$3)/Лист2!$A$6,0)","v":1083}]

{"sheet":"Столы Italfrost с нижним","index":2,"n_rows":42,"n_cols":15,"rows_kept":42,"cut":false,"hidden":true,"merged":[[1,0,1,1],[2,0,2,1],[3,0,3,1],[6,0,7,0],[6,1,7,1],[6,2,7,2],[9,13,10,13],[11,4,12,4],[11,5,12,5],[11,6,12,6],[11,7,12,7],[11,8,12,8],[11,9,12,9],[6,12,7,12],[6,13,7,13],[8,0,8,13],[9,0,12,1],[9,4,10,4],[9,5,10,5],[9,6,10,6],[9,7,10,7],[9,8,10,8],[9,9,10,9],[6,3,7,3],[6,4,6,5],[6,6,7,6],[6,7,7,7],[6,8,7,8],[6,9,6,11],[13,0,16,1],[13,4,14,4],[13,5,14,5],[13,6,14,6],[13,7,14,7],[13,8,14,8],[9,10,10,10],[9,11,10,11],[9,12,10,12],[15,4,16,4],[15,5,16,5],[15,6,16,6],[15,7,16,7],[15,8,16,8],[11,10,12,10],[11,11,12,11],[11,12,12,12],[11,13,12,13],[15,9,16,9],[15,10,16,10],[15,11,16,11],[15,12,16,12],[15,13,16,13],[13,9,14,9],[13,10,14,10],[13,11,14,11],[13,12,14,12],[13,13,14,13],[18,11,19,11],[18,12,19,12],[18,13,19,13],[17,0,17,13],[18,0,21,1],[18,4,19,4],[18,5,19,5],[18,6,19,6],[18,7,19,7],[20,10,21,10],[20,11,21,11],[20,12,21,12],[20,13,21,13],[20,4,21,4],[20,5,21,5],[20,6,21,6],[20,7,21,7],[20,8,21,8],[20,9,21,9],[18,8,19,8],[18,9,19,9],[18,10,19,10],[22,10,23,10],[22,11,23,11],[22,12,23,12],[22,13,23,13],[24,4,25,4],[24,5,25,5],[24,6,25,6],[24,7,25,7],[24,8,25,8],[24,9,25,9],[22,4,23,4],[22,5,23,5],[22,6,23,6],[22,7,23,7],[22,8,23,8],[22,9,23,9],[26,0,26,13],[24,10,25,10],[24,11,25,11],[24,12,25,12],[24,13,25,13],[37,3,37,11],[31,0,31,1],[31,3,31,11],[32,0,32,1],[32,3,32,11],[27,0,30,1],[27,2,30,2],[27,3,27,8],[28,3,28,8],[29,3,29,8],[30,3,30,8],[9,15,10,15],[11,15,12,15],[13,15,14,15],[15,15,16,15],[18,15,19,15],[20,15,21,15],[22,15,23,15],[24,15,25,15],[41,0,41,1],[41,3,41,8],[22,0,25,1],[35,3,35,11],[38,0,38,1],[38,3,38,11],[39,0,39,1],[39,3,39,11],[40,0,40,1],[40,3,40,8],[33,0,33,13],[34,0,34,1],[34,3,34,11],[36,0,36,1],[36,3,36,11],[37,0,37,1]]}
["Охлаждаемые столы с нижним расположением агрегата",null,null,null,null,null,null,null,null,null,null,null,null,null,"На главную"]
[]
["Ваша скидка:",null,{"$f":"Содержание!C2","v":0}]
["НДС:",null,{"$f":"IF(Лист2!A1=TRUE,\"С НДС\",\"БЕЗ НДС\")","v":"С НДС"}]
[]
[null,null,"Складская программа"]
["№","Внешний вид","Наименование","С бортом/ без борта","Количество",null,"Стандарт\nGastronorm\nGN 1/1","Общий объём, л","Полезный объём, л","Габаритные размеры, мм",null,null,"Базовая цена, руб. (с НДС)",{"$f":"Лист2!$A$5","v":"Ваша цена, руб."}]
[null,null,null,null,"Ящиков","Дверей",null,null,null,"Длина","Ширина","Высота"]
["Холодильные столы с нержавеющей столешницей (температурный режим, °C +1…+10)"]
[null,null,"Шкаф-стол холодильный СШС-0,2 GN-1000 NDSBS","С бортом ",0,2,"+",245,200,1000,700,865,73661,{"$f":"ROUND(M10*(1-$C$3)/Лист2!$A$6,0)","v":73661}]
[null,null,"Шкаф-стол холодильный СШС-0,2 GN-1000 NDSFS","Без борта"]
[null,null,"Шкаф-стол холодильный СШС-0,2-1000 NDSBS","С бортом ",0,2,"-",205,165,1000,600,865,73200,{"$f":"ROUND(M12*(1-$C$3)/Лист2!$A$6,0)","v":73200}]
[null,null,"Шкаф-стол холодильный СШС-0,2-1000 NDSFS","Без борта"]
[null,null,"Шкаф-стол холодильный СШС-0,3 GN-1500 NDSBS","С бортом ",0,3,"+",375,260,1500,700,865,90546,{"$f":"ROUND(M14*(1-$C$3)/Лист2!$A$6,0)","v":90546}]
[null,null,"Шкаф-стол холодильный СШС-0,3 GN-1500 NDSFS","Без борта"]
[null,null,"Шкаф-стол холодильный СШС-0,3-1500 NDSBS","С бортом ",0,3,"-",315,215,1500,600,865,90084,{"$f":"ROUND(M16*(1-$C$3)/Лист2!$A$6,0)","v":90084}]
[null,null,"Шкаф-стол холодильный СШС-0,3-1500 NDSFS","Без борта"]
["Морозильные столы с нержавеющей столешницей (температурный режим, °C -20…-10)"]
[null,null,"Шкаф-стол морозильный СШН-0,2 GN-1000 NDSBS","С бортом",0,2,"+",245,200,1000,700,865,85942,{"$f":"ROUND(M19*(1-$C$3)/Лист2!$A$6,0)","v":85942}]
[null,null,"Шкаф-стол морозильный СШН-0,2 GN-1000 NDSFS","Без борта"]
[null,null,"Шкаф-стол морозильный СШН-0,2-1000 NDSBS","С бортом",0,2,"-",205,165,1000,600,865,85480,{"$f":"ROUND(M21*(1-$C$3)/Лист2!$A$6,0)","v":85480}]
[null,null,"Шкаф-стол морозильный СШН-0,2-1000 NDSFS","Без борта"]
[null,null,"Шкаф-стол морозильный СШН-0,3 GN-1500 NDSBS","С бортом",0,3,"+",375,260,1500,700,865,108965,{"$f":"ROUND(M23*(1-$C$3)/Лист2!$A$6,0)","v":108965}]
[null,null,"Шкаф-стол морозильный СШН-0,3 GN-1500 NDSFS","Без борта"]
[null,null,"Шкаф-стол морозильный СШН-0,3-1500 NDSBS","С бортом",0,3,"-",315,215,1500,600,865,108503,{"$f":"ROUND(M25*(1-$C$3)/Лист2!$A$6,0)","v":108503}]
[null,null,"Шкаф-стол морозильный СШН-0,3-1500 NDSFS","Без борта"]
["Модификации к холодильным/морозильным столам( добавить к стандартной стоимости изделия)"]
[null,null,"Полипропиленовая столешница, толщина пропилена -   30 мм, клеится к нержавеющей столешнице высотой 20 мм",null,null,null,null,null,null,1000,700,30,21657,{"$f":"ROUND(M28*(1-$C$3)/Лист2!$A$6,0)","v":21657}]
[null,null,null,null,null,null,null,null,null,1000,600,30,20303,{"$f":"ROUND(M29*(1-$C$3)/Лист2!$A$6,0)","v":20303}]
[null,null,null,null,null,null,null,null,null,1500,700,30,27071,{"$f":"ROUND(M30*(1-$C$3)/Лист2!$A$6,0)","v":27071}]
[null,null,null,null,null,null,null,null,null,1500,600,30,25717,{"$f":"ROUND(M31*(1-$C$3)/Лист2!$A$6,0)","v":25717}]
[null,null,"Установка 2-х выдвижных ящиков вместо одной распашной двери",null,null,null,null,null,null,null,null,null,18950,{"$f":"ROUND(M32*(1-$C$3)/Лист2!$A$6,0)","v":18950}]
[null,null,"Замена стандартных ножек на колеса, 2 из них с тормозом",null,null,null,null,null,null,null,null,null,8933,{"$f":"ROUND(M33*(1-$C$3)/Лист2!$A$6,0)","v":8933}]
["Опции к холодильным/морозильным столам(поставляются отдельно)"]
[null,null,"Решетка защитаная для агрега из нержавеющей стали для 2-х секционного стола(135524), артикул СО.1499.57.00.00 ",null,null,null,null,null,null,null,null,null,2166,{"$f":"ROUND(M35*(1-$C$3)/Лист2!$A$6,0)","v":2166}]
[null,null,"Решетка защитаная для агрега из нержавеющей стали для 3-х секционного стола(135527), артикул СО.1503.57.00.00 ",null,null,null,null,null,null,null,null,null,2436,{"$f":"ROUND(M36*(1-$C$3)/Лист2!$A$6,0)","v":2436}]
[null,null,"Полкодержатель слева (96480) для столов 700, артикул СО.979.03.0000.05",null,null,null,null,null,null,null,null,null,366,{"$f":"ROUND(M37*(1-$C$3)/Лист2!$A$6,0)","v":366}]
[null,null,"Полкодержатель справа (96481) для столов 700, артикул СО.979.03.0000.05mir",null,null,null,null,null,null,null,null,null,366,{"$f":"ROUND(M38*(1-$C$3)/Лист2!$A$6,0)","v":366}]
[null,null,"Полкодержатель слева (106969) для столов 700, артикул СО.906.03.0000.05",null,null,null,null,null,null,null,null,null,339,{"$f":"ROUND(M39*(1-$C$3)/Лист2!$A$6,0)","v":339}]
[null,null,"Полкодержатель справа (106970) для столов 700, артикул СО.906.03.0000.05mir",null,null,null,null,null,null,null,null,null,339,{"$f":"ROUND(M40*(1-$C$3)/Лист2!$A$6,0)","v":339}]
[null,null,"Полка решетчатая для столов 700, крашенная (100670), артикул СО.979.56.5000.01",null,null,null,null,null,null,332,570,"4(6)",1287,{"$f":"ROUND(M41*(1-$C$3)/Лист2!$A$6,0)","v":1287}]
[null,null,"Полка решетчатая для столов 600, крашенная (100671), артикул СО.906.56.5000.01",null,null,null,null,null,null,332,470,"4(6)",1083,{"$f":"ROUND(M42*(1-$C$3)/Лист2!$A$6,0)","v":1083}]

{"sheet":"Столы Italfrost для салатов","index":3,"n_rows":39,"n_cols":15,"rows_kept":39,"cut":false,"hidden":true,"merged":[[1,0,1,1],[2,0,2,1],[3,0,3,1],[6,0,7,0],[6,1,7,1],[19,0,22,1],[23,0,26,1],[18,0,18,1],[6,7,7,7],[13,0,16,1],[9,0,12,1],[8,0,8,13],[6,13,7,13],[6,2,7,2],[6,6,7,6],[6,3,6,4],[6,5,7,5],[6,9,6,11],[6,8,7,8],[6,12,7,12],[17,0,17,13],[34,3,34,11],[35,0,35,1],[35,3,35,11],[36,0,36,1],[36,3,36,11],[37,0,37,1],[37,3,37,8],[38,0,38,1],[38,3,38,8],[27,0,27,13],[28,0,28,1],[28,3,28,11],[29,3,29,11],[30,0,30,1],[30,3,30,11],[31,0,31,13],[32,0,32,1],[32,3,32,11],[33,0,33,1],[33,3,33,11],[34,0,34,1]]}
["Холодильные столы/Столы для салатов",null,null,null,null,null,null,null,null,null,null,null,null,null,"На главную"]
[]
["Ваша скидка:",null,{"$f":"Содержание!C2","v":0}]
["НДС:",null,{"$f":"IF(Лист2!A1=TRUE,\"С НДС\",\"БЕЗ НДС\")","v":"С НДС"}]
[]
[null,null,"Складская программа"]
["№","Внешний вид","Наименование","Количество",null,"Стандарт\nGastronorm\nGN 1/1","Гастроемкости кол-во (в комплект не входят)","Общий объём, л","Полезный объём, л","Габаритные размеры, мм",null,null,"Базовая цена, руб. (с НДС)",{"$f":"Лист2!$A$5","v":"Ваша цена, руб."}]
[null,null,null,"Ящиков","Дверей",null,null,null,null,"Длина","Ширина","Высота"]
["Холодильные столы для салатов (температурный режим, °C +1…+10) с боковым расположением агрегата"]
[null,null,"Шкаф- стол холодильный CШС-0,2 GN - 1400 SRSBS 1\\3",0,2,"+","GN 1/3 -5 шт",305,120,1393,700,850,116639,{"$f":"ROUND(M10*(1-$C$3)/Лист2!$A$6,0)","v":116639}]
[null,null,"Шкаф- стол холодильный CШС-0,2 - 1400 SRSBS 1\\3",0,2,"-","GN 1/3 -5 шт",255,100,1393,600,850,116178,{"$f":"ROUND(M11*(1-$C$3)/Лист2!$A$6,0)","v":116178}]
[null,null,"Шкаф- стол холодильный CШС-0,2 GN - 1400 SRSBS 1\\6",0,2,"+","GN 1/6 -5 шт",305,120,1393,700,850,115105,{"$f":"ROUND(M12*(1-$C$3)/Лист2!$A$6,0)","v":115105}]
[null,null,"Шкаф- стол холодильный CШС-0,2 - 1400 SRSBS 1\\6",0,2,"-","GN 1/6 -5 шт",255,100,1393,600,850,114643,{"$f":"ROUND(M13*(1-$C$3)/Лист2!$A$6,0)","v":114643}]
[null,null,"Шкаф- стол холодильный CШС-0,3 GN - 1850 SRSBS 1\\3",0,3,"+","GN 1/3 -8 шт",465,305,1838,700,850,136456,{"$f":"ROUND(M14*(1-$C$3)/Лист2!$A$6,0)","v":136456}]
[null,null,"Шкаф- стол холодильный CШС-0,3 - 1850 SRSBS 1\\3",0,3,"-","GN 1/3 -8 шт",395,250,1838,600,850,135994,{"$f":"ROUND(M15*(1-$C$3)/Лист2!$A$6,0)","v":135994}]
[null,null,"Шкаф- стол холодильный CШС-0,3 GN - 1850 SRSBS 1\\6",0,3,"+","GN 1/6 -8 шт",465,305,1838,700,850,134921,{"$f":"ROUND(M16*(1-$C$3)/Лист2!$A$6,0)","v":134921}]
[null,null,"Шкаф- стол холодильный CШС-0,3 - 1850 SRSBS 1\\6",0,3,"-","GN 1/6 -8 шт",395,250,1838,600,850,134459,{"$f":"ROUND(M17*(1-$C$3)/Лист2!$A$6,0)","v":134459}]
["Холодильные столы для салатов (температурный режим, °C +1…+10) с  нижним расположением агрегата"]
[null,null,"Шкаф- стол холодильный CШС-2,0 L-90",0,2,"+",null,null,215,900,695,865,93615,{"$f":"ROUND(M19*(1-$C$3)/Лист2!$A$6,0)","v":93615}]
[null,null,"Шкаф- стол холодильный CШС-0,2 GN - 1000 SDSBS 1\\3",0,2,"+","GN 1/3 -5 шт",245,120,1000,700,865,89010,{"$f":"ROUND(M20*(1-$C$3)/Лист2!$A$6,0)","v":89010}]
[null,null,"Шкаф- стол холодильный CШС-0,2 - 1000 SDSBS 1\\3",0,2,"-","GN 1/3 -5 шт",205,100,1000,600,865,88549,{"$f":"ROUND(M21*(1-$C$3)/Лист2!$A$6,0)","v":88549}]
[null,null,"Шкаф- стол холодильный CШС-0,2 GN - 1000 SDSBS 1\\6",0,2,"+","GN 1/6 -5 шт",245,120,1000,700,865,87476,{"$f":"ROUND(M22*(1-$C$3)/Лист2!$A$6,0)","v":87476}]
[null,null,"Шкаф- стол холодильный CШС-0,2 - 1000 SDSBS 1\\6",0,2,"-","GN 1/6 -5 шт",205,100,1000,600,865,87014,{"$f":"ROUND(M23*(1-$C$3)/Лист2!$A$6,0)","v":87014}]
[null,null,"Шкаф- стол холодильный CШС-0,3 GN - 1500 SDSBS 1\\3",0,3,"+","GN 1/3 -8 шт",375,305,1500,700,865,107430,{"$f":"ROUND(M24*(1-$C$3)/Лист2!$A$6,0)","v":107430}]
[null,null,"Шкаф- стол холодильный CШС-0,3 - 1500 SDSBS 1\\3",0,3,"-","GN 1/3 -8 шт",315,250,1500,600,865,106968,{"$f":"ROUND(M25*(1-$C$3)/Лист2!$A$6,0)","v":106968}]
[null,null,"Шкаф- стол холодильный CШС-0,3 GN - 1500 SDSBS 1\\6",0,3,"+","GN 1/6 -8 шт",375,305,1500,700,865,105894,{"$f":"ROUND(M26*(1-$C$3)/Лист2!$A$6,0)","v":105894}]
[null,null,"Шкаф- стол холодильный CШС-0,3 - 1500 SDSBS 1\\6",0,3,"-","GN 1/6 -8 шт",315,250,1500,600,865,105434,{"$f":"ROUND(M27*(1-$C$3)/Лист2!$A$6,0)","v":105434}]
["Модификации к холодильным/морозильным столам( добавить к стандартной стоимости изделия)"]
[null,null,"Установка 2-х выдвижных ящиков вместо одной распашной двери",null,null,null,null,null,null,null,null,null,18950,{"$f":"ROUND(M29*(1-$C$3)/Лист2!$A$6,0)","v":18950}]
[null,null,"Установка 3-х выдвижных ящиков вместо одной распашной двери(только для столов с боковым расположением агрегата)",null,null,null,null,null,null,null,null,null,28425,{"$f":"ROUND(M30*(1-$C$3)/Лист2!$A$6,0)","v":28425}]
[null,null,"Замена стандартных ножек на колеса, 2 из них с тормозом",null,null,null,null,null,null,null,null,null,8933,{"$f":"ROUND(M31*(1-$C$3)/Лист2!$A$6,0)","v":8933}]
["Опции к холодильным/морозильным столам(поставляются отдельно)"]
[null,null,"Решетка защитаная для агрега из нержавеющей стали (84312), артикул СО.906.57.00.00",null,null,null,null,null,null,null,null,null,1901,{"$f":"ROUND(M33*(1-$C$3)/Лист2!$A$6,0)","v":1901}]
[null,null,"Полкодержатель слева (96480) для столов 700, артикул СО.979.03.0000.05",null,null,null,null,null,null,null,null,null,342,{"$f":"ROUND(M34*(1-$C$3)/Лист2!$A$6,0)","v":342}]
[null,null,"Полкодержатель справа (96481) для столов 700, артикул СО.979.03.0000.05mir",null,null,null,null,null,null,null,null,null,342,{"$f":"ROUND(M35*(1-$C$3)/Лист2!$A$6,0)","v":342}]
[null,null,"Полкодержатель слева (106969) для столов 700, артикул СО.906.03.0000.05",null,null,null,null,null,null,null,null,null,317,{"$f":"ROUND(M36*(1-$C$3)/Лист2!$A$6,0)","v":317}]
[null,null,"Полкодержатель справа (106970) для столов 700, артикул СО.906.03.0000.05mir",null,null,null,null,null,null,null,null,null,317,{"$f":"ROUND(M37*(1-$C$3)/Лист2!$A$6,0)","v":317}]
[null,null,"Полка решетчатая для столов 700, крашенная (100670), артикул СО.979.56.5000.01",null,null,null,null,null,null,332,570,"4(6)",1205,{"$f":"ROUND(M38*(1-$C$3)/Лист2!$A$6,0)","v":1205}]
[null,null,"Полка решетчатая для столов 600, крашенная (100671), артикул СО.906.56.5000.01",null,null,null,null,null,null,332,470,"4(6)",1014,{"$f":"ROUND(M39*(1-$C$3)/Лист2!$A$6,0)","v":1014}]

{"sheet":"Столы ОБ","index":4,"n_rows":185,"n_cols":15,"rows_kept":185,"cut":false,"hidden":false,"merged":[[13,6,13,9],[135,12,141,13],[176,12,176,13],[177,12,177,13],[178,12,184,13],[138,7,138,8],[138,10,138,11],[43,2,43,11],[91,2,91,11],[95,6,95,7],[97,6,97,7],[44,2,45,2],[136,7,136,8],[180,7,180,8],[51,8,51,11],[91,12,91,13],[92,12,92,13],[93,12,99,13],[133,12,133,13],[134,12,134,13],[121,2,121,4],[122,2,122,4],[123,2,123,4],[124,2,124,4],[9,12,10,13],[51,3,51,4],[52,3,52,4],[25,1,25,10],[27,1,28,1],[27,12,28,13],[9,1,10,1],[56,1,57,1],[50,8,50,11],[14,6,14,9],[15,6,15,9],[16,6,16,9],[18,6,18,9],[43,12,43,13],[44,12,44,13],[45,12,52,13],[48,10,48,11],[9,6,10,9],[27,6,28,9],[49,10,49,11],[11,12,23,13],[29,12,41,13],[29,6,29,9],[11,6,11,9],[1,0,1,2],[2,0,2,2],[3,0,3,2],[9,0,10,0],[7,2,8,11],[54,1,54,10],[6,1,6,10],[24,0,24,11],[40,6,40,9],[41,6,41,9],[29,2,29,4],[30,2,30,4],[31,2,31,4],[11,1,23,1],[19,6,19,9],[20,6,20,9],[21,6,21,9],[22,6,22,9],[23,6,23,9],[9,5,10,5],[9,2,10,4],[11,2,11,4],[52,8,52,11],[12,6,12,9],[125,2,125,4],[56,12,57,13],[98,3,98,4],[75,12,76,13],[96,6,96,7],[98,6,98,7],[96,10,96,11],[97,10,97,11],[103,12,104,13],[103,6,104,9],[84,6,84,9],[119,12,120,13],[121,12,131,13],[119,6,120,9],[56,6,57,9],[75,6,76,9],[117,1,117,10],[73,1,73,10],[75,1,76,1],[99,3,99,4],[101,1,101,10],[103,1,104,1],[94,6,94,7],[58,12,70,13],[183,3,183,4],[184,3,184,4],[160,1,160,10],[162,1,163,1],[162,12,163,13],[162,6,163,9],[177,7,177,8],[178,7,178,8],[179,7,179,8],[181,7,181,8],[181,10,181,11],[162,2,163,4],[162,5,163,5],[164,1,174,1],[88,6,88,9],[89,6,89,9],[77,2,77,4],[78,2,78,4],[79,2,79,4],[80,2,80,4],[81,2,81,4],[82,2,82,4],[84,2,84,4],[85,2,85,4],[86,2,86,4],[87,2,87,4],[88,2,88,4],[89,2,89,4],[39,6,39,9],[140,3,140,4],[141,3,141,4],[144,1,144,10],[146,1,147,1],[146,6,147,9],[135,7,135,8],[137,7,137,8],[41,2,41,4],[67,2,67,4],[68,2,68,4],[69,2,69,4],[70,2,70,4],[58,1,70,1],[61,2,61,4],[62,2,62,4],[63,2,63,4],[65,2,65,4],[66,2,66,4],[85,6,85,9],[86,6,86,9],[134,7,134,8],[121,6,121,9],[87,6,87,9],[22,2,22,4],[23,2,23,4],[27,2,28,4],[27,5,28,5],[32,2,32,4],[33,2,33,4],[34,2,34,4],[92,6,92,7],[93,6,93,7],[59,6,59,9],[58,6,58,9],[61,6,61,9],[60,6,60,9],[62,6,62,9],[63,6,63,9],[65,6,65,9],[66,6,66,9],[30,6,30,9],[31,6,31,9],[32,6,32,9],[33,6,33,9],[34,6,34,9],[36,6,36,9],[37,6,37,9],[12,2,12,4],[13,2,13,4],[14,2,14,4],[15,2,15,4],[16,2,16,4],[18,2,18,4],[19,2,19,4],[20,2,20,4],[21,2,21,4],[38,6,38,9],[36,2,36,4],[37,2,37,4],[38,2,38,4],[39,2,39,4],[40,2,40,4],[56,2,57,4],[56,5,57,5],[77,12,89,13],[75,2,76,4],[75,5,76,5],[77,6,77,9],[78,6,78,9],[79,6,79,9],[80,6,80,9],[81,6,81,9],[82,6,82,9],[67,6,67,9],[68,6,68,9],[69,6,69,9],[70,6,70,9],[58,2,58,4],[59,2,59,4],[60,2,60,4],[103,2,104,4],[103,5,104,5],[105,12,115,13],[105,6,105,9],[106,6,106,9],[107,6,107,9],[108,6,108,9],[109,6,109,9],[111,6,111,9],[112,6,112,9],[113,6,113,9],[114,6,114,9],[115,6,115,9],[105,1,115,1],[105,2,105,4],[106,2,106,4],[107,2,107,4],[108,2,108,4],[109,2,109,4],[111,2,111,4],[112,2,112,4],[113,2,113,4],[114,2,114,4],[115,2,115,4],[121,1,131,1],[119,2,120,4],[119,5,120,5],[148,12,158,13],[146,2,147,4],[146,5,147,5],[149,2,149,4],[150,2,150,4],[151,2,151,4],[152,2,152,4],[154,2,154,4],[155,2,155,4],[156,2,156,4],[157,2,157,4],[158,2,158,4],[148,1,158,1],[146,12,147,13],[119,1,120,1],[122,6,122,9],[123,6,123,9],[124,6,124,9],[125,6,125,9],[127,6,127,9],[128,6,128,9],[149,6,149,9],[150,6,150,9],[151,6,151,9],[152,6,152,9],[154,6,154,9],[155,6,155,9],[156,6,156,9],[157,6,157,9],[127,2,127,4],[128,2,128,4],[129,2,129,4],[130,2,130,4],[131,2,131,4],[129,6,129,9],[130,6,130,9],[131,6,131,9],[133,2,133,11],[134,2,135,2],[158,6,158,9],[148,2,148,4],[164,12,174,13],[165,6,165,9],[164,6,164,9],[166,6,166,9],[167,6,167,9],[168,6,168,9],[170,6,170,9],[171,6,171,9],[172,6,172,9],[173,6,173,9],[174,6,174,9],[174,2,174,4],[164,2,164,4],[165,2,165,4],[166,2,166,4],[167,2,167,4],[168,2,168,4],[170,2,170,4],[171,2,171,4],[172,2,172,4],[173,2,173,4],[148,6,148,9]]}
["Нейтральное оборудование/Столы с обвязкой",null,null,null,null,null,null,null,null,null,null,null,null,"На главную"]
[]
["Ваша скидка:",null,null,{"$f":"Содержание!C2","v":0}]
["НДС:",null,null,{"$f":"IF(Лист2!A1=TRUE,\"С НДС\",\"БЕЗ НДС\")","v":"С НДС"}]
[]
[]
[null,"Стол с бортом с нижней обвязкой (СРП Ш; ОБ)"]
[]
[]
[null,"Изображение","Артикул",null,null,"Модель","Характеристика номенклатуры",null,null,null,"Базовая цена,","Ваша цена,","Техническое описание",null,"Базовая цена,"]
[null,null,null,null,null,null,null,null,null,null,"руб","руб",null,null,"руб"]
[null,null,"СРПШ_60608587_ОБ",null,null,"СРПШ","L=600, S=600, H=850-870, ОБ",null,null,null,{"$f":"ROUND(O12*(1+'Повышение цен'!$C$9),0)","v":13127},{"$f":"ROUND(IF($D$4=\"С НДС\",K12*(1-$D$3),K12*(1-$D$3)/1.2),0)","v":13127},"шлифованная н/ст, толщина столешницы - 1 мм, разборная конструкция, обвязка, каркас - труба 40*40*1,2 мм, Hстолешницы -50 мм, Hборта - 40 мм, столешница усилена ЛДСП толщиной 16 мм, регулируемые ножки(+/-20мм), отступ от края 100 мм",null,10905]
[null,null,"СРПШ_80608587_ОБ",null,null,"СРПШ","L=800, S=600, H=850-870, ОБ",null,null,null,{"$f":"ROUND(O13*(1+'Повышение цен'!$C$9),0)","v":14215},{"$f":"ROUND(IF($D$4=\"С НДС\",K13*(1-$D$3),K13*(1-$D$3)/1.2),0)","v":14215},null,null,11809]
[null,null,"СРПШ_100608587_ОБ",null,null,"СРПШ","L=1000, S=600, H=850-870, ОБ",null,null,null,{"$f":"ROUND(O14*(1+'Повышение цен'!$C$9),0)","v":15301},15301,null,null,12711]
[null,null,"СРПШ_120608587_ОБ",null,null,"СРПШ","L=1200, S=600, H=850-870, ОБ",null,null,null,{"$f":"ROUND(O15*(1+'Повышение цен'!$C$9),0)","v":16391},16391,null,null,13616]
[null,null,"СРПШ_150608587_ОБ",null,null,"СРПШ","L=1500, S=600, H=850-870, ОБ",null,null,null,{"$f":"ROUND(O16*(1+'Повышение цен'!$C$9),0)","v":18019},18019,null,null,14969]
[null,null,"СРПШ_180608587_ОБ",null,null,"СРПШ","L=1800, S=600, H=850-870, ОБ",null,null,null,{"$f":"ROUND(O17*(1+'Повышение цен'!$C$9),0)","v":19650},19650,null,null,16324]
[]
[null,null,"СРПШ_60708587_ОБ",null,null,"СРПШ","L=600, S=700, H=850-870, ОБ",null,null,null,{"$f":"ROUND(O19*(1+'Повышение цен'!$C$9),0)","v":13774},13774,null,null,11442]
[null,null,"СРПШ_80708587_ОБ",null,null,"СРПШ","L=800, S=700, H=850-870, ОБ",null,null,null,{"$f":"ROUND(O20*(1+'Повышение цен'!$C$9),0)","v":14952},14952,null,null,12421]
[null,null,"СРПШ_100708587_ОБ",null,null,"СРПШ","L=1000, S=700, H=850-870, ОБ",null,null,null,{"$f":"ROUND(O21*(1+'Повышение цен'!$C$9),0)","v":16132},16132,null,null,13401]
[null,null,"СРПШ_120708587_ОБ",null,null,"СРПШ","L=1200, S=700, H=850-870, ОБ",null,null,null,{"$f":"ROUND(O22*(1+'Повышение цен'!$C$9),0)","v":17310},17310,null,null,14380]
[null,null,"СРПШ_150708587_ОБ",null,null,"СРПШ","L=1500, S=700, H=850-870, ОБ",null,null,null,{"$f":"ROUND(O23*(1+'Повышение цен'!$C$9),0)","v":19080},19080,null,null,15850]
[null,null,"СРПШ_180708587_ОБ",null,null,"СРПШ","L=1800, S=700, H=850-870, ОБ",null,null,null,{"$f":"ROUND(O24*(1+'Повышение цен'!$C$9),0)","v":20849},20849,null,null,17320]
[]
[null,"Стол без борта с нижней обвязкой (СРЦ Ш; ОБ)"]
[]
[null,"Изображение","Артикул",null,null,"Модель","Характеристика номенклатуры",null,null,null,"Базовая цена,","Ваша цена,","Техническое описание",null,"Базовая цена,"]
[null,null,null,null,null,null,null,null,null,null,"руб","руб",null,null,"руб"]
[null,null,"СРЦШ_60608587_ОБ",null,null,"СРЦШ","L=600, S=600, H=850-870, ОБ",null,null,null,{"$f":"ROUND(O30*(1+'Повышение цен'!$C$9),0)","v":12476},{"$f":"ROUND(IF($D$4=\"С НДС\",K30*(1-$D$3),K30*(1-$D$3)/1.2),0)","v":12476},"шлифованная н/ст, толщина столешницы - 1 мм, разборная конструкция, обвязка, каркас - труба 40*40*1,2 мм, Hстолешницы -50 мм, без борта, столешница усилена ЛДСП толщиной 16 мм, регулируемые ножки(+/-20мм)",null,10364]
[null,null,"СРЦШ_80608587_ОБ",null,null,"СРЦШ","L=800, S=600, H=850-870, ОБ",null,null,null,{"$f":"ROUND(O31*(1+'Повышение цен'!$C$9),0)","v":13470},13470,null,null,11190]
[null,null,"СРЦШ_100608587_ОБ",null,null,"СРЦШ","L=1000, S=600, H=850-870, ОБ",null,null,null,{"$f":"ROUND(O32*(1+'Повышение цен'!$C$9),0)","v":14467},14467,null,null,12018]
[null,null,"СРЦШ_120608587_ОБ",null,null,"СРЦШ","L=1200, S=600, H=850-870, ОБ",null,null,null,{"$f":"ROUND(O33*(1+'Повышение цен'!$C$9),0)","v":15463},15463,null,null,12845]
[null,null,"СРЦШ_150608587_ОБ",null,null,"СРЦШ","L=1500, S=600, H=850-870, ОБ",null,null,null,{"$f":"ROUND(O34*(1+'Повышение цен'!$C$9),0)","v":16953},16953,null,null,14083]
[null,null,"СРЦШ_180608587_ОБ",null,null,"СРЦШ","L=1800, S=600, H=850-870, ОБ",null,null,null,{"$f":"ROUND(O35*(1+'Повышение цен'!$C$9),0)","v":18447},18447,null,null,15324]
[]
[null,null,"СРЦШ_60708587_ОБ",null,null,"СРЦШ","L=600, S=700, H=850-870, ОБ",null,null,null,{"$f":"ROUND(O37*(1+'Повышение цен'!$C$9),0)","v":13078},{"$f":"ROUND(IF($D$4=\"С НДС\",K37*(1-$D$3),K37*(1-$D$3)/1.2),0)","v":13078},null,null,10864]
[null,null,"СРЦШ_80708587_ОБ",null,null,"СРЦШ","L=800, S=700, H=850-870, ОБ",null,null,null,{"$f":"ROUND(O38*(1+'Повышение цен'!$C$9),0)","v":14150},14150,null,null,11755]
[null,null,"СРЦШ_100708587_ОБ",null,null,"СРЦШ","L=1000, S=700, H=850-870, ОБ",null,null,null,{"$f":"ROUND(O39*(1+'Повышение цен'!$C$9),0)","v":15222},15222,null,null,12645]
[null,null,"СРЦШ_120708587_ОБ",null,null,"СРЦШ","L=1200, S=700, H=850-870, ОБ",null,null,null,{"$f":"ROUND(O40*(1+'Повышение цен'!$C$9),0)","v":16294},16294,null,null,13536]
[null,null,"СРЦШ_150708587_ОБ",null,null,"СРЦШ","L=1500, S=700, H=850-870, ОБ",null,null,null,{"$f":"ROUND(O41*(1+'Повышение цен'!$C$9),0)","v":17900},17900,null,null,14870]
[null,null,"СРЦШ_180708587_ОБ",null,null,"СРЦШ","L=1800, S=700, H=850-870, ОБ",null,null,null,{"$f":"ROUND(O42*(1+'Повышение цен'!$C$9),0)","v":19507},19507,null,null,16205]
[]
[null,null,"Формула расчета цены",null,null,null,null,null,null,null,null,null,"Техническое описание"]
[null,"Артикул","Модель","Длина,","Глубина,","Высота","Доп.","Доп.","Каркас","Доп.","Базовая цена,","Ваша цена,","Нестандартной модели"]
[null,null,null,"мм","мм","мм","опция","борт","раз/св","колеса","руб","руб",{"$f":"CONCATENATE(\"шлифованная н/ст, толщина столешницы - 1 мм,\",IF(I47=\"СВ\",\"сварная конструкция\",\"разборная конструкция\"),\", обвязка, каркас - труба 40*40*1,2 мм,\",IF(C47=\"СРПШ\",\"стол с бортом Нборта-40мм, отступ от края 100 мм\",\"стол без борта\"),IF(AND(C47=\"СРПШ\",G47=\"ОБ2Б\"),\", стол угловой с двумя бортами\",\"\"),IF(AND(C47=\"СРПШ\",G47=\"ОБ3Б\"),\", стол с тремя бортами\",\"\"),IF(AND(G47=\"ОБ2Б\",H47=\"П\"),\", правый\",\"\"),IF(AND(G47=\"ОБ2Б\",H47=\"Л\"),\", левый\",\"\"),\" Hстолешницы -50 мм, столешница усилена ЛДСП толщиной 16 мм,\",IF(J47=\"К\",\" 4 колеса(2 с тормозом)\",\"регулируемые ножки(+/-20мм)\"),\", длина \", D47,\"мм\",\", глубина \",E47,\"мм\",\" ,высота \",F47,\"мм, \", \"Объем в упаковке \",IF(I47=\"\",ROUND(D47/1000*E47/1000*0.255,2), ROUND(D47/1000*E47/1000*(F47+150)/1000,2)),\" м3\")","v":"шлифованная н/ст, толщина столешницы - 1 мм,разборная конструкция, обвязка, каркас - труба 40*40*1,2 мм,стол с бортом Нборта-40мм, отступ от края 100 мм Hстолешницы -50 мм, столешница усилена ЛДСП толщиной 16 мм,регулируемые ножки(+/-20мм), длина 800мм, глубина 600мм ,высота 850мм, Объем в упаковке 0,12 м3"}]
[null,{"$f":"UPPER(CONCATENATE(C47,\"_\",D47/10,E47/10,IF(AND(J47=\"\",F50=850),8587,F50/10),\"_\",G47,H47,I47,J47))","v":"СРПШ_80608587_ОБ"},"СРПШ",800,600,850,"ОБ",null,null,null,{"$f":"ROUND((K48*IF(D48>1800,1.05,1)*IF(E48>700,1.05,1)*IF(F48>870,1.05,1)*IF(G47=\"ОБ3Б\",1.07,1)+IF(J47=\"К\",6000,0))*1.3595*(1+'Повышение цен'!C9),0)","v":14215},{"$f":"ROUND(IF($D$4=\"С НДС\",K47*(1-$D$3),K47*(1-$D$3)/1.2),0)","v":14215}]
[null,null,null,{"$f":"IF(AND(D47>349,D47<2001),D47,\"не производим\")","v":800},{"$f":"IF(AND(E47>349,E47<1001),E47,\"не производим\")","v":600},{"$f":"IF(AND(F50>599,F50<1001),F50,\"не производим\")","v":850},null,null,null,null,{"$f":"IF(C47=\"СРПШ\",IF(AND(I47=\"\",G47=\"ОБ\"),ROUND((((D48*E48*Техно!I10*Техно!J8*0.00001*1.2*Техно!J10)+(((F48-50)*0.001*4+(D48-50)*0.001+(E48-50)*2*0.001)*Техно!J19)+(((D48-100)*80*0.00001*Техно!J8*Техно!I14*2)+((E48-100)*80*0.00001*Техно!J8*Техно!I14*2))*Техно!J14)*1.18+((D48*0.001+E48*0.001)*0.9*Техно!J20)+(Техно!J25*0.35)+((Техно!J26+Техно!J27)*2.5))*1.18/0.68*(0.85+0.6944),0),IF(AND(I47=\"СВ\",G47=\"ОБ\"),ROUND((((D48*E48*Техно!I10*Техно!J8*0.00001*1.2*Техно!J10)+(((F48-50)*0.001*4+(D48-50)*0.001+(E48-50)*2*0.001)*Техно!J19)+(((D48-100)*80*0.00001*Техно!J8*Техно!I14*2)+((E48-100)*80*0.00001*Техно!J8*Техно!I14*2))*Техно!J14+((D48*E48*Техно!I16*Техно!J8*0.00001)*Техно!J16))*1.18+((D48*0.001+E48*0.001)*0.9*Техно!J20)+(Техно!J25*(0.35+0.05))+((Техно!J26+Техно!J27)*(2.5+0.2)))*1.18/0.68*(0.85+0.6944),0),IF(AND(I47=\"\",OR(G47=\"ОБ2Б\",G47=\"ОБ3Б\")),ROUND((((D48*E48*Техно!I10*Техно!J8*0.00001*(1.2+0.1)*Техно!J10)+(((F48-50)*0.001*4+(D48-50)*0.001+(E48-50)*2*0.001)*Техно!J19)+(((D48-100)*80*0.00001*Техно!J8*Техно!I14*2)+((E48-100)*80*0.00001*Техно!J8*Техно!I14*2))*Техно!J14)*1.18+((D48*0.001+E48*0.001)*0.9*Техно!J20)+(Техно!J25*0.35)+((Техно!J26+Техно!J27)*(2.5+0.5)))*1.18/0.68*(0.85+0.6944),0),IF(AND(I47=\"СВ\",OR(G47=\"ОБ2Б\",G47=\"ОБ3Б\")),ROUND((((D48*E48*Техно!I10*Техно!J8*0.00001*(1.2+0.1)*Техно!J10)+(((F48-50)*0.001*4+(D48-50)*0.001+(E48-50)*2*0.001)*Техно!J19)+(((D48-100)*80*0.00001*Техно!J8*Техно!I14*2)+((E48-100)*80*0.00001*Техно!J8*Техно!I14*2))*Техно!J14+((D48*E48*Техно!I16*Техно!J8*0.00001)*Техно!J16))*1.18+((D48*0.001+E48*0.001)*0.9*Техно!J20)+(Техно!J25*(0.35+0.05))+((Техно!J26+Техно!J27)*(2.5+0.2+0.5)))*1.18/0.68*(0.85+0.6944),0))))),IF(C47=\"СРЦШ\",IF(I47=\"\",ROUND((((D48*E48*Техно!I10*Техно!J8*0.00001*1*Техно!J10)+(((F48-50)*0.001*4+(D48-50)*0.001+(E48-50)*2*0.001)*Техно!J19)+(((D48-100)*80*0.00001*Техно!J8*Техно!I14*2)+((E48-100)*80*0.00001*Техно!J8*Техно!I14*2))*Техно!J14)*1.18+((D48*0.001+E48*0.001)*0.9*Техно!J20)+(Техно!J25*0.35)+((Техно!J26+Техно!J27)*2.2))*1.18/0.68*(0.85+0.6944),0),IF(I47=\"СВ\",ROUND((((D48*E48*Техно!I10*Техно!J8*0.00001*1*Техно!J10)+(((F48-50)*0.001*4+(D48-50)*0.001+(E48-50)*2*0.001)*Техно!J19)+(((D48-100)*80*0.00001*Техно!J8*Техно!I14*2)+((E48-100)*80*0.00001*Техно!J8*Техно!I14*2))*Техно!J14+((D48*E48*Техно!I16*Техно!J8*0.00001)*Техно!J16))*1.18+((D48*0.001+E48*0.001)*0.9*Техно!J20)+(Техно!J25*(0.35+0.05))+((Техно!J26+Техно!J27)*(2.2+0.2)))*1.18/0.68*(0.85+0.6944),0),))))","v":8686}]
[null,null,null,"350-2000","350-1000","600-1000",null,null,null,"К","Колеса"]
[null,null,null,null,null,{"$f":"IF(F47=870,850,F47)","v":850},"ОБ",null,"СВ",null,"Сварная конструкция"]
[null,null,null,null,null,null,"ОБ2Б","П","угловой стол(два борта сзади и справа)"]
[null,null,"СРПШ","с бортом",null,null,"ОБ2Б","Л","угловой стол(два борта сзади и слева)"]
[null,null,"СРЦШ","без борта",null,null,"ОБ3Б",null,"Стол с тремя бортами"]
[]
[null,"Стол с бортом с нижней обвязкой (СРПН Э1; ОБ)"]
[]
[null,"Изображение","Артикул",null,null,"Модель","Характеристика номенклатуры",null,null,null,"Базовая цена,","Ваша цена,","Техническое описание",null,"Базовая цена,"]
[null,null,null,null,null,null,null,null,null,null,"руб","руб",null,null,"руб"]
[null,null,"СРПНЭ1_60608587_ОБ",null,null,"СРПНЭ1","L=600, S=600, H=850-870, ОБ",null,null,null,{"$f":"ROUND(O59*(1+'Повышение цен'!$C$10),0)","v":11957},{"$f":"ROUND(IF($D$4=\"С НДС\",K59*(1-$D$3),K59*(1-$D$3)/1.2),0)","v":11957},"н/ст, толщина столешницы - 0,8 мм, разборная конструкция, обвязка, каркас - труба 40*40*1,2 мм, Hстолешницы -40 мм, Hборта - 40 мм, столешница усилена ЛДСП толщиной 16 мм, регулируемые ножки(+/-20мм), отступ от края 100 мм",null,9933]
[null,null,"СРПНЭ1_80608587_ОБ",null,null,"СРПНЭ1","L=800, S=600, H=850-870, ОБ",null,null,null,{"$f":"ROUND(O60*(1+'Повышение цен'!$C$10),0)","v":12856},12856,null,null,10680]
[null,null,"СРПНЭ1_100608587_ОБ",null,null,"СРПНЭ1","L=1000, S=600, H=850-870, ОБ",null,null,null,{"$f":"ROUND(O61*(1+'Повышение цен'!$C$10),0)","v":13757},13757,null,null,11428]
[null,null,"СРПНЭ1_120608587_ОБ",null,null,"СРПНЭ1","L=1200, S=600, H=850-870, ОБ",null,null,null,{"$f":"ROUND(O62*(1+'Повышение цен'!$C$10),0)","v":14654},14654,null,null,12173]
[null,null,"СРПНЭ1_150608587_ОБ",null,null,"СРПНЭ1","L=1500, S=600, H=850-870, ОБ",null,null,null,{"$f":"ROUND(O63*(1+'Повышение цен'!$C$10),0)","v":16004},16004,null,null,13295]
[null,null,"СРПНЭ1_180608587_ОБ",null,null,"СРПНЭ1","L=1800, S=600, H=850-870, ОБ",null,null,null,{"$f":"ROUND(O64*(1+'Повышение цен'!$C$10),0)","v":17350},17350,null,null,14413]
[]
[null,null,"СРПНЭ1_60708587_ОБ",null,null,"СРПНЭ1","L=600, S=700, H=850-870, ОБ",null,null,null,{"$f":"ROUND(O66*(1+'Повышение цен'!$C$10),0)","v":12504},{"$f":"ROUND(IF($D$4=\"С НДС\",K66*(1-$D$3),K66*(1-$D$3)/1.2),0)","v":12504},null,null,10387]
[null,null,"СРПНЭ1_80708587_ОБ",null,null,"СРПНЭ1","L=800, S=700, H=850-870, ОБ",null,null,null,{"$f":"ROUND(O67*(1+'Повышение цен'!$C$10),0)","v":13468},13468,null,null,11188]
[null,null,"СРПНЭ1_100708587_ОБ",null,null,"СРПНЭ1","L=1000, S=700, H=850-870, ОБ",null,null,null,{"$f":"ROUND(O68*(1+'Повышение цен'!$C$10),0)","v":14433},14433,null,null,11990]
[null,null,"СРПНЭ1_120708587_ОБ",null,null,"СРПНЭ1","L=1200, S=700, H=850-870, ОБ",null,null,null,{"$f":"ROUND(O69*(1+'Повышение цен'!$C$10),0)","v":15399},15399,null,null,12792]
[null,null,"СРПНЭ1_150708587_ОБ",null,null,"СРПНЭ1","L=1500, S=700, H=850-870, ОБ",null,null,null,{"$f":"ROUND(O70*(1+'Повышение цен'!$C$10),0)","v":16846},16846,null,null,13994]
[null,null,"СРПНЭ1_180708587_ОБ",null,null,"СРПНЭ1","L=1800, S=700, H=850-870, ОБ",null,null,null,{"$f":"ROUND(O71*(1+'Повышение цен'!$C$10),0)","v":18295},18295,null,null,15198]
[]
[]
[null,"Стол без борта с нижней обвязкой (СРЦН Э1; ОБ)"]
[]
[null,"Изображение","Артикул",null,null,"Модель","Характеристика номенклатуры",null,null,null,"Базовая цена,","Ваша цена,","Техническое описание",null,"Базовая цена,"]
[null,null,null,null,null,null,null,null,null,null,"руб","руб",null,null,"руб"]
[null,null,"СРЦНЭ1_60608587_ОБ",null,null,"СРЦНЭ1","L=600, S=600, H=850-870, ОБ",null,null,null,{"$f":"ROUND(O78*(1+'Повышение цен'!$C$10),0)","v":11406},{"$f":"ROUND(IF($D$4=\"С НДС\",K78*(1-$D$3),K78*(1-$D$3)/1.2),0)","v":11406},"н/ст, толщина столешницы - 0,8 мм, разборная конструкция, обвязка, каркас - труба 40*40*1,2 мм, Hстолешницы -40 мм, Hборта - 40 мм, столешница усилена ЛДСП толщиной 16 мм, регулируемые ножки(+/-20мм), ",null,9475]
[null,null,"СРЦНЭ1_80608587_ОБ",null,null,"СРЦНЭ1","L=800, S=600, H=850-870, ОБ",null,null,null,{"$f":"ROUND(O79*(1+'Повышение цен'!$C$10),0)","v":12239},12239,null,null,10167]
[null,null,"СРЦНЭ1_100608587_ОБ",null,null,"СРЦНЭ1","L=1000, S=600, H=850-870, ОБ",null,null,null,{"$f":"ROUND(O80*(1+'Повышение цен'!$C$10),0)","v":13072},13072,null,null,10859]
[null,null,"СРЦНЭ1_120608587_ОБ",null,null,"СРЦНЭ1","L=1200, S=600, H=850-870, ОБ",null,null,null,{"$f":"ROUND(O81*(1+'Повышение цен'!$C$10),0)","v":13905},13905,null,null,11551]
[null,null,"СРЦНЭ1_150608587_ОБ",null,null,"СРЦНЭ1","L=1500, S=600, H=850-870, ОБ",null,null,null,{"$f":"ROUND(O82*(1+'Повышение цен'!$C$10),0)","v":15156},15156,null,null,12590]
[null,null,"СРЦНЭ1_180608587_ОБ",null,null,"СРЦНЭ1","L=1800, S=600, H=850-870, ОБ",null,null,null,{"$f":"ROUND(O83*(1+'Повышение цен'!$C$10),0)","v":16406},16406,null,null,13629]
[]
[null,null,"СРЦНЭ1_60708587_ОБ",null,null,"СРЦНЭ1","L=600, S=700, H=850-870, ОБ",null,null,null,{"$f":"ROUND(O85*(1+'Повышение цен'!$C$10),0)","v":11920},{"$f":"ROUND(IF($D$4=\"С НДС\",K85*(1-$D$3),K85*(1-$D$3)/1.2),0)","v":11920},null,null,9902]
[null,null,"СРЦНЭ1_80708587_ОБ",null,null,"СРЦНЭ1","L=800, S=700, H=850-870, ОБ",null,null,null,{"$f":"ROUND(O86*(1+'Повышение цен'!$C$10),0)","v":12808},12808,null,null,10640]
[null,null,"СРЦНЭ1_100708587_ОБ",null,null,"СРЦНЭ1","L=1000, S=700, H=850-870, ОБ",null,null,null,{"$f":"ROUND(O87*(1+'Повышение цен'!$C$10),0)","v":13695},13695,null,null,11377]
[null,null,"СРЦНЭ1_120708587_ОБ",null,null,"СРЦНЭ1","L=1200, S=700, H=850-870, ОБ",null,null,null,{"$f":"ROUND(O88*(1+'Повышение цен'!$C$10),0)","v":14584},14584,null,null,12115]
[null,null,"СРЦНЭ1_150708587_ОБ",null,null,"СРЦНЭ1","L=1500, S=700, H=850-870, ОБ",null,null,null,{"$f":"ROUND(O89*(1+'Повышение цен'!$C$10),0)","v":15915},15915,null,null,13221]
[null,null,"СРЦНЭ1_180708587_ОБ",null,null,"СРЦНЭ1","L=1800, S=700, H=850-870, ОБ",null,null,null,{"$f":"ROUND(O90*(1+'Повышение цен'!$C$10),0)","v":17249},17249,null,null,14329]
[]
[null,null,"Формула расчета цены",null,null,null,null,null,null,null,null,null,"Техническое описание"]
[null,"Артикул",null,"Длина,","Глубина,","Высота","Доп.",null,"Каркас","Доп.","Базовая цена,","Ваша цена,","Нестандартной модели"]
[null,null,null,"мм","мм","мм","опция",null,"раз/св","колеса","руб","руб",{"$f":"CONCATENATE(\"н/ст, толщина столешницы - 0,8 мм,\",IF(I95=\"СВ\",\"сварная конструкция\",\"разборная конструкция\"),\", обвязка, каркас - труба 40*40*1,2 мм,\",IF(C95=\"СРПНЭ1\",\"стол с бортом Нборта-40мм, отступ от края 100 мм\",\"стол без борта\"),\" Hстолешницы -40 мм, столешница усилена ЛДСП толщиной 16 мм,\",IF(J95=\"К\",\", 4 колеса(2 с тормозом)\",\"регулируемые ножки(+/-20мм)\"),\", длина \", D95,\"мм\",\", глубина \",E95,\"мм\",\" ,высота \",F95,\"мм, \", \"Объем в упаковке \",IF(I95=\"\",ROUND(D95/1000*E95/1000*0.255,2), ROUND(D95/1000*E95/1000*(F95+150)/1000,2)),\" м3\")","v":"н/ст, толщина столешницы - 0,8 мм,разборная конструкция, обвязка, каркас - труба 40*40*1,2 мм,стол с бортом Нборта-40мм, отступ от края 100 мм Hстолешницы -40 мм, столешница усилена ЛДСП толщиной 16 мм,регулируемые ножки(+/-20мм), длина 1100мм, глубина 600мм ,высота 870мм, Объем в упаковке 0,17 м3"}]
[null,{"$f":"UPPER(CONCATENATE(C95,\"_\",D95/10,E95/10,IF(AND(F98=850,J95=\"\"),8587,F98/10),\"_\",G95,,I95,J95))","v":"СРПНЭ1_110608587_ОБ"},"СРПНЭ1",1100,600,870,"ОБ",null,null,null,{"$f":"ROUND((K96*IF(D96>1800,1.05,1)*IF(E96>700,1.05,1)*IF(F96>870,1.05,1)+IF(J95=\"К\",6000,0))*1.1*1.07*1.1*(1+'Повышение цен'!C10),0)","v":14204},{"$f":"ROUND(IF($D$4=\"С НДС\",K95*(1-$D$3),K95*(1-$D$3)/1.2),0)","v":14204}]
[null,null,null,{"$f":"IF(AND(D95>349,D95<2001),D95,\"не производим\")","v":1100},{"$f":"IF(AND(E95>349,E95<1001),E95,\"не производим\")","v":600},{"$f":"IF(AND(F98>599,F98<1001),F98,\"не производим\")","v":850},null,null,null,null,{"$f":"IF(C95=\"СРПНЭ1\",IF(I95=\"\",ROUND((((D96*E96*Техно!I12*Техно!J8*0.00001*1.2*Техно!J12)+(((F96-50)*0.001*4+(D96-50)*0.001+(E96-50)*2*0.001)*Техно!J19)+(((D96-100)*80*0.00001*Техно!J8*Техно!I14*2)+((E96-100)*80*0.00001*Техно!J8*Техно!I14*2))*Техно!J14)*1.18+((D96*0.001+E96*0.001)*0.9*Техно!J20)+(Техно!J25*0.35)+((Техно!J26+Техно!J27)*2.5))*1.18/0.69*(0.85+0.6944),0),IF(I95=\"СВ\",ROUND((((D96*E96*Техно!I12*Техно!J8*0.00001*1.2*Техно!J12)+(((F96-50)*0.001*4+(D96-50)*0.001+(E96-50)*2*0.001)*Техно!J19)+(((D96-100)*80*0.00001*Техно!J8*Техно!I14*2)+((E96-100)*80*0.00001*Техно!J8*Техно!I14*2))*Техно!J14+((D96*E96*Техно!I16*Техно!J8*0.00001)*Техно!J16))*1.18+((D96*0.001+E96*0.001)*0.9*Техно!J20)+(Техно!J25*(0.35+0.05))+((Техно!J26+Техно!J27)*(2.5+0.2)))*1.18/0.69*(0.85+0.6944),0))),IF(C95=\"СРЦНЭ1\",IF(I95=\"\",ROUND((((D96*E96*Техно!I12*Техно!J8*0.00001*1*Техно!J12)+(((F96-50)*0.001*4+(D96-50)*0.001+(E96-50)*2*0.001)*Техно!J19)+(((D96-100)*80*0.00001*Техно!J8*Техно!I14*2)+((E96-100)*80*0.00001*Техно!J8*Техно!I14*2))*Техно!J14)*1.18+((D96*0.001+E96*0.001)*0.9*Техно!J20)+(Техно!J25*0.35)+((Техно!J26+Техно!J27)*2.2))*1.18/0.69*(0.85+0.6944),0),IF(I95=\"СВ\",ROUND((((D96*E96*Техно!I12*Техно!J8*0.00001*1*Техно!J12)+(((F96-50)*0.001*4+(D96-50)*0.001+(E96-50)*2*0.001)*Техно!J19)+(((D96-100)*80*0.00001*Техно!J8*Техно!I14*2)+((E96-100)*80*0.00001*Техно!J8*Техно!I14*2))*Техно!J14+((D96*E96*Техно!I16*Техно!J8*0.00001)*Техно!J16))*1.18+((D96*0.001+E96*0.001)*0.9*Техно!J20)+(Техно!J25*(0.35+0.05))+((Техно!J26+Техно!J27)*(2.2+0.2)))*1.18/0.69*(0.85+0.6944),0)))))","v":9114}]
[null,null,null,"350-2000","350-1000","600-1000","ОБ",null,null,"К","Колеса"]
[null,null,null,null,null,{"$f":"IF(F95=870,850,F95)","v":850},null,null,"СВ",null,"Сварная конструкция"]
[null,null,"СРПНЭ1","с бортом"]
[null,null,"СРЦНЭ1","без борта"]
[]
[null,"Стол с бортом с нижней обвязкой (СРПН Э; ОБ)"]
[]
[null,"Изображение","Артикул",null,null,"Модель","Характеристика номенклатуры",null,null,null,"Базовая цена,","Ваша цена,","Техническое описание",null,"Базовая цена,"]
[null,null,null,null,null,null,null,null,null,null,"руб","руб",null,null,"руб"]
[null,null,"СРПНЭ_60608587_ОБ",null,null,"СРПНЭ","L=600, S=600, H=850-870, ОБ",null,null,null,{"$f":"ROUND(O106*(1+'Повышение цен'!$C$10),0)","v":7136},{"$f":"ROUND(IF($D$4=\"С НДС\",K106*(1-$D$3),K106*(1-$D$3)/1.22),0)","v":7136},"н/ст, толщина столешницы - 0,8 мм, разборная конструкция, обвязка с четырех сторон, каркас - нерж. уголок 40*40*1,5 мм, Hстолешницы -40 мм, Hборта - 40 мм, столешница усилена ЛДСП толщиной 16 мм, регулируемые ножки(+/-20мм), отступ от края 100 мм",null,5928]
[null,null,"СРПНЭ_80608587_ОБ",null,null,"СРПНЭ","L=800, S=600, H=850-870, ОБ",null,null,null,{"$f":"ROUND(O107*(1+'Повышение цен'!$C$10),0)","v":7962},{"$f":"ROUND(IF($D$4=\"С НДС\",K107*(1-$D$3),K107*(1-$D$3)/1.22),0)","v":7962},null,null,6614]
[null,null,"СРПНЭ_100608587_ОБ",null,null,"СРПНЭ","L=1000, S=600, H=850-870, ОБ",null,null,null,{"$f":"ROUND(O108*(1+'Повышение цен'!$C$10),0)","v":8786},8786,null,null,7299]
[null,null,"СРПНЭ_120608587_ОБ",null,null,"СРПНЭ","L=1200, S=600, H=850-870, ОБ",null,null,null,{"$f":"ROUND(O109*(1+'Повышение цен'!$C$10),0)","v":9611},9611,null,null,7984]
[null,null,"СРПНЭ_150608587_ОБ",null,null,"СРПНЭ","L=1500, S=600, H=850-870, ОБ",null,null,null,{"$f":"ROUND(O110*(1+'Повышение цен'!$C$10),0)","v":10851},10851,null,null,9014]
[]
[null,null,"СРПНЭ_60708587_ОБ",null,null,"СРПНЭ","L=600, S=700, H=850-870, ОБ",null,null,null,{"$f":"ROUND(O112*(1+'Повышение цен'!$C$10),0)","v":7538},{"$f":"ROUND(IF($D$4=\"С НДС\",K112*(1-$D$3),K112*(1-$D$3)/1.22),0)","v":7538},null,null,6262]
[null,null,"СРПНЭ_80708587_ОБ",null,null,"СРПНЭ","L=800, S=700, H=850-870, ОБ",null,null,null,{"$f":"ROUND(O113*(1+'Повышение цен'!$C$10),0)","v":8441},8441,null,null,7012]
[null,null,"СРПНЭ_100708587_ОБ",null,null,"СРПНЭ","L=1000, S=700, H=850-870, ОБ",null,null,null,{"$f":"ROUND(O114*(1+'Повышение цен'!$C$10),0)","v":9340},9340,null,null,7759]
[null,null,"СРПНЭ_120708587_ОБ",null,null,"СРПНЭ","L=1200, S=700, H=850-870, ОБ",null,null,null,{"$f":"ROUND(O115*(1+'Повышение цен'!$C$10),0)","v":10244},10244,null,null,8510]
[null,null,"СРПНЭ_150708587_ОБ",null,null,"СРПНЭ","L=1500, S=700, H=850-870, ОБ",null,null,null,{"$f":"ROUND(O116*(1+'Повышение цен'!$C$10),0)","v":11597},11597,null,null,9634]
[]
[null,"Стол без борта с нижней обвязкой (СРЦН Э; ОБ)"]
[]
[null,"Изображение","Артикул",null,null,"Модель","Характеристика номенклатуры",null,null,null,"Базовая цена,","Ваша цена,","Техническое описание",null,"Базовая цена,"]
[null,null,null,null,null,null,null,null,null,null,"руб","руб",null,null,"руб"]
[null,null,"СРЦНЭ_60608587_ОБ",null,null,"СРЦНЭ","L=600, S=600, H=850-870, ОБ",null,null,null,{"$f":"ROUND(O122*(1+'Повышение цен'!$C$10),0)","v":6971},{"$f":"ROUND(IF($D$4=\"С НДС\",K122*(1-$D$3),K122*(1-$D$3)/1.22),0)","v":6971},"н/ст, толщина столешницы - 0,8 мм, разборная конструкция, обвязка с четырех сторон, каркас - нерж. уголок 40*40*1,5 мм, Hстолешницы -40 мм, без борта, столешница усилена ЛДСП толщиной 16 мм, регулируемые ножки(+/-20мм), ",null,5791]
[null,null,"СРЦНЭ_80608587_ОБ",null,null,"СРЦНЭ","L=800, S=600, H=850-870, ОБ",null,null,null,{"$f":"ROUND(O123*(1+'Повышение цен'!$C$10),0)","v":7743},7743,null,null,6432]
[null,null,"СРЦНЭ_100608587_ОБ",null,null,"СРЦНЭ","L=1000, S=600, H=850-870, ОБ",null,null,null,{"$f":"ROUND(O124*(1+'Повышение цен'!$C$10),0)","v":8511},8511,null,null,7070]
[null,null,"СРЦНЭ_120608587_ОБ",null,null,"СРЦНЭ","L=1200, S=600, H=850-870, ОБ",null,null,null,{"$f":"ROUND(O125*(1+'Повышение цен'!$C$10),0)","v":9284},9284,null,null,7712]
[null,null,"СРЦНЭ_150608587_ОБ",null,null,"СРЦНЭ","L=1500, S=600, H=850-870, ОБ",null,null,null,{"$f":"ROUND(O126*(1+'Повышение цен'!$C$10),0)","v":10438},10438,null,null,8671]
[]
[null,null,"СРЦНЭ_60708587_ОБ",null,null,"СРЦНЭ","L=600, S=700, H=850-870, ОБ",null,null,null,{"$f":"ROUND(O128*(1+'Повышение цен'!$C$10),0)","v":7345},{"$f":"ROUND(IF($D$4=\"С НДС\",K128*(1-$D$3),K128*(1-$D$3)/1.22),0)","v":7345},null,null,6102]
[null,null,"СРЦНЭ_80708587_ОБ",null,null,"СРЦНЭ","L=800, S=700, H=850-870, ОБ",null,null,null,{"$f":"ROUND(O129*(1+'Повышение цен'!$C$10),0)","v":8184},8184,null,null,6799]
[null,null,"СРЦНЭ_100708587_ОБ",null,null,"СРЦНЭ","L=1000, S=700, H=850-870, ОБ",null,null,null,{"$f":"ROUND(O130*(1+'Повышение цен'!$C$10),0)","v":9022},9022,null,null,7495]
[null,null,"СРЦНЭ_120708587_ОБ",null,null,"СРЦНЭ","L=1200, S=700, H=850-870, ОБ",null,null,null,{"$f":"ROUND(O131*(1+'Повышение цен'!$C$10),0)","v":9859},9859,null,null,8190]
[null,null,"СРЦНЭ_150708587_ОБ",null,null,"СРЦНЭ","L=1500, S=700, H=850-870, ОБ",null,null,null,{"$f":"ROUND(O132*(1+'Повышение цен'!$C$10),0)","v":11114},11114,null,null,9233]
[]
[null,null,"Формула расчета цены",null,null,null,null,null,null,null,null,null,"Техническое описание"]
[null,"Артикул",null,"Длина,","Глубина,","Высота","Доп.","Доп.",null,"Доп.","Базовая цена,","Ваша цена,","Нестандартной модели"]
[null,null,null,"мм","мм","мм","опция","опция",null,"колеса","руб","руб",{"$f":"CONCATENATE(\"н/ст, толщина столешницы - 0,8 мм\",\", обвязка, каркас - нерж уголок 40*40*1,5 мм,\",IF(C137=\"СРПНЭ\",\" стол с бортом Нборта-40мм, отступ от края 100 мм\",\"стол без борта\"),\" Hстолешницы -40 мм, столешница усилена ЛДСП толщиной 16 мм,\",IF(J137=\"К\",\" 4 колеса (2 с тормозом)\",\"регулируемые ножки(+/-20мм)\"),\", длина \", D137,\"мм\",\", глубина \",E137,\"мм\",\" ,высота \",F137,\"мм, \", \"Объем в упаковке \",IF(J137=\"\",ROUND(D137/1000*E137/1000*0.255,2), ROUND(D137/1000*E137/1000*(F137+150)/1000,2)),\" м3\")","v":"н/ст, толщина столешницы - 0,8 мм, обвязка, каркас - нерж уголок 40*40*1,5 мм, стол с бортом Нборта-40мм, отступ от края 100 мм Hстолешницы -40 мм, столешница усилена ЛДСП толщиной 16 мм,регулируемые ножки(+/-20мм), длина 900мм, глубина 600мм ,высота 850мм, Объем в упаковке 0,14 м3"}]
[null,{"$f":"UPPER(CONCATENATE(C137,\"_\",D137/10,E137/10,IF(AND(F140=870,J137=\"\"),8587,F137/10),\"_\",G137,J137))","v":"СРПНЭ_90608587_ОБ"},"СРПНЭ",900,600,850,"ОБ",null,null,null,{"$f":"ROUND((K138*IF(D138>1500,1.05,1)*IF(E138>700,1.05,1)*IF(F138>870,1.05,1)+IF(J137=\"К\",6000,0))*1.1*1.07*1.15*(1+'Повышение цен'!C10),0)","v":8375},{"$f":"ROUND(IF($D$4=\"С НДС\",K137*(1-$D$3),K137*(1-$D$3)/1.22),0)","v":8375}]
[null,null,null,{"$f":"IF(AND(D137>349,D137<2001),D137,\"не производим\")","v":900},{"$f":"IF(AND(E137>349,E137<801),E137,\"не производим\")","v":600},{"$f":"IF(AND(F140>599,F140<1001),F140,\"не производим\")","v":870},null,null,null,null,{"$f":"IF(C137=\"СРПНЭ\",ROUND((((D138*E138*Техно!I12*Техно!J8*0.00001*1.25*Техно!J12)+((E138-50)*80*0.00001*Техно!J8*Техно!I17*Техно!J17*D138/E138)+(((D138-100)*80*0.00001*Техно!J8*Техно!I14*2)+((E138-100)*80*0.00001*Техно!J8*Техно!I14*2)+((F138-50)*80*0.00001*Техно!J8*Техно!I14*2))*Техно!J14)*1.18+((D138*0.001+E138*0.001)*0.9*Техно!J20)+(Техно!J25*0.15)+((Техно!J26+Техно!J27)*1.8))*1.18/0.65*(0.85+0.6944),0),IF(C137=\"СРЦНЭ\",ROUND((((D138*E138*Техно!I12*Техно!J8*0.00001*1.1*Техно!J12)+((E138-50)*80*0.00001*Техно!J8*Техно!I17*Техно!J17*D138/E138)+(((D138-100)*80*0.00001*Техно!J8*Техно!I14*2)+((E138-100)*80*0.00001*Техно!J8*Техно!I14*2)+((F138-50)*80*0.00001*Техно!J8*Техно!I14*2))*Техно!J14)*1.18+((D138*0.001+E138*0.001)*0.9*Техно!J20)+(Техно!J25*0.15)+((Техно!J26+Техно!J27)*1.8))*1.18/0.65*(0.85+0.6944),0)))","v":5140}]
[null,null,null,"350-2000","350-800","600-1000","ОБ",null,null,"К","Колеса"]
[null,null,null,null,null,{"$f":"IF(F137=850,870,F137)","v":870}]
[null,null,"СРПНЭ","с бортом"]
[null,null,"СРЦНЭ","без борта"]
[]
[]
[null,"Стол с бортом с нижней обвязкой (СРПЦ Э; ОБ)"]
[]
[null,"Изображение","Артикул",null,null,"Модель","Характеристика номенклатуры",null,null,null,"Базовая цена,","Ваша цена,","Техническое описание",null,"Базовая цена,"]
[null,null,null,null,null,null,null,null,null,null,"руб","руб",null,null,"руб"]
[null,null,"СРПЦЭ_60608587_ОБ",null,null,"СРПЦЭ","L=600, S=600, H=850-870, ОБ",null,null,null,{"$f":"ROUND(O149*(1+'Повышение цен'!$C$10),0)","v":5882},{"$f":"ROUND(IF($D$4=\"С НДС\",K149*(1-$D$3),K149*(1-$D$3)/1.22),0)","v":5882},"н/ст, толщина столешницы - 0,8 мм, разборная конструкция, обвязка с четырех сторон, каркас - оцин. уголок 40*40*1,5 мм, Hстолешницы -40 мм, Hборта - 40 мм, столешница усилена ЛДСП толщиной 16 мм, регулируемые ножки(+/-20мм), отступ от края 100 мм",null,4886]
[null,null,"СРПЦЭ_80608587_ОБ",null,null,"СРПЦЭ","L=800, S=600, H=850-870, ОБ",null,null,null,{"$f":"ROUND(O150*(1+'Повышение цен'!$C$10),0)","v":6565},6565,null,null,5454]
[null,null,"СРПЦЭ_100608587_ОБ",null,null,"СРПЦЭ","L=1000, S=600, H=850-870, ОБ",null,null,null,{"$f":"ROUND(O151*(1+'Повышение цен'!$C$10),0)","v":7252},7252,null,null,6024]
[null,null,"СРПЦЭ_120608587_ОБ",null,null,"СРПЦЭ","L=1200, S=600, H=850-870, ОБ",null,null,null,{"$f":"ROUND(O152*(1+'Повышение цен'!$C$10),0)","v":7935},7935,null,null,6592]
[null,null,"СРПЦЭ_150608587_ОБ",null,null,"СРПЦЭ","L=1500, S=600, H=850-870, ОБ",null,null,null,{"$f":"ROUND(O153*(1+'Повышение цен'!$C$10),0)","v":8962},8962,null,null,7445]
[]
[null,null,"СРПЦЭ_60708587_ОБ",null,null,"СРПЦЭ","L=600, S=700, H=850-870, ОБ",null,null,null,{"$f":"ROUND(O155*(1+'Повышение цен'!$C$10),0)","v":6213},{"$f":"ROUND(IF($D$4=\"С НДС\",K155*(1-$D$3),K155*(1-$D$3)/1.22),0)","v":6213},null,null,5161]
[null,null,"СРПЦЭ_80708587_ОБ",null,null,"СРПЦЭ","L=800, S=700, H=850-870, ОБ",null,null,null,{"$f":"ROUND(O156*(1+'Повышение цен'!$C$10),0)","v":6969},6969,null,null,5789]
[null,null,"СРПЦЭ_100708587_ОБ",null,null,"СРПЦЭ","L=1000, S=700, H=850-870, ОБ",null,null,null,{"$f":"ROUND(O157*(1+'Повышение цен'!$C$10),0)","v":7725},7725,null,null,6417]
[null,null,"СРПЦЭ_120708587_ОБ",null,null,"СРПЦЭ","L=1200, S=700, H=850-870, ОБ",null,null,null,{"$f":"ROUND(O158*(1+'Повышение цен'!$C$10),0)","v":8479},8479,null,null,7044]
[null,null,"СРПЦЭ_150708587_ОБ",null,null,"СРПЦЭ","L=1500, S=700, H=850-870, ОБ",null,null,null,{"$f":"ROUND(O159*(1+'Повышение цен'!$C$10),0)","v":9613},9613,null,null,7986]
[]
[null,"Стол без борта с нижней обвязкой (СРЦЦ Э; ОБ)"]
[]
[null,"Изображение","Артикул",null,null,"Модель","Характеристика номенклатуры",null,null,null,"Базовая цена,","Ваша цена,","Техническое описание",null,"Базовая цена,"]
[null,null,null,null,null,null,null,null,null,null,"руб","руб",null,null,"руб"]
[null,null,"СРЦЦЭ_60608587_ОБ",null,null,"СРЦЦЭ","L=600, S=600, H=850-870, ОБ",null,null,null,{"$f":"ROUND(O165*(1+'Повышение цен'!$C$10),0)","v":5730},{"$f":"ROUND(IF($D$4=\"С НДС\",K165*(1-$D$3),K165*(1-$D$3)/1.22),0)","v":5730},"н/ст, толщина столешницы - 0,8 мм, разборная конструкция, обвязка с четырех сторон, каркас - оцин. уголок 40*40*1,5 мм, Hстолешницы -40 мм, без борта, столешница усилена ЛДСП толщиной 16 мм, регулируемые ножки(+/-20мм), ",null,4760]
[null,null,"СРЦЦЭ_80608587_ОБ",null,null,"СРЦЦЭ","L=800, S=600, H=850-870, ОБ",null,null,null,{"$f":"ROUND(O166*(1+'Повышение цен'!$C$10),0)","v":6364},6364,null,null,5287]
[null,null,"СРЦЦЭ_100608587_ОБ",null,null,"СРЦЦЭ","L=1000, S=600, H=850-870, ОБ",null,null,null,{"$f":"ROUND(O167*(1+'Повышение цен'!$C$10),0)","v":6996},6996,null,null,5812]
[null,null,"СРЦЦЭ_120608587_ОБ",null,null,"СРЦЦЭ","L=1200, S=600, H=850-870, ОБ",null,null,null,{"$f":"ROUND(O168*(1+'Повышение цен'!$C$10),0)","v":7630},7630,null,null,6338]
[null,null,"СРЦЦЭ_150608587_ОБ",null,null,"СРЦЦЭ","L=1500, S=600, H=850-870, ОБ",null,null,null,{"$f":"ROUND(O169*(1+'Повышение цен'!$C$10),0)","v":8579},8579,null,null,7127]
[]
[null,null,"СРЦЦЭ_60708587_ОБ",null,null,"СРЦЦЭ","L=600, S=700, H=850-870, ОБ",null,null,null,{"$f":"ROUND(O171*(1+'Повышение цен'!$C$10),0)","v":6035},{"$f":"ROUND(IF($D$4=\"С НДС\",K171*(1-$D$3),K171*(1-$D$3)/1.22),0)","v":6035},null,null,5013]
[null,null,"СРЦЦЭ_80708587_ОБ",null,null,"СРЦЦЭ","L=800, S=700, H=850-870, ОБ",null,null,null,{"$f":"ROUND(O172*(1+'Повышение цен'!$C$10),0)","v":6730},6730,null,null,5591]
[null,null,"СРЦЦЭ_100708587_ОБ",null,null,"СРЦЦЭ","L=1000, S=700, H=850-870, ОБ",null,null,null,{"$f":"ROUND(O173*(1+'Повышение цен'!$C$10),0)","v":7427},7427,null,null,6170]
[null,null,"СРЦЦЭ_120708587_ОБ",null,null,"СРЦЦЭ","L=1200, S=700, H=850-870, ОБ",null,null,null,{"$f":"ROUND(O174*(1+'Повышение цен'!$C$10),0)","v":8123},8123,null,null,6748]
[null,null,"СРЦЦЭ_150708587_ОБ",null,null,"СРЦЦЭ","L=1500, S=700, H=850-870, ОБ",null,null,null,{"$f":"ROUND(O175*(1+'Повышение цен'!$C$10),0)","v":9167},9167,null,null,7615]
[]
[null,null,"Формула расчета цены",null,null,null,null,null,null,null,null,null,"Техническое описание"]
[null,"Артикул",null,"Длина,","Глубина,","Высота","Доп.","Доп.",null,"Доп.","Базовая цена,","Ваша цена,","Нестандартной модели"]
[null,null,null,"мм","мм","мм","опция","опция",null,"колеса","руб","руб",{"$f":"CONCATENATE(\"н/ст, толщина столешницы - 0,8 мм\",\", обвязка, каркас - оцин. уголок 40*40*1,5 мм,\",IF(C180=\"СРПЦЭ\",\"стол с бортом Нборта-40мм, отступ от края 100 мм\",\"стол без борта\"),\" Hстолешницы -40 мм, столешница усилена ЛДСП толщиной 16 мм,\",IF(J180=\"К\",\", 4 колеса(2 с тормозом)\",\"регулируемые ножки(+/-20мм)\"),\", длина \", D180,\"мм\",\", глубина \",E180,\"мм\",\" ,высота \",F180,\"мм, \", \"Объем в упаковке \",IF(I180=\"\",ROUND(D180/1000*E180/1000*0.255,2), ROUND(D180/1000*E180/1000*(F180+150)/1000,2)),\" м3\")","v":"н/ст, толщина столешницы - 0,8 мм, обвязка, каркас - оцин. уголок 40*40*1,5 мм,стол с бортом Нборта-40мм, отступ от края 100 мм Hстолешницы -40 мм, столешница усилена ЛДСП толщиной 16 мм,регулируемые ножки(+/-20мм), длина 1100мм, глубина 700мм ,высота 870мм, Объем в упаковке 0,2 м3"}]
[null,{"$f":"UPPER(CONCATENATE(C180,\"_\",D180/10,E180/10,IF(AND(F183=870,J180=\"\"),8587,F183/10),\"_\",G180,J180))","v":"СРПЦЭ_110708587_ОБ"},"СРПЦЭ",1100,700,870,"ОБ",null,null,null,{"$f":"ROUND((K181*IF(D181>1500,1.05,1)*IF(E181>700,1.05,1)*IF(F181>870,1.05,1)+IF(J180=\"К\",6000,0))*1.1*1.07*1.15*(1+'Повышение цен'!C10),0)","v":8103},{"$f":"ROUND(IF($D$4=\"С НДС\",K180*(1-$D$3),K180*(1-$D$3)/1.22),0)","v":8103}]
[null,null,null,{"$f":"IF(AND(D180>349,D180<2001),D180,\"не производим\")","v":1100},{"$f":"IF(AND(E180>349,E180<801),E180,\"не производим\")","v":700},{"$f":"IF(AND(F183>599,F183<1001),F183,\"не производим\")","v":870},null,null,null,null,{"$f":"IF(C180=\"СРПЦЭ\",ROUND((((D181*E181*Техно!I12*Техно!J8*0.00001*1.25*Техно!J12)+((E181-50)*80*0.00001*Техно!J8*Техно!I17*Техно!J17*D181/E181)+(((D181-100)*80*0.00001*Техно!J8*Техно!I15*2)+((E181-100)*80*0.00001*Техно!J8*Техно!I15*2)+((F181-50)*80*0.00001*Техно!J8*Техно!I15*2))*Техно!J15)*1.18+((D181*0.001+E181*0.001)*0.9*Техно!J20)+(Техно!J25*0.15)+((Техно!J26+Техно!J27)*1.8))*1.18/0.7*(0.85+0.6944),0),IF(C180=\"СРЦЦЭ\",ROUND((((D181*E181*Техно!I12*Техно!J8*0.00001*1.1*Техно!J12)+((E181-50)*80*0.00001*Техно!J8*Техно!I17*Техно!J17*D181/E181)+(((D181-100)*80*0.00001*Техно!J8*Техно!I15*2)+((E181-100)*80*0.00001*Техно!J8*Техно!I15*2)+((F181-50)*80*0.00001*Техно!J8*Техно!I15*2))*Техно!J15)*1.18+((D181*0.001+E181*0.001)*0.9*Техно!J20)+(Техно!J25*0.15)+((Техно!J26+Техно!J27)*1.8))*1.18/0.7*(0.85+0.6944),0)))","v":4973}]
[null,null,null,"350-2000","350-800","600-1000","ОБ",null,null,"К","Колеса"]
[null,null,null,null,null,{"$f":"IF(F180=850,870,F180)","v":870}]
[null,null,"СРПЦЭ","с бортом"]
[null,null,"СРЦЦЭ","без борта"]

{"sheet":"Столы РП","index":5,"n_rows":196,"n_cols":15,"rows_kept":196,"cut":false,"hidden":false,"merged":[[180,6,180,9],[192,10,192,11],[194,3,194,4],[195,3,195,4],[185,2,185,4],[185,6,185,9],[187,12,187,13],[188,7,188,8],[188,12,188,13],[189,7,189,8],[189,12,195,13],[190,7,190,8],[191,7,191,8],[192,7,192,8],[171,12,172,13],[173,1,185,1],[173,2,173,4],[173,6,173,9],[173,12,185,13],[174,2,174,4],[174,6,174,9],[175,2,175,4],[175,6,175,9],[176,2,176,4],[177,2,177,4],[177,6,177,9],[184,2,184,4],[184,6,184,9],[181,2,181,4],[181,6,181,9],[182,2,182,4],[182,6,182,9],[183,2,183,4],[183,6,183,9],[176,6,176,9],[178,2,178,4],[178,6,178,9],[180,2,180,4],[169,1,169,10],[171,1,172,1],[171,2,172,4],[171,5,172,5],[171,6,172,9],[162,2,162,4],[162,6,162,9],[163,2,163,4],[163,6,163,9],[164,2,164,4],[164,6,164,9],[157,6,157,9],[159,2,159,4],[159,6,159,9],[161,2,161,4],[161,6,161,9],[152,12,153,13],[154,1,166,1],[154,2,154,4],[154,6,154,9],[154,12,166,13],[155,2,155,4],[155,6,155,9],[156,2,156,4],[156,6,156,9],[157,2,157,4],[165,2,165,4],[165,6,165,9],[158,2,158,4],[158,6,158,9],[166,2,166,4],[166,6,166,9],[139,12,139,13],[140,7,140,8],[140,12,140,13],[141,7,141,8],[141,12,147,13],[142,7,142,8],[143,7,143,8],[144,7,144,8],[144,10,144,11],[132,6,132,9],[133,2,133,4],[133,6,133,9],[146,3,146,4],[147,3,147,4],[150,1,150,10],[152,1,153,1],[152,2,153,4],[152,5,153,5],[152,6,153,9],[123,12,124,13],[125,1,137,1],[125,2,125,4],[125,6,125,9],[125,12,137,13],[126,2,126,4],[126,6,126,9],[127,2,127,4],[127,6,127,9],[128,2,128,4],[129,2,129,4],[129,6,129,9],[136,2,136,4],[136,6,136,9],[134,2,134,4],[134,6,134,9],[135,2,135,4],[135,6,135,9],[137,2,137,4],[137,6,137,9],[128,6,128,9],[130,2,130,4],[130,6,130,9],[132,2,132,4],[121,1,121,10],[123,1,124,1],[123,2,124,4],[123,5,124,5],[123,6,124,9],[114,2,114,4],[114,6,114,9],[115,2,115,4],[115,6,115,9],[116,2,116,4],[116,6,116,9],[106,1,118,1],[106,2,106,4],[106,6,106,9],[106,12,118,13],[107,2,107,4],[107,6,107,9],[108,2,108,4],[108,6,108,9],[109,2,109,4],[118,2,118,4],[118,6,118,9],[109,6,109,9],[110,2,110,4],[110,6,110,9],[113,2,113,4],[113,6,113,9],[94,12,100,13],[97,10,97,11],[98,6,98,7],[98,10,98,11],[99,3,99,4],[99,6,99,7],[100,3,100,4],[102,1,102,10],[104,12,105,13],[104,1,105,1],[104,2,105,4],[104,5,105,5],[104,6,105,9],[92,2,92,11],[92,12,92,13],[86,2,86,4],[86,6,86,9],[87,2,87,4],[87,6,87,9],[88,2,88,4],[88,6,88,9],[93,12,93,13],[76,12,77,13],[78,2,78,4],[78,6,78,9],[78,12,90,13],[79,2,79,4],[79,6,79,9],[80,2,80,4],[80,6,80,9],[81,2,81,4],[81,6,81,9],[89,2,89,4],[89,6,89,9],[90,2,90,4],[90,6,90,9],[82,2,82,4],[82,6,82,9],[59,1,71,1],[59,2,59,4],[59,6,59,9],[83,2,83,4],[83,6,83,9],[85,2,85,4],[85,6,85,9],[64,6,64,9],[66,2,66,4],[66,6,66,9],[70,2,70,4],[70,6,70,9],[71,2,71,4],[71,6,71,9],[74,1,74,10],[76,1,77,1],[76,2,77,4],[76,5,77,5],[76,6,77,9],[57,12,58,13],[44,12,44,13],[45,2,46,2],[45,12,45,13],[46,12,53,13],[49,10,49,11],[50,10,50,11],[52,3,52,4],[59,12,71,13],[60,2,60,4],[60,6,60,9],[61,2,61,4],[61,6,61,9],[62,2,62,4],[67,2,67,4],[67,6,67,9],[68,2,68,4],[68,6,68,9],[69,2,69,4],[69,6,69,9],[62,6,62,9],[63,2,63,4],[63,6,63,9],[64,2,64,4],[51,8,51,11],[52,8,52,11],[53,3,53,4],[55,1,55,10],[57,1,58,1],[57,2,58,4],[57,5,58,5],[57,6,58,9],[42,2,42,4],[42,6,42,9],[44,2,44,11],[53,8,53,11],[28,12,29,13],[30,2,30,4],[30,6,30,9],[30,12,42,13],[31,2,31,4],[31,6,31,9],[35,2,35,4],[35,6,35,9],[37,2,37,4],[37,6,37,9],[38,2,38,4],[38,6,38,9],[32,2,32,4],[32,6,32,9],[33,2,33,4],[33,6,33,9],[34,2,34,4],[34,6,34,9],[39,2,39,4],[39,6,39,9],[40,2,40,4],[40,6,40,9],[41,2,41,4],[41,6,41,9],[11,12,23,13],[12,2,12,4],[12,6,12,9],[13,2,13,4],[13,6,13,9],[14,2,14,4],[14,6,14,9],[9,0,10,0],[9,1,10,1],[9,2,10,4],[9,5,10,5],[9,6,10,9],[9,12,10,13],[15,2,15,4],[15,6,15,9],[16,2,16,4],[16,6,16,9],[18,2,18,4],[18,6,18,9],[11,1,23,1],[11,2,11,4],[11,6,11,9],[22,2,22,4],[1,0,1,2],[2,0,2,2],[3,0,3,2],[6,1,6,10],[7,2,8,11],[117,2,117,4],[117,6,117,9],[111,2,111,4],[111,6,111,9],[22,6,22,9],[23,2,23,4],[23,6,23,9],[25,0,25,11],[26,1,26,10],[19,2,19,4],[19,6,19,9],[20,2,20,4],[20,6,20,9],[21,2,21,4],[21,6,21,9],[28,1,29,1],[28,2,29,4],[28,5,29,5],[28,6,29,9]]}
["Нейтральное оборудование/Столы с решетчатой полкой",null,null,null,null,null,null,null,null,null,null,null,null,"На главную"]
[]
["Ваша скидка:",null,null,{"$f":"Содержание!C2","v":0}]
["НДС:",null,null,{"$f":"IF(Лист2!A1=TRUE,\"С НДС\",\"БЕЗ НДС\")","v":"С НДС"}]
[]
[]
[null,"Стол с бортом с решетчатой полкой (СРП Ш; РП)"]
[]
[]
[null,"Изображение","Артикул",null,null,"Модель","Характеристика номенклатуры",null,null,null,"Базовая цена,","Ваша цена,","Техническое описание",null,"Базовая цена,"]
[null,null,null,null,null,null,null,null,null,null,"руб","руб",null,null,"руб"]
[null,null,"СРПШ_60608587_РП",null,null,"СРПШ","L=600, S=600, H=850-870, РП",null,null,null,{"$f":"ROUND(O12*(1+'Повышение цен'!$C$9),0)","v":13998},{"$f":"ROUND(IF($D$4=\"С НДС\",K12*(1-$D$3),K12*(1-$D$3)/1.2),0)","v":13998},"шлифованная н/ст, толщина столешницы - 1 мм, разборная конструкция, решетчатая полка, каркас - труба 40*40*1,2 мм, Hстолешницы -50 мм, Hборта - 40 мм, столешница усилена ЛДСП толщиной 16 мм, регулируемые ножки(+/-20мм), отступ от края 100 мм",null,11628]
[null,null,"СРПШ_80608587_РП",null,null,"СРПШ","L=800, S=600, H=850-870, РП",null,null,null,{"$f":"ROUND(O13*(1+'Повышение цен'!$C$9),0)","v":15784},15784,null,null,13112]
[null,null,"СРПШ_100608587_РП",null,null,"СРПШ","L=1000, S=600, H=850-870, РП",null,null,null,{"$f":"ROUND(O14*(1+'Повышение цен'!$C$9),0)","v":17820},17820,null,null,14803]
[null,null,"СРПШ_120608587_РП",null,null,"СРПШ","L=1200, S=600, H=850-870, РП",null,null,null,{"$f":"ROUND(O15*(1+'Повышение цен'!$C$9),0)","v":20105},20105,null,null,16702]
[null,null,"СРПШ_150608587_РП",null,null,"СРПШ","L=1500, S=600, H=850-870, РП",null,null,null,{"$f":"ROUND(O16*(1+'Повышение цен'!$C$9),0)","v":24006},24006,null,null,19942]
[null,null,"СРПШ_180608587_РП",null,null,"СРПШ","L=1800, S=600, H=850-870, РП",null,null,null,{"$f":"ROUND(O17*(1+'Повышение цен'!$C$9),0)","v":28472},28472,null,null,23652]
[]
[null,null,"СРПШ_60708587_РП",null,null,"СРПШ","L=600, S=700, H=850-870, РП",null,null,null,{"$f":"ROUND(O19*(1+'Повышение цен'!$C$9),0)","v":14666},14666,null,null,12183]
[null,null,"СРПШ_80708587_РП",null,null,"СРПШ","L=800, S=700, H=850-870, РП",null,null,null,{"$f":"ROUND(O20*(1+'Повышение цен'!$C$9),0)","v":16648},16648,null,null,13830]
[null,null,"СРПШ_100708587_РП",null,null,"СРПШ","L=1000, S=700, H=850-870, РП",null,null,null,{"$f":"ROUND(O21*(1+'Повышение цен'!$C$9),0)","v":18903},18903,null,null,15703]
[null,null,"СРПШ_120708587_РП",null,null,"СРПШ","L=1200, S=700, H=850-870, РП",null,null,null,{"$f":"ROUND(O22*(1+'Повышение цен'!$C$9),0)","v":21425},21425,null,null,17798]
[null,null,"СРПШ_150708587_РП",null,null,"СРПШ","L=1500, S=700, H=850-870, РП",null,null,null,{"$f":"ROUND(O23*(1+'Повышение цен'!$C$9),0)","v":25714},25714,null,null,21361]
[null,null,"СРПШ_180708587_РП",null,null,"СРПШ","L=1800, S=700, H=850-870, РП",null,null,null,{"$f":"ROUND(O24*(1+'Повышение цен'!$C$9),0)","v":30611},30611,null,null,25429]
[]
[]
[null,"Стол без борта с решетчатой полкой (СРЦ Ш; РП)"]
[]
[null,"Изображение","Артикул",null,null,"Модель","Характеристика номенклатуры",null,null,null,"Базовая цена,","Ваша цена,","Техническое описание",null,"Базовая цена,"]
[null,null,null,null,null,null,null,null,null,null,"руб","руб",null,null,"руб"]
[null,null,"СРЦШ_60608587_РП",null,null,"СРЦШ","L=600, S=600, H=850-870, РП",null,null,null,{"$f":"ROUND(O31*(1+'Повышение цен'!$C$9),0)","v":13363},{"$f":"ROUND(IF($D$4=\"С НДС\",K31*(1-$D$3),K31*(1-$D$3)/1.2),0)","v":13363},"шлифованная н/ст, толщина столешницы - 1 мм, разборная конструкция, решетчатая полка, каркас - труба 40*40*1,2 мм, Hстолешницы -50 мм, без борта, столешница усилена ЛДСП толщиной 16 мм, регулируемые ножки(+/-20мм)",null,11101]
[null,null,"СРЦШ_80608587_РП",null,null,"СРЦШ","L=800, S=600, H=850-870, РП",null,null,null,{"$f":"ROUND(O32*(1+'Повышение цен'!$C$9),0)","v":15139},15139,null,null,12576]
[null,null,"СРЦШ_100608587_РП",null,null,"СРЦШ","L=1000, S=600, H=850-870, РП",null,null,null,{"$f":"ROUND(O33*(1+'Повышение цен'!$C$9),0)","v":17165},17165,null,null,14259]
[null,null,"СРЦШ_120608587_РП",null,null,"СРЦШ","L=1200, S=600, H=850-870, РП",null,null,null,{"$f":"ROUND(O34*(1+'Повышение цен'!$C$9),0)","v":19442},19442,null,null,16151]
[null,null,"СРЦШ_150608587_РП",null,null,"СРЦШ","L=1500, S=600, H=850-870, РП",null,null,null,{"$f":"ROUND(O35*(1+'Повышение цен'!$C$9),0)","v":23330},23330,null,null,19381]
[null,null,"СРЦШ_180608587_РП",null,null,"СРЦШ","L=1800, S=600, H=850-870, РП",null,null,null,{"$f":"ROUND(O36*(1+'Повышение цен'!$C$9),0)","v":27781},27781,null,null,23078]
[]
[null,null,"СРЦШ_60708587_РП",null,null,"СРЦШ","L=600, S=700, H=850-870, РП",null,null,null,{"$f":"ROUND(O38*(1+'Повышение цен'!$C$9),0)","v":14025},{"$f":"ROUND(IF($D$4=\"С НДС\",K38*(1-$D$3),K38*(1-$D$3)/1.2),0)","v":14025},null,null,11651]
[null,null,"СРЦШ_80708587_РП",null,null,"СРЦШ","L=800, S=700, H=850-870, РП",null,null,null,{"$f":"ROUND(O39*(1+'Повышение цен'!$C$9),0)","v":15998},15998,null,null,13290]
[null,null,"СРЦШ_100708587_РП",null,null,"СРЦШ","L=1000, S=700, H=850-870, РП",null,null,null,{"$f":"ROUND(O40*(1+'Повышение цен'!$C$9),0)","v":18242},18242,null,null,15154]
[null,null,"СРЦШ_120708587_РП",null,null,"СРЦШ","L=1200, S=700, H=850-870, РП",null,null,null,{"$f":"ROUND(O41*(1+'Повышение цен'!$C$9),0)","v":20753},20753,null,null,17240]
[null,null,"СРЦШ_150708587_РП",null,null,"СРЦШ","L=1500, S=700, H=850-870, РП",null,null,null,{"$f":"ROUND(O42*(1+'Повышение цен'!$C$9),0)","v":25027},25027,null,null,20790]
[null,null,"СРЦШ_180708587_РП",null,null,"СРЦШ","L=1800, S=700, H=850-870, РП",null,null,null,{"$f":"ROUND(O43*(1+'Повышение цен'!$C$9),0)","v":29908},29908,null,null,24845]
[]
[null,null,"Формула расчета цены",null,null,null,null,null,null,null,null,null,"Техническое описание"]
[null,"Артикул","Модель","Длина,","Глубина,","Высота","Доп.","Доп.","Каркас","Доп.","Базовая цена,","Ваша цена,","Нестандартной модели"]
[null,null,null,"мм","мм","мм","опция","борт","раз/св","колеса","руб","руб",{"$f":"CONCATENATE(\"шлифованная н/ст, толщина столешницы - 1 мм,\",IF(I48=\"СВ\",\"сварная конструкция\",\"разборная конструкция\"),\", решетчатая полка, каркас - труба 40*40*1,2 мм,\",IF(C48=\"СРПШ\",\"стол с бортом Нборта-40мм, отступ от края 100 мм\",\"стол без борта\"),IF(AND(C48=\"СРПШ\",G48=\"ОБ2Б\"),\", стол угловой с двумя бортами\",\"\"),IF(AND(C48=\"СРПШ\",G48=\"ОБ3Б\"),\", стол с тремя бортами\",\"\"),IF(AND(G48=\"ОБ2Б\",H48=\"П\"),\", правый\",\"\"),IF(AND(G48=\"ОБ2Б\",H48=\"Л\"),\", левый\",\"\"),\" Hстолешницы -50 мм, столешница усилена ЛДСП толщиной 16 мм,\",IF(J48=\"К\",\", 4 колеса(2 с тормозом)\",\"регулируемые ножки(+/-20мм)\"),\", длина \", D48,\"мм\",\", глубина \",E48,\"мм\",\" ,высота \",F48,\"мм, \", \"Объем в упаковке \",IF(I48=\"\",ROUND(D48/1000*E48/1000*0.255,2), ROUND(D48/1000*E48/1000*(F48+150)/1000,2)),\" м3\")","v":"шлифованная н/ст, толщина столешницы - 1 мм,разборная конструкция, решетчатая полка, каркас - труба 40*40*1,2 мм,стол с бортом Нборта-40мм, отступ от края 100 мм Hстолешницы -50 мм, столешница усилена ЛДСП толщиной 16 мм,регулируемые ножки(+/-20мм), длина 1200мм, глубина 600мм ,высота 870мм, Объем в упаковке 0,18 м3"}]
[null,{"$f":"UPPER(CONCATENATE(C48,\"_\",D48/10,E48/10,IF(AND(J48=\"\",F51=850),8587,F51/10),\"_\",G48,H48,I48,J48))","v":"СРПШ_120608587_РП"},"СРПШ",1200,600,870,"РП",null,null,null,{"$f":"ROUND(((K49*IF(D49>1800,1.05,1)*IF(E49>700,1.05,1)*IF(F49>870,1.05,1)*IF(G48=\"РП3Б\",1.07,1)+IF(J48=\"К\",6000,0))*1.1),0)*1.05*1.07*1.1*(1+'Повышение цен'!$C$9)","v":20106.116504595826},{"$f":"ROUND(IF($D$4=\"С НДС\",K48*(1-$D$3),K48*(1-$D$3)/1.2),0)","v":20106}]
[null,null,null,{"$f":"IF(AND(D48>349,D48<2001),D48,\"не производим\")","v":1200},{"$f":"IF(AND(E48>399,E48<1001),E48,\"не производим\")","v":600},{"$f":"IF(AND(F51>599,F51<1001),F51,\"не производим\")","v":850},null,null,null,null,{"$f":"IF(C48=\"СРПШ\",IF(AND(I48=\"\",G48=\"РП\"),ROUND(((((D49*E49*Техно!M10*Техно!N8*0.00001*1.8)+(((E49-50)*150*0.00001*Техно!N8*Техно!M10*D49/600*D49/400)+(((D49-100)*150*0.00001*Техно!N8*Техно!M10*D49/600*2)+((E49-100)*150*0.00001*Техно!N8*Техно!M10*2))))*Техно!N10+(F49*4*0.001*Техно!N19))*1.18+((D49*0.001+E49*0.001)*0.9*Техно!N20)+(Техно!N25*0.35)+((Техно!N26+Техно!N27)*3.5))*1.18/0.7*(0.85+0.6944),0),IF(AND(I48=\"СВ\",G48=\"РП\"),ROUND(((((D49*E49*Техно!M10*Техно!N8*0.00001*1.8)+(((E49-50)*150*0.00001*Техно!N8*Техно!M10*D49/600*D49/400)+(((D49-100)*150*0.00001*Техно!N8*Техно!M10*D49/600*2)+((E49-100)*150*0.00001*Техно!N8*Техно!M10*2))))*Техно!N10+(F49*4*0.001*Техно!N19))*1.18+((D49*0.001+E49*0.001)*0.9*Техно!N20)+(Техно!N25*0.35)+((Техно!N26+Техно!N27)*3.5))*1.18/0.7*1.07*(0.85+0.6944),0),IF(AND(I48=\"\",OR(G48=\"РП2Б\",G48=\"РП3Б\")),ROUND(((((D49*E49*Техно!M10*Техно!N8*0.00001*1.8)+(((E49-50)*150*0.00001*Техно!N8*Техно!M10*D49/600*D49/400)+(((D49-100)*150*0.00001*Техно!N8*Техно!M10*D49/600*2)+((E49-100)*150*0.00001*Техно!N8*Техно!M10*2))))*Техно!N10+(F49*4*0.001*Техно!N19))*1.18+((D49*0.001+E49*0.001)*0.9*Техно!N20)+(Техно!N25*0.35)+((Техно!N26+Техно!N27)*3.5))*1.18/0.7*1.05*(0.85+0.6944),0),IF(AND(I48=\"СВ\",OR(G48=\"РП2Б\",G48=\"РП3Б\")),ROUND(((((D49*E49*Техно!M10*Техно!N8*0.00001*1.8)+(((E49-50)*150*0.00001*Техно!N8*Техно!M10*D49/600*D49/400)+(((D49-100)*150*0.00001*Техно!N8*Техно!M10*D49/600*2)+((E49-100)*150*0.00001*Техно!N8*Техно!M10*2))))*Техно!N10+(F49*4*0.001*Техно!N19))*1.18+((D49*0.001+E49*0.001)*0.9*Техно!N20)+(Техно!N25*0.35)+((Техно!N26+Техно!N27)*3.5))*1.18/0.7*1.11*(0.85+0.6944),0))))),IF(C48=\"СРЦШ\",IF(AND(I48=\"\",G48=\"РП\"),ROUND(((((D49*E49*Техно!K10*Техно!L8*0.00001*1.78)+(((E49-50)*150*0.00001*Техно!L8*Техно!K10*D49/600*D49/400)+(((D49-100)*150*0.00001*Техно!L8*Техно!K10*D49/600*2)+((E49-100)*150*0.00001*Техно!L8*Техно!K10*2))))*Техно!L10+(F49*4*0.001*Техно!L19))*1.18+((D49*0.001+E49*0.001)*0.9*Техно!L20)+(Техно!L25*0.35)+((Техно!L26+Техно!L27)*3))*1.18/0.7*(0.85+0.6944),0),IF(AND(I48=\"СВ\",G48=\"РП\"),ROUND(((((D49*E49*Техно!K10*Техно!L8*0.00001*1.78)+(((E49-50)*150*0.00001*Техно!L8*Техно!K10*D49/600*D49/400)+(((D49-100)*150*0.00001*Техно!L8*Техно!K10*D49/600*2)+((E49-100)*150*0.00001*Техно!L8*Техно!K10*2))))*Техно!L10+(F49*4*0.001*Техно!L19))*1.18+((D49*0.001+E49*0.001)*0.9*Техно!L20)+(Техно!L25*0.35)+((Техно!L26+Техно!L27)*3))*1.18/0.7*1.07*(0.85+0.6944),0),))))","v":12286}]
[null,null,null,"350-2000","400-1000","600-1000",null,null,null,"К","Колеса"]
[null,null,null,null,null,{"$f":"IF(F48=870,850,F48)","v":850},"РП",null,"СВ",null,"Сварная конструкция"]
[null,null,null,null,null,null,"РП2Б","П","угловой стол(два борта сзади и справа)"]
[null,null,"СРПШ","с бортом",null,null,"РП2Б","Л","угловой стол(два борта сзади и слева)"]
[null,null,"СРЦШ","без борта",null,null,"РП3Б",null,"Стол с тремя бортами"]
[]
[null,"Стол с бортом с решетчатой полкой (СРПН Э1; РП)"]
[]
[null,"Изображение","Артикул",null,null,"Модель","Характеристика номенклатуры",null,null,null,"Базовая цена,","Ваша цена,","Техническое описание",null,"Базовая цена,"]
[null,null,null,null,null,null,null,null,null,null,"руб","руб",null,null,"руб"]
[null,null,"СРПНЭ1_60608587_РП",null,null,"СРПНЭ1","L=600, S=600, H=850-870, РП",null,null,null,{"$f":"ROUND(O60*(1+'Повышение цен'!$C$10),0)","v":13120},{"$f":"ROUND(IF($D$4=\"С НДС\",K60*(1-$D$3),K60*(1-$D$3)/1.2),0)","v":13120},"н/ст, толщина столешницы - 0,8 мм, разборная конструкция, решетчатая полка, каркас - труба 40*40*1,2 мм, Hстолешницы -40 мм, Hборта - 40 мм, столешница усилена ЛДСП толщиной 16 мм, регулируемые ножки(+/-20мм), отступ от края 100 мм",null,10899]
[null,null,"СРПНЭ1_80608587_РП",null,null,"СРПНЭ1","L=800, S=600, H=850-870, РП",null,null,null,{"$f":"ROUND(O61*(1+'Повышение цен'!$C$10),0)","v":14485},14485,null,null,12033]
[null,null,"СРПНЭ1_100608587_РП",null,null,"СРПНЭ1","L=1000, S=600, H=850-870, РП",null,null,null,{"$f":"ROUND(O62*(1+'Повышение цен'!$C$10),0)","v":16033},16033,null,null,13319]
[null,null,"СРПНЭ1_120608587_РП",null,null,"СРПНЭ1","L=1200, S=600, H=850-870, РП",null,null,null,{"$f":"ROUND(O63*(1+'Повышение цен'!$C$10),0)","v":17764},17764,null,null,14757]
[null,null,"СРПНЭ1_150608587_РП",null,null,"СРПНЭ1","L=1500, S=600, H=850-870, РП",null,null,null,{"$f":"ROUND(O64*(1+'Повышение цен'!$C$10),0)","v":20701},20701,null,null,17197]
[null,null,"СРПНЭ1_180608587_РП",null,null,"СРПНЭ1","L=1800, S=600, H=850-870, РП",null,null,null,{"$f":"ROUND(O65*(1+'Повышение цен'!$C$10),0)","v":24051},24051,null,null,19980]
[]
[null,null,"СРПНЭ1_60708587_РП",null,null,"СРПНЭ1","L=600, S=700, H=850-870, РП",null,null,null,{"$f":"ROUND(O67*(1+'Повышение цен'!$C$10),0)","v":13638},{"$f":"ROUND(IF($D$4=\"С НДС\",K67*(1-$D$3),K67*(1-$D$3)/1.2),0)","v":13638},null,null,11329]
[null,null,"СРПНЭ1_80708587_РП",null,null,"СРПНЭ1","L=800, S=700, H=850-870, РП",null,null,null,{"$f":"ROUND(O68*(1+'Повышение цен'!$C$10),0)","v":15153},15153,null,null,12588]
[null,null,"СРПНЭ1_100708587_РП",null,null,"СРПНЭ1","L=1000, S=700, H=850-870, РП",null,null,null,{"$f":"ROUND(O69*(1+'Повышение цен'!$C$10),0)","v":16865},16865,null,null,14010]
[null,null,"СРПНЭ1_120708587_РП",null,null,"СРПНЭ1","L=1200, S=700, H=850-870, РП",null,null,null,{"$f":"ROUND(O70*(1+'Повышение цен'!$C$10),0)","v":18774},18774,null,null,15596]
[null,null,"СРПНЭ1_150708587_РП",null,null,"СРПНЭ1","L=1500, S=700, H=850-870, РП",null,null,null,{"$f":"ROUND(O71*(1+'Повышение цен'!$C$10),0)","v":22004},22004,null,null,18279]
[null,null,"СРПНЭ1_180708587_РП",null,null,"СРПНЭ1","L=1800, S=700, H=850-870, РП",null,null,null,{"$f":"ROUND(O72*(1+'Повышение цен'!$C$10),0)","v":25678},25678,null,null,21331]
[]
[]
[null,"Стол без борта с решетчатой полкой  (СРЦН Э1; РП)"]
[]
[null,"Изображение","Артикул",null,null,"Модель","Характеристика номенклатуры",null,null,null,"Базовая цена,","Ваша цена,","Техническое описание",null,"Базовая цена,"]
[null,null,null,null,null,null,null,null,null,null,"руб","руб",null,null,"руб"]
[null,null,"СРЦНЭ1_60608587_РП",null,null,"СРЦНЭ1","L=600, S=600, H=850-870, РП",null,null,null,{"$f":"ROUND(O79*(1+'Повышение цен'!$C$10),0)","v":12520},{"$f":"ROUND(IF($D$4=\"С НДС\",K79*(1-$D$3),K79*(1-$D$3)/1.2),0)","v":12520},"н/ст, толщина столешницы - 0,8 мм, разборная конструкция, решетчатая полка, каркас - труба 40*40*1,2 мм, Hстолешницы -40 мм, Hборта - 40 мм, столешница усилена ЛДСП толщиной 16 мм, регулируемые ножки(+/-20мм), ",null,10401]
[null,null,"СРЦНЭ1_80608587_РП",null,null,"СРЦНЭ1","L=800, S=600, H=850-870, РП",null,null,null,{"$f":"ROUND(O80*(1+'Повышение цен'!$C$10),0)","v":13880},13880,null,null,11530]
[null,null,"СРЦНЭ1_100608587_РП",null,null,"СРЦНЭ1","L=1000, S=600, H=850-870, РП",null,null,null,{"$f":"ROUND(O81*(1+'Повышение цен'!$C$10),0)","v":15420},15420,null,null,12810]
[null,null,"СРЦНЭ1_120608587_РП",null,null,"СРЦНЭ1","L=1200, S=600, H=850-870, РП",null,null,null,{"$f":"ROUND(O82*(1+'Повышение цен'!$C$10),0)","v":17144},17144,null,null,14242]
[null,null,"СРЦНЭ1_150608587_РП",null,null,"СРЦНЭ1","L=1500, S=600, H=850-870, РП",null,null,null,{"$f":"ROUND(O83*(1+'Повышение цен'!$C$10),0)","v":20074},20074,null,null,16676]
[null,null,"СРЦНЭ1_180608587_РП",null,null,"СРЦНЭ1","L=1800, S=600, H=850-870, РП",null,null,null,{"$f":"ROUND(O84*(1+'Повышение цен'!$C$10),0)","v":23413},23413,null,null,19450]
[]
[null,null,"СРЦНЭ1_60708587_РП",null,null,"СРЦНЭ1","L=600, S=700, H=850-870, РП",null,null,null,{"$f":"ROUND(O86*(1+'Повышение цен'!$C$10),0)","v":13035},{"$f":"ROUND(IF($D$4=\"С НДС\",K86*(1-$D$3),K86*(1-$D$3)/1.2),0)","v":13035},null,null,10828]
[null,null,"СРЦНЭ1_80708587_РП",null,null,"СРЦНЭ1","L=800, S=700, H=850-870, РП",null,null,null,{"$f":"ROUND(O87*(1+'Повышение цен'!$C$10),0)","v":14542},14542,null,null,12080]
[null,null,"СРЦНЭ1_100708587_РП",null,null,"СРЦНЭ1","L=1000, S=700, H=850-870, РП",null,null,null,{"$f":"ROUND(O88*(1+'Повышение цен'!$C$10),0)","v":16246},16246,null,null,13496]
[null,null,"СРЦНЭ1_120708587_РП",null,null,"СРЦНЭ1","L=1200, S=700, H=850-870, РП",null,null,null,{"$f":"ROUND(O89*(1+'Повышение цен'!$C$10),0)","v":18148},18148,null,null,15076]
[null,null,"СРЦНЭ1_150708587_РП",null,null,"СРЦНЭ1","L=1500, S=700, H=850-870, РП",null,null,null,{"$f":"ROUND(O90*(1+'Повышение цен'!$C$10),0)","v":21368},21368,null,null,17751]
[null,null,"СРЦНЭ1_180708587_РП",null,null,"СРЦНЭ1","L=1800, S=700, H=850-870, РП",null,null,null,{"$f":"ROUND(O91*(1+'Повышение цен'!$C$10),0)","v":25029},25029,null,null,20792]
[]
[null,null,"Формула расчета цены",null,null,null,null,null,null,null,null,null,"Техническое описание"]
[null,"Артикул",null,"Длина,","Глубина,","Высота","Доп.","Доп.","Каркас","Доп.","Базовая цена,","Ваша цена,","Нестандартной модели"]
[null,null,null,"мм","мм","мм","опция","опция","раз/св","колеса","руб","руб",{"$f":"CONCATENATE(\"н/ст, толщина столешницы - 0,8 мм,\",IF(I96=\"СВ\",\"сварная конструкция\",\"разборная конструкция\"),\", решетчатая полка, каркас - труба 40*40*1,2 мм,\",IF(C96=\"СРПНЭ1\",\"стол с бортом Нборта-40мм, отступ от края 100 мм\",\"стол без борта\"),\" Hстолешницы -40 мм, столешница усилена ЛДСП толщиной 16 мм,\",IF(J96=\"К\",\", 4 колеса(2 с тормозом)\",\"регулируемые ножки(+/-20мм)\"),\", длина \", D96,\"мм\",\", глубина \",E96,\"мм\",\" ,высота \",F96,\"мм, \", \"Объем \",IF(I96=\"\",ROUND(D96/1000*E96/1000*0.255,2), ROUND(D96/1000*E96/1000*(F96+150)/1000,2)),\" м3\")","v":"н/ст, толщина столешницы - 0,8 мм,разборная конструкция, решетчатая полка, каркас - труба 40*40*1,2 мм,стол с бортом Нборта-40мм, отступ от края 100 мм Hстолешницы -40 мм, столешница усилена ЛДСП толщиной 16 мм,регулируемые ножки(+/-20мм), длина 1000мм, глубина 500мм ,высота 850мм, Объем 0,13 м3"}]
[null,{"$f":"UPPER(CONCATENATE(C96,\"_\",D96/10,E96/10,IF(AND(F99=850,J96=\"\"),8587,F99/10),\"_\",G96,,I96,J96))","v":"СРПНЭ1_100508587_РП"},"СРПНЭ1",1000,500,850,"РП",null,null,null,{"$f":"ROUND((K97*IF(D97>1800,1.05,1)*IF(E97>700,1.05,1)*IF(F97>870,1.05,1)+IF(J96=\"К\",6000,0))*1.1*1.07*1.1*(1+'Повышение цен'!$C$10),0)","v":15200},{"$f":"ROUND(IF($D$4=\"С НДС\",K96*(1-$D$3),K96*(1-$D$3)/1.2),0)","v":15200}]
[null,null,null,{"$f":"IF(AND(D96>349,D96<2001),D96,\"не производим\")","v":1000},{"$f":"IF(AND(E96>399,E96<1001),E96,\"не производим\")","v":500},{"$f":"IF(AND(F99>599,F99<1001),F99,\"не производим\")","v":850},null,null,null,null,{"$f":"IF(C96=\"СРПНЭ1\",IF(I96=\"\",ROUND(((((D97*E97*Техно!K12*Техно!L8*0.00001*1.9)+(((E97-50)*150*0.00001*Техно!L8*Техно!K12*D97/600*D97/400)+(((D97-100)*150*0.00001*Техно!L8*Техно!K12*D97/600*2)+((E97-100)*150*0.00001*Техно!L8*Техно!K12*2))))*Техно!L12+(F97*4*0.001*Техно!L19))*1.18+((D97*0.001+E97*0.001)*0.9*Техно!L20)+(Техно!L25*0.35)+((Техно!L26+Техно!L27)*4))*1.18/0.7*(0.85+0.6944),0),IF(I96=\"СВ\",ROUND(((((D97*E97*Техно!K12*Техно!L8*0.00001*1.9)+(((E97-50)*150*0.00001*Техно!L8*Техно!K12*D97/600*D97/400)+(((D97-100)*150*0.00001*Техно!L8*Техно!K12*D97/600*2)+((E97-100)*150*0.00001*Техно!L8*Техно!K12*2))))*Техно!L12+(F97*4*0.001*Техно!L19))*1.18+((D97*0.001+E97*0.001)*0.9*Техно!L20)+(Техно!L25*0.35)+((Техно!L26+Техно!L27)*4))*1.18/0.7*1.07*(0.85+0.6944),0))),IF(C96=\"СРЦНЭ1\",IF(I96=\"\",ROUND(((((D97*E97*Техно!K12*Техно!L8*0.00001*1.88)+(((E97-50)*150*0.00001*Техно!L8*Техно!K12*D97/600*D97/400)+(((D97-100)*150*0.00001*Техно!L8*Техно!K12*D97/600*2)+((E97-100)*150*0.00001*Техно!L8*Техно!K12*2))))*Техно!L12+(F97*4*0.001*Техно!L19))*1.18+((D97*0.001+E97*0.001)*0.9*Техно!L20)+(Техно!L25*0.35)+((Техно!L26+Техно!L27)*3.5))*1.18/0.7*(0.85+0.6944),0),IF(I96=\"СВ\",ROUND(((((D97*E97*Техно!K12*Техно!L8*0.00001*1.88)+(((E97-50)*150*0.00001*Техно!L8*Техно!K12*D97/600*D97/400)+(((D97-100)*150*0.00001*Техно!L8*Техно!K12*D97/600*2)+((E97-100)*150*0.00001*Техно!L8*Техно!K12*2))))*Техно!L12+(F97*4*0.001*Техно!L19))*1.18+((D97*0.001+E97*0.001)*0.9*Техно!L20)+(Техно!L25*0.35)+((Техно!L26+Техно!L27)*3.5))*1.18/0.7*1.07*(0.85+0.6944),0)))))","v":9753}]
[null,null,null,"350-2000","400-1000","600-1000","РП",null,null,"К","Колеса"]
[null,null,null,null,null,{"$f":"IF(F96=870,850,F96)","v":850},null,null,"СВ",null,"Сварная конструкция"]
[null,null,"СРПНЭ1","с бортом"]
[null,null,"СРЦНЭ1","без борта"]
[]
[null,"Стол с бортом с решетчатой полкой (СРПН Э; РП)"]
[]
[null,"Изображение","Артикул",null,null,"Модель","Характеристика номенклатуры",null,null,null,"Базовая цена,","Ваша цена,","Техническое описание",null,"Базовая цена,"]
[null,null,null,null,null,null,null,null,null,null,"руб","руб",null,null,"руб"]
[null,null,"СРПНЭ_60608587_РП",null,null,"СРПНЭ","L=600, S=600, H=850-870, РП",null,null,null,{"$f":"ROUND(O107*(1+'Повышение цен'!$C$10),0)","v":7510},{"$f":"ROUND(IF($D$4=\"С НДС\",K107*(1-$D$3),K107*(1-$D$3)/1.22),0)","v":7510},"н/ст, толщина столешницы - 0,8 мм, разборная конструкция, решетчатая полка, каркас - нерж. уголок 40*40*1,5 мм, Hстолешницы -40 мм, Hборта - 40 мм, столешница усилена ЛДСП толщиной 16 мм, регулируемые ножки(+/-20мм), отступ от края 100 мм",null,6239]
[null,null,"СРПНЭ_80608587_РП",null,null,"СРПНЭ","L=800, S=600, H=850-870, РП",null,null,null,{"$f":"ROUND(O108*(1+'Повышение цен'!$C$10),0)","v":8328},{"$f":"ROUND(IF($D$4=\"С НДС\",K108*(1-$D$3),K108*(1-$D$3)/1.22),0)","v":8328},null,null,6918]
[null,null,"СРПНЭ_100608587_РП",null,null,"СРПНЭ","L=1000, S=600, H=850-870, РП",null,null,null,{"$f":"ROUND(O109*(1+'Повышение цен'!$C$10),0)","v":9144},9144,null,null,7596]
[null,null,"СРПНЭ_120608587_РП",null,null,"СРПНЭ","L=1200, S=600, H=850-870, РП",null,null,null,{"$f":"ROUND(O110*(1+'Повышение цен'!$C$10),0)","v":9961},9961,null,null,8275]
[null,null,"СРПНЭ_150608587_РП",null,null,"СРПНЭ","L=1500, S=600, H=850-870, РП",null,null,null,{"$f":"ROUND(O111*(1+'Повышение цен'!$C$10),0)","v":11188},11188,null,null,9294]
[null,null,"СРПНЭ_180608587_РП",null,null,"СРПНЭ","L=1800, S=600, H=850-870, РП",null,null,null,{"$f":"ROUND(O112*(1+'Повышение цен'!$C$10),0)","v":12413},12413,null,null,10312]
[]
[null,null,"СРПНЭ_60708587_РП",null,null,"СРПНЭ","L=600, S=700, H=850-870, РП",null,null,null,{"$f":"ROUND(O114*(1+'Повышение цен'!$C$10),0)","v":7908},{"$f":"ROUND(IF($D$4=\"С НДС\",K114*(1-$D$3),K114*(1-$D$3)/1.22),0)","v":7908},null,null,6569]
[null,null,"СРПНЭ_80708587_РП",null,null,"СРПНЭ","L=800, S=700, H=850-870, РП",null,null,null,{"$f":"ROUND(O115*(1+'Повышение цен'!$C$10),0)","v":8804},8804,null,null,7314]
[null,null,"СРПНЭ_100708587_РП",null,null,"СРПНЭ","L=1000, S=700, H=850-870, РП",null,null,null,{"$f":"ROUND(O116*(1+'Повышение цен'!$C$10),0)","v":9700},9700,null,null,8058]
[null,null,"СРПНЭ_120708587_РП",null,null,"СРПНЭ","L=1200, S=700, H=850-870, РП",null,null,null,{"$f":"ROUND(O117*(1+'Повышение цен'!$C$10),0)","v":10600},10600,null,null,8806]
[null,null,"СРПНЭ_150708587_РП",null,null,"СРПНЭ","L=1500, S=700, H=850-870, РП",null,null,null,{"$f":"ROUND(O118*(1+'Повышение цен'!$C$10),0)","v":11943},11943,null,null,9921]
[null,null,"СРПНЭ_180708587_РП",null,null,"СРПНЭ","L=1500, S=700, H=850-870, РП",null,null,null,{"$f":"ROUND(O119*(1+'Повышение цен'!$C$10),0)","v":13290},13290,null,null,11040]
[]
[]
[null,"Стол без борта с решетчатой полкой  (СРЦН Э; РП)"]
[]
[null,"Изображение","Артикул",null,null,"Модель","Характеристика номенклатуры",null,null,null,"Базовая цена,","Ваша цена,","Техническое описание",null,"Базовая цена,"]
[null,null,null,null,null,null,null,null,null,null,"руб","руб",null,null,"руб"]
[null,null,"СРЦНЭ_60608587_РП",null,null,"СРЦНЭ","L=600, S=600, H=850-870, РП",null,null,null,{"$f":"ROUND(O126*(1+'Повышение цен'!$C$10),0)","v":7306},{"$f":"ROUND(IF($D$4=\"С НДС\",K126*(1-$D$3),K126*(1-$D$3)/1.22),0)","v":7306},"н/ст, толщина столешницы - 0,8 мм, разборная конструкция, решетчатая полка, каркас - нерж. уголок 40*40*1,5 мм, Hстолешницы -40 мм, без борта, столешница усилена ЛДСП толщиной 16 мм, регулируемые ножки(+/-20мм), ",null,6069]
[null,null,"СРЦНЭ_80608587_РП",null,null,"СРЦНЭ","L=800, S=600, H=850-870, РП",null,null,null,{"$f":"ROUND(O127*(1+'Повышение цен'!$C$10),0)","v":8056},8056,null,null,6692]
[null,null,"СРЦНЭ_100608587_РП",null,null,"СРЦНЭ","L=1000, S=600, H=850-870, РП",null,null,null,{"$f":"ROUND(O128*(1+'Повышение цен'!$C$10),0)","v":8804},8804,null,null,7314]
[null,null,"СРЦНЭ_120608587_РП",null,null,"СРЦНЭ","L=1200, S=600, H=850-870, РП",null,null,null,{"$f":"ROUND(O129*(1+'Повышение цен'!$C$10),0)","v":9552},9552,null,null,7935]
[null,null,"СРЦНЭ_150608587_РП",null,null,"СРЦНЭ","L=1500, S=600, H=850-870, РП",null,null,null,{"$f":"ROUND(O130*(1+'Повышение цен'!$C$10),0)","v":10678},10678,null,null,8870]
[null,null,"СРЦНЭ_180608587_РП",null,null,"СРЦНЭ","L=1800, S=600, H=850-870, РП",null,null,null,{"$f":"ROUND(O131*(1+'Повышение цен'!$C$10),0)","v":11802},11802,null,null,9804]
[]
[null,null,"СРЦНЭ_60708587_РП",null,null,"СРЦНЭ","L=600, S=700, H=850-870, РП",null,null,null,{"$f":"ROUND(O133*(1+'Повышение цен'!$C$10),0)","v":7669},{"$f":"ROUND(IF($D$4=\"С НДС\",K133*(1-$D$3),K133*(1-$D$3)/1.22),0)","v":7669},null,null,6371]
[null,null,"СРЦНЭ_80708587_РП",null,null,"СРЦНЭ","L=800, S=700, H=850-870, РП",null,null,null,{"$f":"ROUND(O134*(1+'Повышение цен'!$C$10),0)","v":8488},8488,null,null,7051]
[null,null,"СРЦНЭ_100708587_РП",null,null,"СРЦНЭ","L=1000, S=700, H=850-870, РП",null,null,null,{"$f":"ROUND(O135*(1+'Повышение цен'!$C$10),0)","v":9305},9305,null,null,7730]
[null,null,"СРЦНЭ_120708587_РП",null,null,"СРЦНЭ","L=1200, S=700, H=850-870, РП",null,null,null,{"$f":"ROUND(O136*(1+'Повышение цен'!$C$10),0)","v":10123},10123,null,null,8409]
[null,null,"СРЦНЭ_150708587_РП",null,null,"СРЦНЭ","L=1500, S=700, H=850-870, РП",null,null,null,{"$f":"ROUND(O137*(1+'Повышение цен'!$C$10),0)","v":11349},11349,null,null,9428]
[null,null,"СРЦНЭ_180708587_РП",null,null,"СРЦНЭ","L=1800, S=700, H=850-870, РП",null,null,null,{"$f":"ROUND(O138*(1+'Повышение цен'!$C$10),0)","v":12576},12576,null,null,10447]
[]
[null,null,"Формула расчета цены",null,null,null,null,null,null,null,null,null,"Техническое описание"]
[null,"Артикул",null,"Длина,","Глубина,","Высота","Доп.","Доп.",null,"Доп.","Базовая цена,","Ваша цена,","Нестандартной модели"]
[null,null,null,"мм","мм","мм","опция","опция",null,"колеса","руб","руб",{"$f":"CONCATENATE(\"н/ст, толщина столешницы - 0,8 мм\",\", решетчатая полка, каркас - нерж уголок 40*40*1,5 мм,\",IF(C143=\"СРПНЭ\",\"стол с бортом Нборта-40мм, отступ от края 100 мм\",\"стол без борта\"),\" Hстолешницы -40 мм, столешница усилена ЛДСП толщиной 16 мм,\",IF(J143=\"К\",\", 4 колеса(2 с тормозом)\",\"регулируемые ножки(+/-20мм)\"),\", длина \", D143,\"мм\",\", глубина \",E143,\"мм\",\" ,высота \",F143,\"мм, \", \"Объем в упаковке \",IF(I143=\"\",ROUND(D143/1000*E143/1000*0.255,2), ROUND(D143/1000*E143/1000*(F143+150)/1000,2)),\" м3\")","v":"н/ст, толщина столешницы - 0,8 мм, решетчатая полка, каркас - нерж уголок 40*40*1,5 мм,стол без борта Hстолешницы -40 мм, столешница усилена ЛДСП толщиной 16 мм,регулируемые ножки(+/-20мм), длина 800мм, глубина 400мм ,высота 870мм, Объем в упаковке 0,08 м3"}]
[null,{"$f":"UPPER(CONCATENATE(C143,\"_\",D143/10,E143/10,IF(AND(F146=870,J143=\"\"),8587,F146/10),\"_\",G143,J143))","v":"СРЦНЭ_80408587_РП"},"СРЦНЭ",800,400,870,"РП",null,null,null,{"$f":"ROUND((K144*IF(D144>1800,1.05,1)*IF(E144>700,1.05,1)*IF(F144>870,1.05,1)+IF(J143=\"К\",6000,0))*1.1*1.07*1.15*(1+'Повышение цен'!$C$10),0)","v":7189},{"$f":"ROUND(IF($D$4=\"С НДС\",K143*(1-$D$3),K143*(1-$D$3)/1.22),0)","v":7189}]
[null,null,null,{"$f":"IF(AND(D143>349,D143<2001),D143,\"не производим\")","v":800},{"$f":"IF(AND(E143>399,E143<801),E143,\"не производим\")","v":400},{"$f":"IF(AND(F146>599,F146<1001),F146,\"не производим\")","v":870},null,null,null,null,{"$f":"IF(C143=\"СРПНЭ\",ROUND((((D144*E144*Техно!K12*Техно!L8*0.00001*1.4*Техно!L12)+((E144-50)*80*0.00001*Техно!L8*Техно!K17*Техно!L17*D144/E144)+(((D144-100)*80*0.00001*Техно!L8*Техно!K14*2)+((E144-100)*80*0.00001*Техно!L8*Техно!K14*2)+((F144-50)*80*0.00001*Техно!L8*Техно!K14*4))*Техно!L14)*1.18+((D144*0.001+E144*0.001)*0.9*Техно!L20)+(Техно!L25*0.15)+((Техно!L26+Техно!L27)*1.8))*1.18/0.7*(0.85+0.6944),0),IF(C143=\"СРЦНЭ\",ROUND((((D144*E144*Техно!K12*Техно!L8*0.00001*1.2*Техно!L12)+((E144-50)*80*0.00001*Техно!L8*Техно!K17*Техно!L17*D144/E144)+(((D144-100)*80*0.00001*Техно!L8*Техно!K14*2)+((E144-100)*80*0.00001*Техно!L8*Техно!K14*2)+((F144-50)*80*0.00001*Техно!L8*Техно!K14*4))*Техно!L14)*1.18+((D144*0.001+E144*0.001)*0.9*Техно!L20)+(Техно!L25*0.15)+((Техно!L26+Техно!L27)*1.8))*1.18/0.7*(0.85+0.6944),0)))","v":4412}]
[null,null,null,"350-2000","400-800","600-1000","РП",null,null,"К","Колеса"]
[null,null,null,null,null,{"$f":"IF(F143=850,870,F143)","v":870}]
[null,null,"СРПНЭ","с бортом"]
[null,null,"СРЦНЭ","без борта"]
[]
[]
[null,"Стол с бортом с решетчатой полкой (СРПЦ Э; РП)"]
[]
[null,"Изображение","Артикул",null,null,"Модель","Характеристика номенклатуры",null,null,null,"Базовая цена,","Ваша цена,","Техническое описание",null,"Базовая цена,"]
[null,null,null,null,null,null,null,null,null,null,"руб","руб",null,null,"руб"]
[null,null,"СРПЦЭ_60608587_РП",null,null,"СРПЦЭ","L=600, S=600, H=850-870, РП",null,null,null,{"$f":"ROUND(O155*(1+'Повышение цен'!$C$10),0)","v":6784},{"$f":"ROUND(IF($D$4=\"С НДС\",K155*(1-$D$3),K155*(1-$D$3)/1.22),0)","v":6784},"н/ст, толщина столешницы - 0,8 мм, разборная конструкция, решетчатая полка, каркас - оцин. уголок 40*40*1,5 мм, Hстолешницы -40 мм, Hборта - 40 мм, столешница усилена ЛДСП толщиной 16 мм, регулируемые ножки(+/-20мм), отступ от края 100 мм",null,5636]
[null,null,"СРПЦЭ_80608587_РП",null,null,"СРПЦЭ","L=800, S=600, H=850-870, РП",null,null,null,{"$f":"ROUND(O156*(1+'Повышение цен'!$C$10),0)","v":7525},7525,null,null,6251]
[null,null,"СРПЦЭ_100608587_РП",null,null,"СРПЦЭ","L=1000, S=600, H=850-870, РП",null,null,null,{"$f":"ROUND(O157*(1+'Повышение цен'!$C$10),0)","v":8265},8265,null,null,6866]
[null,null,"СРПЦЭ_120608587_РП",null,null,"СРПЦЭ","L=1200, S=600, H=850-870, РП",null,null,null,{"$f":"ROUND(O158*(1+'Повышение цен'!$C$10),0)","v":9002},9002,null,null,7478]
[null,null,"СРПЦЭ_150608587_РП",null,null,"СРПЦЭ","L=1500, S=600, H=850-870, РП",null,null,null,{"$f":"ROUND(O159*(1+'Повышение цен'!$C$10),0)","v":10113},10113,null,null,8401]
[null,null,"СРПЦЭ_180608587_РП",null,null,"СРПЦЭ","L=1500, S=600, H=850-870, РП",null,null,null,{"$f":"ROUND(O160*(1+'Повышение цен'!$C$10),0)","v":11223},11223,null,null,9323]
[]
[null,null,"СРПЦЭ_60708587_РП",null,null,"СРПЦЭ","L=600, S=700, H=850-870, РП",null,null,null,{"$f":"ROUND(O162*(1+'Повышение цен'!$C$10),0)","v":7143},{"$f":"ROUND(IF($D$4=\"С НДС\",K162*(1-$D$3),K162*(1-$D$3)/1.22),0)","v":7143},null,null,5934]
[null,null,"СРПЦЭ_80708587_РП",null,null,"СРПЦЭ","L=800, S=700, H=850-870, РП",null,null,null,{"$f":"ROUND(O163*(1+'Повышение цен'!$C$10),0)","v":7958},7958,null,null,6611]
[null,null,"СРПЦЭ_100708587_РП",null,null,"СРПЦЭ","L=1000, S=700, H=850-870, РП",null,null,null,{"$f":"ROUND(O164*(1+'Повышение цен'!$C$10),0)","v":8776},8776,null,null,7290]
[null,null,"СРПЦЭ_120708587_РП",null,null,"СРПЦЭ","L=1200, S=700, H=850-870, РП",null,null,null,{"$f":"ROUND(O165*(1+'Повышение цен'!$C$10),0)","v":9594},9594,null,null,7970]
[null,null,"СРПЦЭ_150708587_РП",null,null,"СРПЦЭ","L=1500, S=700, H=850-870, РП",null,null,null,{"$f":"ROUND(O166*(1+'Повышение цен'!$C$10),0)","v":10817},10817,null,null,8986]
[null,null,"СРПЦЭ_180708587_РП",null,null,"СРПЦЭ","L=1800, S=700, H=850-870, РП",null,null,null,{"$f":"ROUND(O167*(1+'Повышение цен'!$C$10),0)","v":12043},12043,null,null,10004]
[]
[]
[null,"Стол без борта с решетчатой полкой  (СРЦЦ Э; РП)"]
[]
[null,"Изображение","Артикул",null,null,"Модель","Характеристика номенклатуры",null,null,null,"Базовая цена,","Ваша цена,","Техническое описание",null,"Базовая цена,"]
[null,null,null,null,null,null,null,null,null,null,"руб","руб",null,null,"руб"]
[null,null,"СРЦЦЭ_60608587_РП",null,null,"СРЦЦЭ","L=600, S=600, H=850-870, РП",null,null,null,{"$f":"ROUND(O174*(1+'Повышение цен'!$C$10),0)","v":6509},{"$f":"ROUND(IF($D$4=\"С НДС\",K174*(1-$D$3),K174*(1-$D$3)/1.22),0)","v":6509},"н/ст, толщина столешницы - 0,8 мм, разборная конструкция, решетчатая полка, каркас - оцин. уголок 40*40*1,5 мм, Hстолешницы -40 мм, без борта, столешница усилена ЛДСП толщиной 16 мм, регулируемые ножки(+/-20мм), ",null,5407]
[null,null,"СРЦЦЭ_80608587_РП",null,null,"СРЦЦЭ","L=800, S=600, H=850-870, РП",null,null,null,{"$f":"ROUND(O175*(1+'Повышение цен'!$C$10),0)","v":7155},7155,null,null,5944]
[null,null,"СРЦЦЭ_100608587_РП",null,null,"СРЦЦЭ","L=1000, S=600, H=850-870, РП",null,null,null,{"$f":"ROUND(O176*(1+'Повышение цен'!$C$10),0)","v":7805},7805,null,null,6484]
[null,null,"СРЦЦЭ_120608587_РП",null,null,"СРЦЦЭ","L=1200, S=600, H=850-870, РП",null,null,null,{"$f":"ROUND(O177*(1+'Повышение цен'!$C$10),0)","v":8452},8452,null,null,7021]
[null,null,"СРЦЦЭ_150608587_РП",null,null,"СРЦЦЭ","L=1500, S=600, H=850-870, РП",null,null,null,{"$f":"ROUND(O178*(1+'Повышение цен'!$C$10),0)","v":9423},9423,null,null,7828]
[null,null,"СРЦЦЭ_180608587_РП",null,null,"СРЦЦЭ","L=1800, S=600, H=850-870, РП",null,null,null,{"$f":"ROUND(O179*(1+'Повышение цен'!$C$10),0)","v":10395},10395,null,null,8635]
[]
[null,null,"СРЦЦЭ_60708587_РП",null,null,"СРЦЦЭ","L=600, S=700, H=850-870, РП",null,null,null,{"$f":"ROUND(O181*(1+'Повышение цен'!$C$10),0)","v":6822},{"$f":"ROUND(IF($D$4=\"С НДС\",K181*(1-$D$3),K181*(1-$D$3)/1.22),0)","v":6822},null,null,5667]
[null,null,"СРЦЦЭ_80708587_РП",null,null,"СРЦЦЭ","L=800, S=700, H=850-870, РП",null,null,null,{"$f":"ROUND(O182*(1+'Повышение цен'!$C$10),0)","v":7531},7531,null,null,6256]
[null,null,"СРЦЦЭ_100708587_РП",null,null,"СРЦЦЭ","L=1000, S=700, H=850-870, РП",null,null,null,{"$f":"ROUND(O183*(1+'Повышение цен'!$C$10),0)","v":8239},8239,null,null,6844]
[null,null,"СРЦЦЭ_120708587_РП",null,null,"СРЦЦЭ","L=1200, S=700, H=850-870, РП",null,null,null,{"$f":"ROUND(O184*(1+'Повышение цен'!$C$10),0)","v":8950},8950,null,null,7435]
[null,null,"СРЦЦЭ_150708587_РП",null,null,"СРЦЦЭ","L=1500, S=700, H=850-870, РП",null,null,null,{"$f":"ROUND(O185*(1+'Повышение цен'!$C$10),0)","v":10013},10013,null,null,8318]
[null,null,"СРЦЦЭ_180708587_РП",null,null,"СРЦЦЭ","L=1800, S=700, H=850-870, РП",null,null,null,{"$f":"ROUND(O186*(1+'Повышение цен'!$C$10),0)","v":10354},10354,null,null,8601]
[]
[null,null,"Формула расчета цены",null,null,null,null,null,null,null,null,null,"Техническое описание"]
[null,"Артикул",null,"Длина,","Глубина,","Высота","Доп.","Доп.",null,"Доп.","Базовая цена,","Ваша цена,","Нестандартной модели"]
[null,null,null,"мм","мм","мм","опция","опция",null,"колеса","руб","руб",{"$f":"CONCATENATE(\"н/ст, толщина столешницы - 0,8 мм\",\", решетчатая полка, каркас - оцин. уголок 40*40*1,5 мм,\",IF(C191=\"СРПЦЭ\",\"стол с бортом Нборта-40мм, отступ от края 100 мм\",\"стол без борта\"),\" Hстолешницы -40 мм, столешница усилена ЛДСП толщиной 16 мм,\",IF(J191=\"К\",\", 4 колеса(2 с тормозом)\",\"регулируемые ножки(+/-20мм)\"),\", длина \", D191,\"мм\",\", глубина \",E191,\"мм\",\" ,высота \",F191,\"мм, \", \"Объем в упаковке \",IF(I191=\"\",ROUND(D191/1000*E191/1000*0.255,2), ROUND(D191/1000*E191/1000*(F191+150)/1000,2)),\" м3\")","v":"н/ст, толщина столешницы - 0,8 мм, решетчатая полка, каркас - оцин. уголок 40*40*1,5 мм,стол с бортом Нборта-40мм, отступ от края 100 мм Hстолешницы -40 мм, столешница усилена ЛДСП толщиной 16 мм,регулируемые ножки(+/-20мм), длина 1200мм, глубина 600мм ,высота 850мм, Объем в упаковке 0,18 м3"}]
[null,{"$f":"UPPER(CONCATENATE(C191,\"_\",D191/10,E191/10,IF(AND(F194=870,J191=\"\"),8587,F194/10),\"_\",G191,J191))","v":"СРПЦЭ_120608587_РП"},"СРПЦЭ",1200,600,850,"РП",null,null,null,{"$f":"ROUND((((K192*IF(D192>1800,1.05,1)*IF(E192>700,1.05,1)*IF(F192>870,1.05,1)+IF(J191=\"К\",6000,0))*1.1*1.05)*1.07*1.15*(1+'Повышение цен'!$C$10)),0)","v":9002},{"$f":"ROUND(IF($D$4=\"С НДС\",K191*(1-$D$3),K191*(1-$D$3)/1.22),0)","v":9002}]
[null,null,null,{"$f":"IF(AND(D191>349,D191<2001),D191,\"не производим\")","v":1200},{"$f":"IF(AND(E191>399,E191<801),E191,\"не производим\")","v":600},{"$f":"IF(AND(F194>599,F194<1001),F194,\"не производим\")","v":870},null,null,null,null,{"$f":"IF(C191=\"СРПЦЭ\",ROUND((((D192*E192*Техно!K12*Техно!L8*0.00001*1.25*Техно!L12)+((E192-50)*80*0.00001*Техно!L8*Техно!K17*Техно!L17*D192/E192)+(((D192-100)*80*0.00001*Техно!L8*Техно!K15*2)+((E192-100)*80*0.00001*Техно!L8*Техно!K15*2)+((F192-50)*80*0.00001*Техно!L8*Техно!K15*4))*Техно!L15)*1.18+((D192*0.001+E192*0.001)*0.9*Техно!L20)+(Техно!L25*0.15)+((Техно!L26+Техно!L27)*1.8))*1.18/0.68*(0.85+0.6944),0),IF(C191=\"СРЦЦЭ\",ROUND((((D192*E192*Техно!K12*Техно!L8*0.00001*1*Техно!L12)+((E192-50)*80*0.00001*Техно!L8*Техно!K17*Техно!L17*D192/E192)+(((D192-100)*80*0.00001*Техно!L8*Техно!K15*2)+((E192-100)*80*0.00001*Техно!L8*Техно!K15*2)+((F192-50)*80*0.00001*Техно!L8*Техно!K15*4))*Техно!L15)*1.18+((D192*0.001+E192*0.001)*0.9*Техно!L20)+(Техно!L25*0.15)+((Техно!L26+Техно!L27)*1.8))*1.18/0.68*(0.85+0.6944),0)))","v":5262}]
[null,null,null,"350-2000","400-800","600-1000","РП",null,null,"К","Колеса"]
[null,null,null,null,null,{"$f":"IF(F191=850,870,F191)","v":870}]
[null,null,"СРПЦЭ","с бортом"]
[null,null,"СРЦЦЭ","без борта"]

{"sheet":"Столы СП","index":6,"n_rows":196,"n_cols":16,"rows_kept":196,"cut":false,"hidden":false,"merged":[[12,6,12,10],[13,6,13,10],[14,6,14,10],[15,6,15,10],[16,6,16,10],[18,6,18,10],[19,6,19,10],[23,6,23,10],[22,6,22,10],[44,13,44,14],[45,13,45,14],[46,13,53,14],[53,3,53,4],[52,9,52,12],[25,0,25,12],[28,6,29,10],[11,13,23,14],[20,6,20,10],[21,6,21,10],[11,2,11,4],[12,2,12,4],[13,2,13,4],[14,2,14,4],[15,2,15,4],[16,2,16,4],[26,1,26,11],[28,1,29,1],[18,2,18,4],[19,2,19,4],[20,2,20,4],[21,2,21,4],[22,2,22,4],[11,6,11,10],[9,0,10,0],[9,1,10,1],[9,13,10,14],[1,0,1,2],[2,0,2,2],[3,0,3,2],[6,1,6,11],[7,2,8,12],[9,6,10,10],[9,2,10,4],[9,5,10,5],[30,13,42,14],[23,2,23,4],[11,1,23,1],[28,2,29,4],[28,5,29,5],[76,13,77,14],[57,13,58,14],[57,6,58,10],[76,6,77,10],[74,1,74,11],[76,1,77,1],[51,3,51,4],[49,11,49,12],[50,11,50,12],[51,9,51,12],[59,13,71,14],[59,6,59,10],[60,6,60,10],[61,6,61,10],[62,6,62,10],[64,2,64,4],[66,2,66,4],[67,2,67,4],[68,2,68,4],[123,13,124,14],[123,2,124,4],[123,5,124,5],[59,1,71,1],[63,6,63,10],[105,13,106,14],[99,3,99,4],[99,6,99,7],[100,3,100,4],[96,7,96,8],[92,13,92,14],[93,13,93,14],[94,13,100,14],[103,1,103,11],[105,1,106,1],[78,13,90,14],[78,6,78,10],[79,6,79,10],[80,6,80,10],[81,6,81,10],[82,6,82,10],[83,6,83,10],[85,6,85,10],[86,6,86,10],[107,13,119,14],[109,6,109,10],[110,6,110,10],[112,6,112,10],[114,6,114,10],[171,1,172,1],[171,6,172,10],[171,13,172,14],[171,2,172,4],[123,6,124,10],[132,6,132,10],[135,2,135,4],[136,2,136,4],[137,2,137,4],[125,1,137,1],[156,6,156,10],[157,6,157,10],[158,6,158,10],[159,6,159,10],[161,6,161,10],[161,2,161,4],[165,2,165,4],[166,2,166,4],[169,1,169,11],[152,13,153,14],[152,6,153,10],[152,2,153,4],[152,5,153,5],[154,13,166,14],[154,6,154,10],[155,6,155,10],[154,1,166,1],[162,6,162,10],[163,6,163,10],[164,6,164,10],[165,6,165,10],[166,6,166,10],[154,2,154,4],[164,2,164,4],[66,6,66,10],[67,6,67,10],[68,6,68,10],[69,6,69,10],[70,6,70,10],[71,6,71,10],[59,2,59,4],[60,2,60,4],[38,6,38,10],[69,2,69,4],[61,2,61,4],[62,2,62,4],[63,2,63,4],[70,2,70,4],[71,2,71,4],[52,3,52,4],[36,6,36,8],[30,6,30,10],[31,6,31,10],[32,6,32,10],[33,6,33,10],[34,6,34,10],[35,6,35,10],[37,6,37,10],[64,6,64,10],[28,13,29,14],[30,1,42,1],[57,2,58,4],[57,5,58,5],[30,2,30,4],[31,2,31,4],[32,2,32,4],[33,2,33,4],[34,2,34,4],[35,2,35,4],[37,2,37,4],[38,2,38,4],[39,2,39,4],[40,2,40,4],[41,2,41,4],[42,2,42,4],[55,1,55,11],[57,1,58,1],[44,2,44,12],[53,9,53,12],[39,6,39,10],[40,6,40,10],[41,6,41,10],[42,6,42,10],[76,2,77,4],[76,5,77,5],[92,2,92,12],[98,11,98,12],[105,2,106,4],[105,5,106,5],[88,6,88,10],[89,6,89,10],[90,6,90,10],[78,2,78,4],[79,2,79,4],[80,2,80,4],[81,2,81,4],[82,2,82,4],[83,2,83,4],[85,2,85,4],[86,2,86,4],[87,2,87,4],[88,2,88,4],[89,2,89,4],[90,2,90,4],[99,11,99,12],[105,6,106,10],[78,1,90,1],[119,2,119,4],[107,1,119,1],[125,6,125,10],[126,6,126,10],[127,6,127,10],[115,6,115,10],[116,6,116,10],[117,6,117,10],[119,6,119,10],[87,6,87,10],[121,1,121,11],[123,1,124,1],[129,6,129,10],[130,6,130,10],[111,6,111,10],[118,6,118,10],[107,2,107,4],[108,2,108,4],[109,2,109,4],[110,2,110,4],[111,2,111,4],[112,2,112,4],[114,2,114,4],[115,2,115,4],[116,2,116,4],[117,2,117,4],[118,2,118,4],[107,6,107,10],[108,6,108,10],[142,8,142,9],[139,13,139,14],[140,13,140,14],[141,13,147,14],[125,2,125,4],[126,2,126,4],[127,2,127,4],[128,2,128,4],[129,2,129,4],[130,2,130,4],[132,2,132,4],[133,2,133,4],[134,2,134,4],[140,8,140,9],[141,8,141,9],[146,3,146,4],[147,3,147,4],[125,13,137,14],[133,6,133,10],[134,6,134,10],[135,6,135,10],[136,6,136,10],[137,6,137,10],[128,6,128,10],[173,2,173,4],[174,2,174,4],[175,2,175,4],[176,2,176,4],[177,2,177,4],[178,2,178,4],[175,6,175,10],[176,6,176,10],[144,11,144,12],[155,2,155,4],[156,2,156,4],[157,2,157,4],[158,2,158,4],[159,2,159,4],[162,2,162,4],[163,2,163,4],[150,1,150,11],[152,1,153,1],[173,1,185,1],[173,6,173,10],[174,6,174,10],[171,5,172,5],[180,2,180,4],[181,2,181,4],[182,2,182,4],[183,2,183,4],[184,2,184,4],[185,2,185,4],[188,8,188,9],[194,3,194,4],[195,3,195,4],[189,8,189,9],[190,8,190,9],[185,6,185,10],[177,6,177,10],[178,6,178,10],[180,6,180,10],[181,6,181,10],[182,6,182,10],[183,6,183,10],[184,6,184,10],[188,13,188,14],[189,13,195,14],[192,11,192,12],[187,13,187,14],[173,13,185,14]]}
["Нейтральное оборудование/Столы с сплошной полкой",null,null,null,null,null,null,null,null,null,null,null,null,null,"На главную"]
[]
["Ваша скидка:",null,null,{"$f":"Содержание!C2","v":0}]
["НДС:",null,null,{"$f":"IF(Лист2!A1=TRUE,\"С НДС\",\"БЕЗ НДС\")","v":"С НДС"}]
[]
[]
[null,"Стол с бортом со сплошной полкой (СРП Ш; СП)"]
[]
[]
[null,"Изображение","Артикул",null,null,"Модель","Характеристика номенклатуры",null,null,null,null,"Базовая цена,","Ваша цена,","Техническое описание",null,"Базовая цена,"]
[null,null,null,null,null,null,null,null,null,null,null,"руб","руб",null,null,"руб"]
[null,null,"СРПШ_60608587_СП",null,null,"СРПШ","L=600, S=600, H=850-870, СП",null,null,null,null,{"$f":"ROUND(P12*(1+'Повышение цен'!$C$9),0)","v":13971},{"$f":"ROUND(IF($D$4=\"С НДС\",L12*(1-$D$3),L12*(1-$D$3)/1.2),0)","v":13971},"шлифованная н/ст, толщина столешницы - 1 мм, разборная конструкция, сплошная полка, каркас - труба 40*40*1,2 мм, Hстолешницы -50 мм, Hборта - 40 мм, столешница усилена ЛДСП толщиной 16 мм, регулируемые ножки(+/-20мм), отступ от края 100 мм",null,11606]
[null,null,"СРПШ_80608587_СП",null,null,"СРПШ","L=800, S=600, H=850-870, СП",null,null,null,null,{"$f":"ROUND(P13*(1+'Повышение цен'!$C$9),0)","v":15700},15700,null,null,13042]
[null,null,"СРПШ_100608587_СП",null,null,"СРПШ","L=1000, S=600, H=850-870, СП",null,null,null,null,{"$f":"ROUND(P14*(1+'Повышение цен'!$C$9),0)","v":17430},17430,null,null,14479]
[null,null,"СРПШ_120608587_СП",null,null,"СРПШ","L=1200, S=600, H=850-870, СП",null,null,null,null,{"$f":"ROUND(P15*(1+'Повышение цен'!$C$9),0)","v":19161},19161,null,null,15917]
[null,null,"СРПШ_150608587_СП",null,null,"СРПШ","L=1500, S=600, H=850-870, СП",null,null,null,null,{"$f":"ROUND(P16*(1+'Повышение цен'!$C$9),0)","v":21755},21755,null,null,18072]
[null,null,"СРПШ_180608587_СП",null,null,"СРПШ","L=1800, S=600, H=850-870, СП",null,null,null,null,{"$f":"ROUND(P17*(1+'Повышение цен'!$C$9),0)","v":24349},24349,null,null,20227]
[]
[null,null,"СРПШ_60708587_СП",null,null,"СРПШ","L=600, S=700, H=850-870, СП",null,null,null,null,{"$f":"ROUND(P19*(1+'Повышение цен'!$C$9),0)","v":14835},14835,null,null,12324]
[null,null,"СРПШ_80708587_СП",null,null,"СРПШ","L=800, S=700, H=850-870, СП",null,null,null,null,{"$f":"ROUND(P20*(1+'Повышение цен'!$C$9),0)","v":16800},16800,null,null,13956]
[null,null,"СРПШ_100708587_СП",null,null,"СРПШ","L=1000, S=700, H=850-870, СП",null,null,null,null,{"$f":"ROUND(P21*(1+'Повышение цен'!$C$9),0)","v":18763},18763,null,null,15587]
[null,null,"СРПШ_120708587_СП",null,null,"СРПШ","L=1200, S=700, H=850-870, СП",null,null,null,null,{"$f":"ROUND(P22*(1+'Повышение цен'!$C$9),0)","v":20723},20723,null,null,17215]
[null,null,"СРПШ_150708587_СП",null,null,"СРПШ","L=1500, S=700, H=850-870, СП",null,null,null,null,{"$f":"ROUND(P23*(1+'Повышение цен'!$C$9),0)","v":23670},23670,null,null,19663]
[null,null,"СРПШ_180708587_СП",null,null,"СРПШ","L=1800, S=700, H=850-870, СП",null,null,null,null,{"$f":"ROUND(P24*(1+'Повышение цен'!$C$9),0)","v":26613},26613,null,null,22108]
[]
[]
[null,"Стол без борта со сплошной полкой (СРЦ Ш; СП)"]
[]
[null,"Изображение","Артикул",null,null,"Модель","Характеристика номенклатуры",null,null,null,null,"Базовая цена,","Ваша цена,","Техническое описание",null,"Базовая цена,"]
[null,null,null,null,null,null,null,null,null,null,null,"руб","руб",null,null,"руб"]
[null,null,"СРЦШ_60608587_СП",null,null,"СРЦШ","L=600, S=600, H=850-870, СП",null,null,null,null,{"$f":"ROUND(P31*(1+'Повышение цен'!$C$9),0)","v":13627},{"$f":"ROUND(IF($D$4=\"С НДС\",L31*(1-$D$3),L31*(1-$D$3)/1.2),0)","v":13627},"шлифованная н/ст, толщина столешницы - 1 мм, разборная конструкция, сплошная полка,  каркас - труба 40*40*1,2 мм, Hстолешницы -50 мм, без борта, столешница усилена ЛДСП толщиной 16 мм, регулируемые ножки(+/-20мм)",null,11320]
[null,null,"СРЦШ_80608587_СП",null,null,"СРЦШ","L=800, S=600, H=850-870, СП",null,null,null,null,{"$f":"ROUND(P32*(1+'Повышение цен'!$C$9),0)","v":15240},15240,null,null,12660]
[null,null,"СРЦШ_100608587_СП",null,null,"СРЦШ","L=1000, S=600, H=850-870, СП",null,null,null,null,{"$f":"ROUND(P33*(1+'Повышение цен'!$C$9),0)","v":16855},16855,null,null,14002]
[null,null,"СРЦШ_120608587_СП",null,null,"СРЦШ","L=1200, S=600, H=850-870, СП",null,null,null,null,{"$f":"ROUND(P34*(1+'Повышение цен'!$C$9),0)","v":18471},18471,null,null,15344]
[null,null,"СРЦШ_150608587_СП",null,null,"СРЦШ","L=1500, S=600, H=850-870, СП",null,null,null,null,{"$f":"ROUND(P35*(1+'Повышение цен'!$C$9),0)","v":20895},20895,null,null,17358]
[null,null,"СРЦШ_180608587_СП",null,null,"СРЦШ","L=1800, S=600, H=850-870, СП",null,null,null,null,{"$f":"ROUND(P36*(1+'Повышение цен'!$C$9),0)","v":23317},23317,null,null,19370]
[]
[null,null,"СРЦШ_60708587_СП",null,null,"СРЦШ","L=600, S=700, H=850-870, СП",null,null,null,null,{"$f":"ROUND(P38*(1+'Повышение цен'!$C$9),0)","v":14433},{"$f":"ROUND(IF($D$4=\"С НДС\",L38*(1-$D$3),L38*(1-$D$3)/1.2),0)","v":14433},null,null,11990]
[null,null,"СРЦШ_80708587_СП",null,null,"СРЦШ","L=800, S=700, H=850-870, СП",null,null,null,null,{"$f":"ROUND(P39*(1+'Повышение цен'!$C$9),0)","v":16263},16263,null,null,13510]
[null,null,"СРЦШ_100708587_СП",null,null,"СРЦШ","L=1000, S=700, H=850-870, СП",null,null,null,null,{"$f":"ROUND(P40*(1+'Повышение цен'!$C$9),0)","v":18093},18093,null,null,15030]
[null,null,"СРЦШ_120708587_СП",null,null,"СРЦШ","L=1200, S=700, H=850-870, СП",null,null,null,null,{"$f":"ROUND(P41*(1+'Повышение цен'!$C$9),0)","v":19920},19920,null,null,16548]
[null,null,"СРЦШ_150708587_СП",null,null,"СРЦШ","L=1500, S=700, H=850-870, СП",null,null,null,null,{"$f":"ROUND(P42*(1+'Повышение цен'!$C$9),0)","v":22666},22666,null,null,18829]
[null,null,"СРЦШ_180708587_СП",null,null,"СРЦШ","L=1800, S=700, H=850-870, СП",null,null,null,null,{"$f":"ROUND(P43*(1+'Повышение цен'!$C$9),0)","v":25409},25409,null,null,21108]
[]
[null,null,"Формула расчета цены",null,null,null,null,null,null,null,null,null,null,"Техническое описание"]
[null,"Артикул",null,"Длина,","Глубина,","Высота","Кол.","Доп.","Доп.","Каркас","Доп.","Базовая цена,","Ваша цена,","Нестандартной модели"]
[null,null,null,"мм","мм","мм","полок","опция","борт","раз/св","колеса","руб","руб",{"$f":"CONCATENATE(\"шлифованная н/ст, толщина столешницы - 1 мм,\",IF(J48=\"СВ\",\"сварная конструкция\",\"разборная конструкция\"),\", сплошная полка \",IF(G49=\"\",1,G49), \"шт,\",\" каркас - труба 40*40*1,2 мм,\",IF(C48=\"СРПШ\",\"стол с бортом Нборта-40мм, отступ от края 100 мм\",\"стол без борта\"),IF(AND(C48=\"СРПШ\",H48=\"СП2Б\"),\", стол угловой с двумя бортами\",\"\"),IF(AND(C48=\"СРПШ\",H48=\"СП3Б\"),\", стол с тремя бортами\",\"\"),IF(AND(H48=\"СП2Б\",I48=\"П\"),\", правый\",\"\"),IF(AND(H48=\"СП2Б\",I48=\"Л\"),\", левый\",\"\"),\" Hстолешницы -50 мм, столешница усилена ЛДСП толщиной 16 мм,\",IF(K48=\"К\",\" 4 колеса(2 с тормозом)\",\"регулируемые ножки(+/-20мм)\"),\", длина \", D48,\"мм\",\", глубина \",E48,\"мм\",\" ,высота \",F48,\"мм, \", \"Объем в упаковке \",IF(J48=\"\",ROUND(D48/1000*E48/1000*0.255,2), ROUND(D48/1000*E48/1000*(F48+150)/1000,2)),\" м3\")","v":"шлифованная н/ст, толщина столешницы - 1 мм,разборная конструкция, сплошная полка 1шт, каркас - труба 40*40*1,2 мм,стол с бортом Нборта-40мм, отступ от края 100 мм Hстолешницы -50 мм, столешница усилена ЛДСП толщиной 16 мм,регулируемые ножки(+/-20мм), длина 600мм, глубина 600мм ,высота 850мм, Объем в упаковке 0,09 м3"}]
[null,{"$f":"UPPER(CONCATENATE(C48,\"_\",D48/10,E48/10,IF(AND(F51=850,K48=\"\"),8587,F51/10),\"_\",IF(G48=1,\"\",G48),H48,I48,J48,K48))","v":"СРПШ_60608587_СП"},"СРПШ",600,600,850,null,"СП",null,null,null,{"$f":"ROUND((L49*IF(D49>1800,1.05,1)*IF(E49>700,1.05,1)*IF(F49>870,1.05,1)*IF(H48=\"СП3Б\",1.07,1)+IF(K48=\"К\",6000,0))*1.1,0)*1.05*1.07*1.1*(1+'Повышение цен'!$C$9)","v":13970.887169416163},{"$f":"ROUND(IF($D$4=\"С НДС\",L48*(1-$D$3),L48*(1-$D$3)/1.2),0)","v":13971}]
[null,null,null,{"$f":"IF(AND(D48>349,D48<2001),D48,\"не производим\")","v":600},{"$f":"IF(AND(E48>399,E48<1001),E48,\"не производим\")","v":600},{"$f":"IF(AND(F51>599,F51<1001),F51,\"не производим\")","v":850},{"$f":"IF(G48=\"\",1,G48)","v":1},null,null,null,null,{"$f":"IF(C48=\"СРПШ\",IF(AND(J48=\"\",H48=\"СП\"),ROUND((((D49*E49*Техно!M10*Техно!N8*0.00001*1.6*Техно!N10)+((D49*E49*Техно!M10*Техно!N8*0.00001*1.45*Техно!N10)*G49)+(((F49-50)*0.001*4)*Техно!N19)+(((D49-100)*80*0.00001*Техно!N8*Техно!M14*2)+((E49-100)*80*0.00001*Техно!N8*Техно!M14*2))*Техно!N14)*1.18+((D49*0.001+E49*0.001)*0.9*Техно!N20)+(Техно!N25*0.35)+((Техно!N26+Техно!N27)*2.5))*1.18/0.68*(0.85+0.6944),0),IF(AND(J48=\"СВ\",H48=\"СП\"),ROUND((((D49*E49*Техно!M10*Техно!N8*0.00001*1.6*Техно!N10)+((D49*E49*Техно!M10*Техно!N8*0.00001*1.45*Техно!N10)*G49)+(((F49-50)*0.001*4)*Техно!N19)+(((D49-100)*80*0.00001*Техно!N8*Техно!M14*2)+((E49-100)*80*0.00001*Техно!N8*Техно!M14*2))*Техно!N14+(D49*E49*Техно!N8*Техно!M16*0.00001*Техно!N16))*1.18+((D49*0.001+E49*0.001)*0.9*Техно!N20)+(Техно!N25*(0.35+0.05))+((Техно!N26+Техно!N27)*(2.5+0.2)))*1.18/0.68*(0.85+0.6944),0),IF(AND(J48=\"\",OR(H48=\"СП2Б\",H48=\"СП3Б\")),ROUND((((D49*E49*Техно!M10*Техно!N8*0.00001*1.6*Техно!N10)+((D49*E49*Техно!M10*Техно!N8*0.00001*1.45*Техно!N10)*G49)+(((F49-50)*0.001*4)*Техно!N19)+(((D49-100)*80*0.00001*Техно!N8*Техно!M14*2)+((E49-100)*80*0.00001*Техно!N8*Техно!M14*2))*Техно!N14)*1.18+((D49*0.001+E49*0.001)*0.9*Техно!N20)+(Техно!N25*0.35)+((Техно!N26+Техно!N27)*2.5))*1.18/0.68*1.05*(0.85+0.6944),0),IF(AND(J48=\"СВ\",OR(H48=\"СП2Б\",H48=\"СП3Б\")),ROUND((((D49*E49*Техно!M10*Техно!N8*0.00001*1.6*Техно!N10)+((D49*E49*Техно!M10*Техно!N8*0.00001*1.45*Техно!N10)*G49)+(((F49-50)*0.001*4)*Техно!N19)+(((D49-100)*80*0.00001*Техно!N8*Техно!M14*2)+((E49-100)*80*0.00001*Техно!N8*Техно!M14*2))*Техно!N14+(D49*E49*Техно!N8*Техно!M16*0.00001*Техно!N16))*1.18+((D49*0.001+E49*0.001)*0.9*Техно!N20)+(Техно!N25*(0.35+0.05))+((Техно!N26+Техно!N27)*(2.5+0.2)))*1.18/0.68*1.05*(0.85+0.6944),0))))),IF(C48=\"СРЦШ\",IF(J48=\"\",ROUND((((D49*E49*Техно!M10*Техно!N8*0.00001*1.35*Техно!N10)+((D49*E49*Техно!M10*Техно!N8*0.00001*1.45*Техно!N10)*G49)+(((F49-50)*0.001*4)*Техно!N19)+(((D49-100)*80*0.00001*Техно!N8*Техно!M14*2)+((E49-100)*80*0.00001*Техно!N8*Техно!M14*2))*Техно!N14)*1.18+((D49*0.001+E49*0.001)*0.9*Техно!N20)+(Техно!N25*0.35)+((Техно!N26+Техно!N27)*2.5))*1.18/0.68*(0.85+0.6944),0),IF(J48=\"СВ\",ROUND((((D49*E49*Техно!M10*Техно!N8*0.00001*1.35*Техно!N10)+((D49*E49*Техно!M10*Техно!N8*0.00001*1.45*Техно!N10)*G49)+(((F49-50)*0.001*4)*Техно!N19)+(((D49-100)*80*0.00001*Техно!N8*Техно!M14*2)+((E49-100)*80*0.00001*Техно!N8*Техно!M14*2))*Техно!N14+(D49*E49*Техно!N8*Техно!M16*0.00001*Техно!N16))*1.18+((D49*0.001+E49*0.001)*0.9*Техно!N20)+(Техно!N25*(0.35+0.05))+((Техно!N26+Техно!N27)*(2.5+0.2)))*1.18/0.68*(0.85+0.6944),0)))))","v":8537}]
[null,null,null,"350-2000","400-1000","600-1000","1_2","СП",null,null,"К","Колеса"]
[null,null,null,null,null,{"$f":"IF(F48=870,850,F48)","v":850},null,null,null,"СВ",null,"Сварная конструкция"]
[null,null,null,null,null,null,null,"СП2Б","П","угловой стол(два борта сзади и справа)"]
[null,null,"СРПШ","с бортом",null,null,null,"СП2Б","Л","угловой стол(два борта сзади и слева)"]
[null,null,"СРЦШ","без борта",null,null,null,"СП3Б",null,"Стол с тремя бортами"]
[]
[null,"Стол с бортом со сплошной полкой (СРПН Э1; СП)"]
[]
[null,"Изображение","Артикул",null,null,"Модель","Характеристика номенклатуры",null,null,null,null,"Базовая цена,","Ваша цена,","Техническое описание",null,"Базовая цена,"]
[null,null,null,null,null,null,null,null,null,null,null,"руб","руб",null,null,"руб"]
[null,null,"СРПНЭ1_60608587_СП",null,null,"СРПНЭ1","L=600, S=600, H=850-870, СП",null,null,null,null,{"$f":"ROUND(P60*(1+'Повышение цен'!$C$10),0)","v":12581},{"$f":"ROUND(IF($D$4=\"С НДС\",L60*(1-$D$3),L60*(1-$D$3)/1.2),0)","v":12581},"н/ст, толщина столешницы - 0,8 мм, разборная конструкция, сплошная полка,  каркас - труба 40*40*1,2 мм, Hстолешницы -40 мм, Hборта - 40 мм, столешница усилена ЛДСП толщиной 16 мм, регулируемые ножки(+/-20мм), отступ от края 100 мм",null,10451]
[null,null,"СРПНЭ1_80608587_СП",null,null,"СРПНЭ1","L=800, S=600, H=850-870, СП",null,null,null,null,{"$f":"ROUND(P61*(1+'Повышение цен'!$C$10),0)","v":13918},13918,null,null,11562]
[null,null,"СРПНЭ1_100608587_СП",null,null,"СРПНЭ1","L=1000, S=600, H=850-870, СП",null,null,null,null,{"$f":"ROUND(P62*(1+'Повышение цен'!$C$10),0)","v":15255},15255,null,null,12673]
[null,null,"СРПНЭ1_120608587_СП",null,null,"СРПНЭ1","L=1200, S=600, H=850-870, СП",null,null,null,null,{"$f":"ROUND(P63*(1+'Повышение цен'!$C$10),0)","v":16593},16593,null,null,13784]
[null,null,"СРПНЭ1_150608587_СП",null,null,"СРПНЭ1","L=1500, S=600, H=850-870, СП",null,null,null,null,{"$f":"ROUND(P64*(1+'Повышение цен'!$C$10),0)","v":18598},18598,null,null,15450]
[null,null,"СРПНЭ1_180608587_СП",null,null,"СРПНЭ1","L=1800, S=600, H=850-870, СП",null,null,null,null,{"$f":"ROUND(P65*(1+'Повышение цен'!$C$10),0)","v":20604},20604,null,null,17116]
[]
[null,null,"СРПНЭ1_60708587_СП",null,null,"СРПНЭ1","L=600, S=700, H=850-870, СП",null,null,null,null,{"$f":"ROUND(P67*(1+'Повышение цен'!$C$10),0)","v":13250},{"$f":"ROUND(IF($D$4=\"С НДС\",L67*(1-$D$3),L67*(1-$D$3)/1.2),0)","v":13250},null,null,11007]
[null,null,"СРПНЭ1_80708587_СП",null,null,"СРПНЭ1","L=800, S=700, H=850-870, СП",null,null,null,null,{"$f":"ROUND(P68*(1+'Повышение цен'!$C$10),0)","v":14756},14756,null,null,12258]
[null,null,"СРПНЭ1_100708587_СП",null,null,"СРПНЭ1","L=1000, S=700, H=850-870, СП",null,null,null,null,{"$f":"ROUND(P69*(1+'Повышение цен'!$C$10),0)","v":16264},16264,null,null,13511]
[null,null,"СРПНЭ1_120708587_СП",null,null,"СРПНЭ1","L=1200, S=700, H=850-870, СП",null,null,null,null,{"$f":"ROUND(P70*(1+'Повышение цен'!$C$10),0)","v":17770},17770,null,null,14762]
[null,null,"СРПНЭ1_150708587_СП",null,null,"СРПНЭ1","L=1500, S=700, H=850-870, СП",null,null,null,null,{"$f":"ROUND(P71*(1+'Повышение цен'!$C$10),0)","v":20032},20032,null,null,16641]
[null,null,"СРПНЭ1_180708587_СП",null,null,"СРПНЭ1","L=1800, S=700, H=850-870, СП",null,null,null,null,{"$f":"ROUND(P72*(1+'Повышение цен'!$C$10),0)","v":22290},22290,null,null,18517]
[]
[]
[null,"Стол без борта со сплошной полкой (СРЦН Э1; СП)"]
[]
[null,"Изображение","Артикул",null,null,"Модель","Характеристика номенклатуры",null,null,null,null,"Базовая цена,","Ваша цена,","Техническое описание",null,"Базовая цена,"]
[null,null,null,null,null,null,null,null,null,null,null,"руб","руб",null,null,"руб"]
[null,null,"СРЦНЭ1_60608587_СП",null,null,"СРЦНЭ1","L=600, S=600, H=850-870, СП",null,null,null,null,{"$f":"ROUND(P79*(1+'Повышение цен'!$C$10),0)","v":12376},{"$f":"ROUND(IF($D$4=\"С НДС\",L79*(1-$D$3),L79*(1-$D$3)/1.2),0)","v":12376},"н/ст, толщина столешницы - 0,8 мм, разборная конструкция, сплошная полка, каркас - труба 40*40*1,2 мм, Hстолешницы -40 мм, Hборта - 40 мм, столешница усилена ЛДСП толщиной 16 мм, регулируемые ножки(+/-20мм), ",null,10281]
[null,null,"СРЦНЭ1_80608587_СП",null,null,"СРЦНЭ1","L=800, S=600, H=850-870, СП",null,null,null,null,{"$f":"ROUND(P80*(1+'Повышение цен'!$C$10),0)","v":13646},13646,null,null,11336]
[null,null,"СРЦНЭ1_100608587_СП",null,null,"СРЦНЭ1","L=1000, S=600, H=850-870, СП",null,null,null,null,{"$f":"ROUND(P81*(1+'Повышение цен'!$C$10),0)","v":14915},14915,null,null,12390]
[null,null,"СРЦНЭ1_120608587_СП",null,null,"СРЦНЭ1","L=1200, S=600, H=850-870, СП",null,null,null,null,{"$f":"ROUND(P82*(1+'Повышение цен'!$C$10),0)","v":16186},16186,null,null,13446]
[null,null,"СРЦНЭ1_150608587_СП",null,null,"СРЦНЭ1","L=1500, S=600, H=850-870, СП",null,null,null,null,{"$f":"ROUND(P83*(1+'Повышение цен'!$C$10),0)","v":18089},18089,null,null,15027]
[null,null,"СРЦНЭ1_180608587_СП",null,null,"СРЦНЭ1","L=1800, S=600, H=850-870, СП",null,null,null,null,{"$f":"ROUND(P84*(1+'Повышение цен'!$C$10),0)","v":19994},19994,null,null,16609]
[]
[null,null,"СРЦНЭ1_60708587_СП",null,null,"СРЦНЭ1","L=600, S=700, H=850-870, СП",null,null,null,null,{"$f":"ROUND(P86*(1+'Повышение цен'!$C$10),0)","v":13012},{"$f":"ROUND(IF($D$4=\"С НДС\",L86*(1-$D$3),L86*(1-$D$3)/1.2),0)","v":13012},null,null,10809]
[null,null,"СРЦНЭ1_80708587_СП",null,null,"СРЦНЭ1","L=800, S=700, H=850-870, СП",null,null,null,null,{"$f":"ROUND(P87*(1+'Повышение цен'!$C$10),0)","v":14437},14437,null,null,11993]
[null,null,"СРЦНЭ1_100708587_СП",null,null,"СРЦНЭ1","L=1000, S=700, H=850-870, СП",null,null,null,null,{"$f":"ROUND(P88*(1+'Повышение цен'!$C$10),0)","v":15867},15867,null,null,13181]
[null,null,"СРЦНЭ1_120708587_СП",null,null,"СРЦНЭ1","L=1200, S=700, H=850-870, СП",null,null,null,null,{"$f":"ROUND(P89*(1+'Повышение цен'!$C$10),0)","v":17295},17295,null,null,14367]
[null,null,"СРЦНЭ1_150708587_СП",null,null,"СРЦНЭ1","L=1500, S=700, H=850-870, СП",null,null,null,null,{"$f":"ROUND(P90*(1+'Повышение цен'!$C$10),0)","v":19436},19436,null,null,16146]
[null,null,"СРЦНЭ1_180708587_СП",null,null,"СРЦНЭ1","L=1800, S=700, H=850-870, СП",null,null,null,null,{"$f":"ROUND(P91*(1+'Повышение цен'!$C$10),0)","v":21580},21580,null,null,17927]
[]
[null,null,"Формула расчета цены",null,null,null,null,null,null,null,null,null,null,"Техническое описание"]
[null,"Артикул",null,"Длина,","Глубина,","Высота","Кол.",null,"Доп.","Каркас","Доп.","Базовая цена,","Ваша цена,","Нестандартной модели"]
[null,null,null,"мм","мм","мм","полок","Полка","Опция","раз/св","колеса","руб","руб",{"$f":"CONCATENATE(\"н/ст, толщина столешницы - 0,8 мм,\",IF(J96=\"СВ\",\"сварная конструкция\",\"разборная конструкция\"),\", сплошная полка \",IF(G97=\"\",1,G97), \"шт,\",\" каркас - труба 40*40*1,2 мм,\",IF(C96=\"СРПНЭ1\",\"стол с бортом Нборта-40мм\",\"стол без борта\"),\" Hстолешницы -40 мм, столешница усилена ЛДСП толщиной 16 мм,\",IF(K96=\"К\",\" 4 колеса(2 с тормозом)\",\"регулируемые ножки(+/-20мм)\"),\", длина \", D96,\"мм\",\", глубина \",E96,\"мм\",\" ,высота \",F96,\"мм, \", \"Объем в упаковке \",IF(J96=\"\",ROUND(D96/1000*E96/1000*0.255,2), ROUND(D96/1000*E96/1000*(F96+150)/1000,2)),\" м3\")","v":"н/ст, толщина столешницы - 0,8 мм,разборная конструкция, сплошная полка 2шт, каркас - труба 40*40*1,2 мм,стол с бортом Нборта-40мм Hстолешницы -40 мм, столешница усилена ЛДСП толщиной 16 мм,регулируемые ножки(+/-20мм), длина 1500мм, глубина 800мм ,высота 870мм, Объем в упаковке 0,31 м3"}]
[null,{"$f":"UPPER(CONCATENATE(C96,\"_\",D96/10,E96/10,IF(AND(F99=850,K96=\"\"),8587,F99/10),\"_\",IF(G96=1,\"\",G96),H96,J96,K96))","v":"СРПНЭ1_150808587_2СП"},"СРПНЭ1",1500,800,870,2,"СП",null,null,null,{"$f":"ROUND((L97*IF(D97>1800,1.05,1)*IF(E97>700,1.05,1)*IF(F97>870,1.05,1)+IF(K96=\"К\",6000,0))*1.1,0)*1.07*1.1*(1+'Повышение цен'!$C$10)","v":27530.747127586739},{"$f":"ROUND(IF($D$4=\"С НДС\",L96*(1-$D$3),L96*(1-$D$3)/1.2),0)","v":27531}]
[null,null,null,{"$f":"IF(AND(D96>349,D96<2001),D96,\"не производим\")","v":1500},{"$f":"IF(AND(E96>399,E96<1001),E96,\"не производим\")","v":800},{"$f":"IF(AND(F99>599,F99<1001),F99,\"не производим\")","v":850},{"$f":"IF(G96=\"\",1,G96)","v":2},null,null,null,null,{"$f":"IF(C96=\"СРПНЭ1\",IF(J96=\"\",ROUND((((D97*E97*Техно!M12*Техно!N8*0.00001*1.6*Техно!N12)+((D97*E97*Техно!M12*Техно!N8*0.00001*1.4*Техно!N12)*G97)+(((F97-50+20)*0.001*4)*Техно!N19)+(((D97-100)*80*0.00001*Техно!N8*Техно!M14*2)+((E97-100)*80*0.00001*Техно!N8*Техно!M14*2))*Техно!N14)*1.18+((D97*0.001+E97*0.001)*0.9*Техно!N20)+(Техно!N25*0.35)+((Техно!N26+Техно!N27)*2.5))*1.18/0.67*(0.85+0.6944),0),IF(J96=\"СВ\",ROUND((((D97*E97*Техно!M12*Техно!N8*0.00001*1.6*Техно!N12)+((D97*E97*Техно!M12*Техно!N8*0.00001*1.4*Техно!N12)*G97)+(((F97-50+20)*0.001*4)*Техно!N19)+(((D97-100)*80*0.00001*Техно!N8*Техно!M14*2)+((E97-100)*80*0.00001*Техно!N8*Техно!M14*2))*Техно!N14)*1.18+((D97*0.001+E97*0.001)*0.9*Техно!N20)+(Техно!N25*0.35)+((Техно!N26+Техно!N27)*2.5))*1.18/0.67*1.07*(0.85+0.6944),0))),IF(C96=\"СРЦНЭ1\",IF(J96=\"\",ROUND((((D97*E97*Техно!M12*Техно!N8*0.00001*1.4*Техно!N12)+((D97*E97*Техно!M12*Техно!N8*0.00001*1.4*Техно!N12)*G97)+(((F97-50+20)*0.001*4)*Техно!N19)+(((D97-100)*80*0.00001*Техно!N8*Техно!M14*2)+((E97-100)*80*0.00001*Техно!N8*Техно!M14*2))*Техно!N14)*1.18+((D97*0.001+E97*0.001)*0.9*Техно!N20)+(Техно!N25*0.35)+((Техно!N26+Техно!N27)*2.5))*1.18/0.67*(0.85+0.6944),0),IF(J96=\"СВ\",ROUND((((D97*E97*Техно!M12*Техно!N8*0.00001*1.4*Техно!N12)+((D97*E97*Техно!M12*Техно!N8*0.00001*1.4*Техно!N12)*G97)+(((F97-50+20)*0.001*4)*Техно!N19)+(((D97-100)*80*0.00001*Техно!N8*Техно!M14*2)+((E97-100)*80*0.00001*Техно!N8*Техно!M14*2))*Техно!N14)*1.18+((D97*0.001+E97*0.001)*0.9*Техно!N20)+(Техно!N25*0.35)+((Техно!N26+Техно!N27)*2.5))*1.18/0.67*1.07*(0.85+0.6944),0)))))","v":16823}]
[null,null,null,"350-2000","400-1000","600-1000","1_2","СП",null,null,"К","Колеса"]
[null,null,null,null,null,{"$f":"IF(F96=870,850,F96)","v":850},null,null,null,"СВ",null,"Сварная конструкция"]
[null,null,"СРПНЭ1","с бортом"]
[null,null,"СРЦНЭ1","без борта"]
[]
[]
[null,"Стол с бортом со сплошной полкой (СРПН Э; СП)"]
[]
[null,"Изображение","Артикул",null,null,"Модель","Характеристика номенклатуры",null,null,null,null,"Базовая цена,","Ваша цена,","Техническое описание",null,"Базовая цена,"]
[null,null,null,null,null,null,null,null,null,null,null,"руб","руб",null,null,"руб"]
[null,null,"СРПНЭ_60608587_СП",null,null,"СРПНЭ","L=600, S=600, H=850-870, СП",null,null,null,null,{"$f":"ROUND(P108*(1+'Повышение цен'!$C$10),0)","v":8868},{"$f":"ROUND(IF($D$4=\"С НДС\",L108*(1-$D$3),L108*(1-$D$3)/1.22),0)","v":8868},"н/ст, толщина столешницы - 0,8 мм, разборная конструкция, сплошная полка, каркас - нерж. уголок 40*40*1,5 мм, Hстолешницы -40 мм, Hборта - 40 мм, столешница усилена ЛДСП толщиной 16 мм, регулируемые ножки(+/-20мм), отступ от края 100 мм",null,7367]
[null,null,"СРПНЭ_80608587_СП",null,null,"СРПНЭ","L=800, S=600, H=850-870, СП",null,null,null,null,{"$f":"ROUND(P109*(1+'Повышение цен'!$C$10),0)","v":10141},{"$f":"ROUND(IF($D$4=\"С НДС\",L109*(1-$D$3),L109*(1-$D$3)/1.22),0)","v":10141},null,null,8424]
[null,null,"СРПНЭ_100608587_СП",null,null,"СРПНЭ","L=1000, S=600, H=850-870, СП",null,null,null,null,{"$f":"ROUND(P110*(1+'Повышение цен'!$C$10),0)","v":11414},11414,null,null,9482]
[null,null,"СРПНЭ_120608587_СП",null,null,"СРПНЭ","L=1200, S=600, H=850-870, СП",null,null,null,null,{"$f":"ROUND(P111*(1+'Повышение цен'!$C$10),0)","v":12688},12688,null,null,10540]
[null,null,"СРПНЭ_150608587_СП",null,null,"СРПНЭ","L=1500, S=600, H=850-870, СП",null,null,null,null,{"$f":"ROUND(P112*(1+'Повышение цен'!$C$10),0)","v":14597},14597,null,null,12126]
[null,null,"СРПНЭ_180608587_СП",null,null,"СРПНЭ","L=1800, S=600, H=850-870, СП",null,null,null,null,{"$f":"ROUND(P113*(1+'Повышение цен'!$C$10),0)","v":16505},16505,null,null,13711]
[]
[null,null,"СРПНЭ_60708587_СП",null,null,"СРПНЭ","L=600, S=700, H=850-870, СП",null,null,null,null,{"$f":"ROUND(P115*(1+'Повышение цен'!$C$10),0)","v":9505},{"$f":"ROUND(IF($D$4=\"С НДС\",L115*(1-$D$3),L115*(1-$D$3)/1.22),0)","v":9505},null,null,7896]
[null,null,"СРПНЭ_80708587_СП",null,null,"СРПНЭ","L=800, S=700, H=850-870, СП",null,null,null,null,{"$f":"ROUND(P116*(1+'Повышение цен'!$C$10),0)","v":10935},10935,null,null,9084]
[null,null,"СРПНЭ_100708587_СП",null,null,"СРПНЭ","L=1000, S=700, H=850-870, СП",null,null,null,null,{"$f":"ROUND(P117*(1+'Повышение цен'!$C$10),0)","v":12365},12365,null,null,10272]
[null,null,"СРПНЭ_120708587_СП",null,null,"СРПНЭ","L=1200, S=700, H=850-870, СП",null,null,null,null,{"$f":"ROUND(P118*(1+'Повышение цен'!$C$10),0)","v":13796},13796,null,null,11461]
[null,null,"СРПНЭ_150708587_СП",null,null,"СРПНЭ","L=1500, S=700, H=850-870, СП",null,null,null,null,{"$f":"ROUND(P119*(1+'Повышение цен'!$C$10),0)","v":15939},15939,null,null,13241]
[null,null,"СРПНЭ_180708587_СП",null,null,"СРПНЭ","L=1800, S=700, H=850-870, СП",null,null,null,null,{"$f":"ROUND(P120*(1+'Повышение цен'!$C$10),0)","v":18087},18087,null,null,15025]
[]
[null,"Стол без борта со сплошной полкой (СРЦН Э; СП)"]
[]
[null,"Изображение","Артикул",null,null,"Модель","Характеристика номенклатуры",null,null,null,null,"Базовая цена,","Ваша цена,","Техническое описание",null,"Базовая цена,"]
[null,null,null,null,null,null,null,null,null,null,null,"руб","руб",null,null,"руб"]
[null,null,"СРЦНЭ_60608587_СП",null,null,"СРЦНЭ","L=600, S=600, H=850-870, СП",null,null,null,null,{"$f":"ROUND(P126*(1+'Повышение цен'!$C$10),0)","v":8658},{"$f":"ROUND(IF($D$4=\"С НДС\",L126*(1-$D$3),L126*(1-$D$3)/1.22),0)","v":8658},"н/ст, толщина столешницы - 0,8 мм, разборная конструкция, сплошная полка, каркас - нерж. уголок 40*40*1,5 мм, Hстолешницы -40 мм, без борта, столешница усилена ЛДСП толщиной 16 мм, регулируемые ножки(+/-20мм), ",null,7192]
[null,null,"СРЦНЭ_80608587_СП",null,null,"СРЦНЭ","L=800, S=600, H=850-870, СП",null,null,null,null,{"$f":"ROUND(P127*(1+'Повышение цен'!$C$10),0)","v":9860},9860,null,null,8191]
[null,null,"СРЦНЭ_100608587_СП",null,null,"СРЦНЭ","L=1000, S=600, H=850-870, СП",null,null,null,null,{"$f":"ROUND(P128*(1+'Повышение цен'!$C$10),0)","v":11065},11065,null,null,9192]
[null,null,"СРЦНЭ_120608587_СП",null,null,"СРЦНЭ","L=1200, S=600, H=850-870, СП",null,null,null,null,{"$f":"ROUND(P129*(1+'Повышение цен'!$C$10),0)","v":12268},12268,null,null,10191]
[null,null,"СРЦНЭ_150608587_СП",null,null,"СРЦНЭ","L=1500, S=600, H=850-870, СП",null,null,null,null,{"$f":"ROUND(P130*(1+'Повышение цен'!$C$10),0)","v":14072},14072,null,null,11690]
[null,null,"СРЦНЭ_180608587_СП",null,null,"СРЦНЭ","L=1800, S=600, H=850-870, СП",null,null,null,null,{"$f":"ROUND(P131*(1+'Повышение цен'!$C$10),0)","v":15874},15874,null,null,13187]
[]
[null,null,"СРЦНЭ_60708587_СП",null,null,"СРЦНЭ","L=600, S=700, H=850-870, СП",null,null,null,null,{"$f":"ROUND(P133*(1+'Повышение цен'!$C$10),0)","v":9259},{"$f":"ROUND(IF($D$4=\"С НДС\",L133*(1-$D$3),L133*(1-$D$3)/1.22),0)","v":9259},null,null,7692]
[null,null,"СРЦНЭ_80708587_СП",null,null,"СРЦНЭ","L=800, S=700, H=850-870, СП",null,null,null,null,{"$f":"ROUND(P134*(1+'Повышение цен'!$C$10),0)","v":10608},10608,null,null,8812]
[null,null,"СРЦНЭ_100708587_СП",null,null,"СРЦНЭ","L=1000, S=700, H=850-870, СП",null,null,null,null,{"$f":"ROUND(P135*(1+'Повышение цен'!$C$10),0)","v":11958},11958,null,null,9934]
[null,null,"СРЦНЭ_120708587_СП",null,null,"СРЦНЭ","L=1200, S=700, H=850-870, СП",null,null,null,null,{"$f":"ROUND(P136*(1+'Повышение цен'!$C$10),0)","v":13307},13307,null,null,11054]
[null,null,"СРЦНЭ_150708587_СП",null,null,"СРЦНЭ","L=1500, S=700, H=850-870, СП",null,null,null,null,{"$f":"ROUND(P137*(1+'Повышение цен'!$C$10),0)","v":15329},15329,null,null,12734]
[null,null,"СРЦНЭ_180708587_СП",null,null,"СРЦНЭ","L=1800, S=700, H=850-870, СП",null,null,null,null,{"$f":"ROUND(P138*(1+'Повышение цен'!$C$10),0)","v":17351},17351,null,null,14414]
[]
[null,null,"Формула расчета цены",null,null,null,null,null,null,null,null,null,null,"Техническое описание"]
[null,"Артикул",null,"Длина,","Глубина,","Высота","Кол.","Доп.","Доп.",null,"Доп.","Базовая цена,","Ваша цена,","Нестандартной модели"]
[null,null,null,"мм","мм","мм","полок","опция","опция",null,"колеса","руб","руб",{"$f":"CONCATENATE(\"н/ст, толщина столешницы - 0,8 мм,\",IF(J143=\"СВ\",\"сварная конструкция\",\"разборная конструкция\"),\", сплошная полка \",IF(G144=\"\",1,G144), \"шт,\",\" каркас - нерж уголок 40*40*1,5 мм,\",IF(C143=\"СРПНЭ\",\"стол с бортом Нборта-40мм, отступ от края 100 мм\",\"стол без борта\"),\" Hстолешницы -40 мм, столешница усилена ЛДСП толщиной 16 мм,\",IF(K143=\"К\",\" 4 колеса(2 с тормозом)\",\"регулируемые ножки(+/-20мм)\"),\", длина \", D143,\"мм\",\", глубина \",E143,\"мм\",\" ,высота \",F143,\"мм, \", \"Объем в упаковке \",IF(J143=\"\",ROUND(D143/1000*E143/1000*0.255,2), ROUND(D143/1000*E143/1000*(F143+150)/1000,2)),\" м3\")","v":"н/ст, толщина столешницы - 0,8 мм,разборная конструкция, сплошная полка 1шт, каркас - нерж уголок 40*40*1,5 мм,стол без борта Hстолешницы -40 мм, столешница усилена ЛДСП толщиной 16 мм,регулируемые ножки(+/-20мм), длина 1000мм, глубина 700мм ,высота 870мм, Объем в упаковке 0,18 м3"}]
[null,{"$f":"UPPER(CONCATENATE(C143,\"_\",D143/10,E143/10,IF(AND(F146=870,K143=\"\"),8587,F146/10),\"_\",IF(G143=1,\"\",G143),H143,K143))","v":"СРЦНЭ_100708587_СП"},"СРЦНЭ",1000,700,870,null,"СП",null,null,null,{"$f":"ROUND((L144*IF(D144>1800,1.05,1)*IF(E144>700,1.05,1)*IF(F144>870,1.05,1)+IF(K143=\"К\",6000,0))*1.1*1.07*1.15*(1+'Повышение цен'!$C$10),0)","v":11958},{"$f":"ROUND(IF($D$4=\"С НДС\",L143*(1-$D$3),L143*(1-$D$3)/1.22),0)","v":11958}]
[null,null,null,{"$f":"IF(AND(D143>349,D143<2001),D143,\"не производим\")","v":1000},{"$f":"IF(AND(E143>399,E143<801),E143,\"не производим\")","v":700},{"$f":"IF(AND(F146>599,F146<1001),F146,\"не производим\")","v":870},{"$f":"IF(G143=\"\",1,G143)","v":1},null,null,null,null,{"$f":"IF(C143=\"СРПНЭ\",ROUND((((D144*E144*Техно!M12*Техно!N8*0.00001*1.4*Техно!N12)+((D144*E144*Техно!M12*Техно!N8*0.00001*1.3*Техно!N12)*G144)+(((D144-100)*80*0.00001*Техно!N8*Техно!M14*2)+((E144-100)*80*0.00001*Техно!N8*Техно!M14*2)+((F144-50)*80*0.00001*Техно!N8*Техно!M14*4))*Техно!N14)*1.18+((D144*0.001+E144*0.001)*0.9*Техно!N20)+(Техно!N25*0.2)+((Техно!N26+Техно!N27)*1.5))*1.18/0.68*(0.85+0.6944),0),IF(C143=\"СРЦНЭ\",ROUND((((D144*E144*Техно!M12*Техно!N8*0.00001*1.2*Техно!N12)+((D144*E144*Техно!M12*Техно!N8*0.00001*1.3*Техно!N12)*G144)+(((D144-100)*80*0.00001*Техно!N8*Техно!M14*2)+((E144-100)*80*0.00001*Техно!N8*Техно!M14*2)+((F144-50)*80*0.00001*Техно!N8*Техно!M14*4))*Техно!N14)*1.18+((D144*0.001+E144*0.001)*0.9*Техно!N20)+(Техно!N25*0.2)+((Техно!N26+Техно!N27)*1.5))*1.18/0.68*(0.85+0.6944),0)))","v":7339}]
[null,null,null,"350-2000","400-800","600-1000","1_2","СП",null,null,"К","Колеса"]
[null,null,null,null,null,{"$f":"IF(F143=850,870,F143)","v":870}]
[null,null,"СРПНЭ","с бортом"]
[null,null,"СРЦНЭ","без борта"]
[]
[]
[null,"Стол с бортом со сплошной полкой (СРПЦ Э; СП)"]
[]
[null,"Изображение","Артикул",null,null,"Модель","Характеристика номенклатуры",null,null,null,null,"Базовая цена,","Ваша цена,","Техническое описание",null,"Базовая цена,"]
[null,null,null,null,null,null,null,null,null,null,null,"руб","руб",null,null,"руб"]
[null,null,"СРПЦЭ_60608587_СП",null,null,"СРПЦЭ","L=600, S=600, H=850-870, СП",null,null,null,null,{"$f":"ROUND(P155*(1+'Повышение цен'!$C$10),0)","v":7872},{"$f":"ROUND(IF($D$4=\"С НДС\",L155*(1-$D$3),L155*(1-$D$3)/1.22),0)","v":7872},"н/ст, толщина столешницы - 0,8 мм, разборная конструкция, сплошная полка, каркас - оцин. уголок 40*40*1,5 мм, Hстолешницы -40 мм, Hборта - 40 мм, столешница усилена ЛДСП толщиной 16 мм, регулируемые ножки(+/-20мм), отступ от края 100 мм",null,6539]
[null,null,"СРПЦЭ_80608587_СП",null,null,"СРПЦЭ","L=800, S=600, H=850-870, СП",null,null,null,null,{"$f":"ROUND(P156*(1+'Повышение цен'!$C$10),0)","v":9079},9079,null,null,7542]
[null,null,"СРПЦЭ_100608587_СП",null,null,"СРПЦЭ","L=1000, S=600, H=850-870, СП",null,null,null,null,{"$f":"ROUND(P157*(1+'Повышение цен'!$C$10),0)","v":10284},10284,null,null,8543]
[null,null,"СРПЦЭ_120608587_СП",null,null,"СРПЦЭ","L=1200, S=600, H=850-870, СП",null,null,null,null,{"$f":"ROUND(P158*(1+'Повышение цен'!$C$10),0)","v":11490},11490,null,null,9545]
[null,null,"СРПЦЭ_150608587_СП",null,null,"СРПЦЭ","L=1500, S=600, H=850-870, СП",null,null,null,null,{"$f":"ROUND(P159*(1+'Повышение цен'!$C$10),0)","v":13298},13298,null,null,11047]
[null,null,"СРПЦЭ_180608587_СП",null,null,"СРПЦЭ","L=1800, S=600, H=850-870, СП",null,null,null,null,{"$f":"ROUND(P160*(1+'Повышение цен'!$C$10),0)","v":15109},15109,null,null,12551]
[]
[null,null,"СРПЦЭ_60708587_СП",null,null,"СРПЦЭ","L=600, S=700, H=850-870, СП",null,null,null,null,{"$f":"ROUND(P162*(1+'Повышение цен'!$C$10),0)","v":8473},{"$f":"ROUND(IF($D$4=\"С НДС\",L162*(1-$D$3),L162*(1-$D$3)/1.22),0)","v":8473},null,null,7039]
[null,null,"СРПЦЭ_80708587_СП",null,null,"СРПЦЭ","L=800, S=700, H=850-870, СП",null,null,null,null,{"$f":"ROUND(P163*(1+'Повышение цен'!$C$10),0)","v":9841},9841,null,null,8175]
[null,null,"СРПЦЭ_100708587_СП",null,null,"СРПЦЭ","L=1000, S=700, H=850-870, СП",null,null,null,null,{"$f":"ROUND(P164*(1+'Повышение цен'!$C$10),0)","v":11207},11207,null,null,9310]
[null,null,"СРПЦЭ_120708587_СП",null,null,"СРПЦЭ","L=1200, S=700, H=850-870, СП",null,null,null,null,{"$f":"ROUND(P165*(1+'Повышение цен'!$C$10),0)","v":12572},12572,null,null,10444]
[null,null,"СРПЦЭ_150708587_СП",null,null,"СРПЦЭ","L=1500, S=700, H=850-870, СП",null,null,null,null,{"$f":"ROUND(P166*(1+'Повышение цен'!$C$10),0)","v":14621},14621,null,null,12146]
[null,null,"СРПЦЭ_180708587_СП",null,null,"СРПЦЭ","L=1800, S=700, H=850-870, СП",null,null,null,null,{"$f":"ROUND(P167*(1+'Повышение цен'!$C$10),0)","v":16670},16670,null,null,13848]
[]
[]
[null,"Стол без борта со сплошной полкой (СРЦЦ Э; СП)"]
[]
[null,"Изображение","Артикул",null,null,"Модель","Характеристика номенклатуры",null,null,null,null,"Базовая цена,","Ваша цена,","Техническое описание",null,"Базовая цена,"]
[null,null,null,null,null,null,null,null,null,null,null,"руб","руб",null,null,"руб"]
[null,null,"СРЦЦЭ_60608587_СП",null,null,"СРЦЦЭ","L=600, S=600, H=850-870, СП",null,null,null,null,{"$f":"ROUND(P174*(1+'Повышение цен'!$C$10),0)","v":7660},{"$f":"ROUND(IF($D$4=\"С НДС\",L174*(1-$D$3),L174*(1-$D$3)/1.22),0)","v":7660},"н/ст, толщина столешницы - 0,8 мм, разборная конструкция, сплошная полка, каркас - оцин. уголок 40*40*1,5 мм, Hстолешницы -40 мм, без борта, столешница усилена ЛДСП толщиной 16 мм, регулируемые ножки(+/-20мм), ",null,6363]
[null,null,"СРЦЦЭ_80608587_СП",null,null,"СРЦЦЭ","L=800, S=600, H=850-870, СП",null,null,null,null,{"$f":"ROUND(P175*(1+'Повышение цен'!$C$10),0)","v":8795},8795,null,null,7306]
[null,null,"СРЦЦЭ_100608587_СП",null,null,"СРЦЦЭ","L=1000, S=600, H=850-870, СП",null,null,null,null,{"$f":"ROUND(P176*(1+'Повышение цен'!$C$10),0)","v":9929},9929,null,null,8248]
[null,null,"СРЦЦЭ_120608587_СП",null,null,"СРЦЦЭ","L=1200, S=600, H=850-870, СП",null,null,null,null,{"$f":"ROUND(P177*(1+'Повышение цен'!$C$10),0)","v":11065},11065,null,null,9192]
[null,null,"СРЦЦЭ_150608587_СП",null,null,"СРЦЦЭ","L=1500, S=600, H=850-870, СП",null,null,null,null,{"$f":"ROUND(P178*(1+'Повышение цен'!$C$10),0)","v":12767},12767,null,null,10606]
[null,null,"СРЦЦЭ_180608587_СП",null,null,"СРЦЦЭ","L=1800, S=600, H=850-870, СП",null,null,null,null,{"$f":"ROUND(P179*(1+'Повышение цен'!$C$10),0)","v":14471},14471,null,null,12021]
[]
[null,null,"СРЦЦЭ_60708587_СП",null,null,"СРЦЦЭ","L=600, S=700, H=850-870, СП",null,null,null,null,{"$f":"ROUND(P181*(1+'Повышение цен'!$C$10),0)","v":8227},{"$f":"ROUND(IF($D$4=\"С НДС\",L181*(1-$D$3),L181*(1-$D$3)/1.22),0)","v":8227},null,null,6834]
[null,null,"СРЦЦЭ_80708587_СП",null,null,"СРЦЦЭ","L=800, S=700, H=850-870, СП",null,null,null,null,{"$f":"ROUND(P182*(1+'Повышение цен'!$C$10),0)","v":9509},9509,null,null,7899]
[null,null,"СРЦЦЭ_100708587_СП",null,null,"СРЦЦЭ","L=1000, S=700, H=850-870, СП",null,null,null,null,{"$f":"ROUND(P183*(1+'Повышение цен'!$C$10),0)","v":10792},10792,null,null,8965]
[null,null,"СРЦЦЭ_120708587_СП",null,null,"СРЦЦЭ","L=1200, S=700, H=850-870, СП",null,null,null,null,{"$f":"ROUND(P184*(1+'Повышение цен'!$C$10),0)","v":12075},12075,null,null,10031]
[null,null,"СРЦЦЭ_150708587_СП",null,null,"СРЦЦЭ","L=1500, S=700, H=850-870, СП",null,null,null,null,{"$f":"ROUND(P185*(1+'Повышение цен'!$C$10),0)","v":14001},14001,null,null,11631]
[null,null,"СРЦЦЭ_180708587_СП",null,null,"СРЦЦЭ","L=1800, S=700, H=850-870, СП",null,null,null,null,{"$f":"ROUND(P186*(1+'Повышение цен'!$C$10),0)","v":15926},15926,null,null,13230]
[]
[null,null,"Формула расчета цены",null,null,null,null,null,null,null,null,null,null,"Техническое описание"]
[null,"Артикул",null,"Длина,","Глубина,","Высота","Кол.","Доп.","Доп.",null,"Доп.","Базовая цена,","Ваша цена,","Нестандартной модели"]
[null,null,null,"мм","мм","мм","полок","опция","опция",null,"колеса","руб","руб",{"$f":"CONCATENATE(\"н/ст, толщина столешницы - 0,8 мм,\",\"разборная конструкция\",\", сплошная полка \",IF(G192=\"\",1,G192), \"шт,\",\" каркас - оцин уголок 40*40*1,5 мм,\",IF(C191=\"СРПНЭ\",\"стол с бортом Нборта-40мм, отступ от края 100 мм\",\"стол без борта\"),\" Hстолешницы -40 мм, столешница усилена ЛДСП толщиной 16 мм,\",IF(K191=\"К\",\" 4 колеса(2 с тормозом)\",\"регулируемые ножки(+/-20мм)\"),\", длина \", D191,\"мм\",\", глубина \",E191,\"мм\",\" ,высота \",F191,\"мм, \", \"Объем в упаковке \",IF(J191=\"\",ROUND(D191/1000*E191/1000*0.255,2), ROUND(D191/1000*E191/1000*(F191+150)/1000,2)),\" м3\")","v":"н/ст, толщина столешницы - 0,8 мм,разборная конструкция, сплошная полка 1шт, каркас - оцин уголок 40*40*1,5 мм,стол без борта Hстолешницы -40 мм, столешница усилена ЛДСП толщиной 16 мм,регулируемые ножки(+/-20мм), длина 1000мм, глубина 700мм ,высота 870мм, Объем в упаковке 0,18 м3"}]
[null,{"$f":"UPPER(CONCATENATE(C191,\"_\",D191/10,E191/10,IF(AND(F194=870,K191=\"\"),8587,F194/10),\"_\",IF(G191=1,\"\",G191),H191,K191))","v":"СРЦЦЭ_100708587_СП"},"СРЦЦЭ",1000,700,870,null,"СП",null,null,null,{"$f":"ROUND((L192*IF(D192>1800,1.05,1)*IF(E192>700,1.05,1)*IF(F192>870,1.05,1)+IF(K191=\"К\",6000,0))*1.1*1.07*1.15*(1+'Повышение цен'!$C$10),0)","v":10793},{"$f":"ROUND(IF($D$4=\"С НДС\",L191*(1-$D$3),L191*(1-$D$3)/1.22),0)","v":10793}]
[null,null,null,{"$f":"IF(AND(D191>349,D191<2001),D191,\"не производим\")","v":1000},{"$f":"IF(AND(E191>399,E191<801),E191,\"не производим\")","v":700},{"$f":"IF(AND(F194>599,F194<1001),F194,\"не производим\")","v":870},{"$f":"IF(G191=\"\",1,G191)","v":1},null,null,null,null,{"$f":"IF(C191=\"СРПЦЭ\",ROUND((((D192*E192*Техно!M12*Техно!N8*0.00001*1.4*Техно!N12)+((D192*E192*Техно!M12*Техно!N8*0.00001*1.3*Техно!N12)*G192)+(((D192-100)*80*0.00001*Техно!N8*Техно!M15*2)+((E192-100)*80*0.00001*Техно!N8*Техно!M15*2)+((F192-50)*80*0.00001*Техно!N8*Техно!M15*4))*Техно!N15)*1.18+((D192*0.001+E192*0.001)*0.9*Техно!N20)+(Техно!N25*0.2)+((Техно!N26+Техно!N27)*1.5))*1.18/0.67*(0.85+0.6944),0),IF(C191=\"СРЦЦЭ\",ROUND((((D192*E192*Техно!M12*Техно!N8*0.00001*1.2*Техно!N12)+((D192*E192*Техно!M12*Техно!N8*0.00001*1.3*Техно!N12)*G192)+(((D192-100)*80*0.00001*Техно!N8*Техно!M15*2)+((E192-100)*80*0.00001*Техно!N8*Техно!M15*2)+((F192-50)*80*0.00001*Техно!N8*Техно!M15*4))*Техно!N15)*1.18+((D192*0.001+E192*0.001)*0.9*Техно!N20)+(Техно!N25*0.2)+((Техно!N26+Техно!N27)*1.5))*1.18/0.67*(0.85+0.6944),0)))","v":6624}]
[null,null,null,"350-2000","400-800","600-1000","1_2","СП",null,null,"К","Колеса"]
[null,null,null,null,null,{"$f":"IF(F191=850,870,F191)","v":870}]
[null,null,"СРПЦЭ","с бортом"]
[null,null,"СРЦЦЭ","без борта"]

{"sheet":"Столы конд_разделочные","index":7,"n_rows":100,"n_cols":15,"rows_kept":100,"cut":false,"hidden":true,"merged":[[87,2,87,4],[87,6,87,9],[69,6,69,9],[72,1,72,10],[74,1,75,1],[65,2,65,4],[91,12,91,13],[91,6,91,7],[90,12,90,13],[84,2,84,4],[84,6,84,9],[88,2,88,4],[88,6,88,9],[90,2,90,11],[74,12,75,13],[76,2,76,4],[76,6,76,9],[76,12,88,13],[77,2,77,4],[77,6,77,9],[78,2,78,4],[78,6,78,9],[79,2,79,4],[79,6,79,9],[92,6,92,7],[92,12,99,13],[93,6,93,7],[94,6,94,7],[95,6,95,7],[95,10,95,11],[96,6,96,7],[96,10,96,11],[99,3,99,7],[97,8,97,11],[98,8,98,11],[98,6,98,7],[97,6,97,7],[74,2,75,4],[74,5,75,5],[74,6,75,9],[86,2,86,4],[86,6,86,9],[80,2,80,4],[80,6,80,9],[81,2,81,4],[81,6,81,9],[83,2,83,4],[83,6,83,9],[85,2,85,4],[85,6,85,9],[57,1,69,1],[57,2,57,4],[57,6,57,9],[57,12,69,13],[58,2,58,4],[58,6,58,9],[59,2,59,4],[59,6,59,9],[60,2,60,4],[65,6,65,9],[66,2,66,4],[66,6,66,9],[67,2,67,4],[67,6,67,9],[60,6,60,9],[61,2,61,4],[61,6,61,9],[62,2,62,4],[62,6,62,9],[64,2,64,4],[64,6,64,9],[68,2,68,4],[68,6,68,9],[69,2,69,4],[53,1,53,10],[55,1,56,1],[55,2,56,4],[55,5,56,5],[55,6,56,9],[41,2,41,4],[41,6,41,9],[43,2,43,11],[55,12,56,13],[44,6,44,7],[45,6,45,7],[46,6,46,7],[50,3,50,5],[50,6,50,7],[51,6,51,7],[43,12,43,13],[44,2,45,2],[44,12,44,13],[45,12,51,13],[48,10,48,11],[49,10,49,11],[38,2,38,4],[38,6,38,9],[39,2,39,4],[39,6,39,9],[40,2,40,4],[40,6,40,9],[50,8,50,11],[51,8,51,11],[27,12,28,13],[29,2,29,4],[29,6,29,9],[29,12,41,13],[30,2,30,4],[30,6,30,9],[34,2,34,4],[34,6,34,9],[36,2,36,4],[36,6,36,9],[37,2,37,4],[37,6,37,9],[31,2,31,4],[31,6,31,9],[32,2,32,4],[32,6,32,9],[33,2,33,4],[33,6,33,9],[25,1,25,10],[19,2,19,4],[19,6,19,9],[20,2,20,4],[20,6,20,9],[21,2,21,4],[21,6,21,9],[27,1,28,1],[27,2,28,4],[27,5,28,5],[27,6,28,9],[18,6,18,9],[11,1,23,1],[11,2,11,4],[11,6,11,9],[22,2,22,4],[22,6,22,9],[23,2,23,4],[23,6,23,9],[24,0,24,11],[1,0,1,2],[2,0,2,2],[3,0,3,2],[3,4,3,8],[6,1,6,10],[7,2,8,11],[11,12,23,13],[12,2,12,4],[12,6,12,9],[13,2,13,4],[13,6,13,9],[14,2,14,4],[14,6,14,9],[9,0,10,0],[9,1,10,1],[9,2,10,4],[9,5,10,5],[9,6,10,9],[9,12,10,13],[15,2,15,4],[15,6,15,9],[16,2,16,4],[16,6,16,9],[18,2,18,4]]}
["Нейтральное оборудование/Столы кондитерские и с пропиленовой столешницей",null,null,null,null,null,null,null,null,null,null,null,null,"На главную"]
[]
["Ваша скидка:",null,null,{"$f":"Содержание!C2","v":0}]
["НДС:",null,null,{"$f":"IF(Лист2!A1=TRUE,\"С НДС\",\"БЕЗ НДС\")","v":"С НДС"},"Складская программа"]
[]
[]
[null,"Стол кондитерский с нижней полкой (ССБ Ш; СП)"]
[]
[]
[null,"Изображение","Артикул",null,null,"Модель","Характеристика номенклатуры",null,null,null,"Базовая цена,","Ваша цена,","Техническое описание",null,"Базовая цена,"]
[null,null,null,null,null,null,null,null,null,null,"руб","руб",null,null,"руб"]
[null,null,"ССБШ_60608587_СП",null,null,"ССБШ","L=600, S=600, H=850-870, СП",null,null,null,{"$f":"ROUND(O12*(1+'Повышение цен'!$C$9),0)","v":31151},{"$f":"ROUND(IF($D$4=\"С НДС\",K12*(1-$D$3),K12*(1-$D$3)/1.2),0)","v":31151},"шлифованная н/ст, столешницы - Бук, неразборная конструкция,нижний фартук, каркас - труба 40*40*1,2 мм, Hстолешницы -30 мм(бук), сплошная полка; регулируемые ножки (+/-20мм), ",null,25878]
[null,null,"ССБШ_80608587_СП",null,null,"ССБШ","L=800, S=600, H=850-870, СП",null,null,null,{"$f":"ROUND(O13*(1+'Повышение цен'!$C$9),0)","v":32438},32438,null,null,26947]
[null,null,"ССБШ_100608587_СП",null,null,"ССБШ","L=1000, S=600, H=850-870, СП",null,null,null,{"$f":"ROUND(O14*(1+'Повышение цен'!$C$9),0)","v":33727},33727,null,null,28018]
[null,null,"ССБШ_120608587_СП",null,null,"ССБШ","L=1200, S=600, H=850-870, СП",null,null,null,{"$f":"ROUND(O15*(1+'Повышение цен'!$C$9),0)","v":35018},35018,null,null,29090]
[null,null,"ССБШ_150608587_СП",null,null,"ССБШ","L=1500, S=600, H=850-870, СП",null,null,null,{"$f":"ROUND(O16*(1+'Повышение цен'!$C$9),0)","v":36954},36954,null,null,30698]
[null,null,"ССБШ_180608587_СП",null,null,"ССБШ","L=1800, S=600, H=850-870, СП",null,null,null,{"$f":"ROUND(O17*(1+'Повышение цен'!$C$9),0)","v":38886},38886,null,null,32303]
[]
[null,null,"ССБШ_60708587_СП",null,null,"ССБШ","L=600, S=700, H=850-870, СП",null,null,null,{"$f":"ROUND(O19*(1+'Повышение цен'!$C$9),0)","v":31794},31794,null,null,26412]
[null,null,"ССБШ_80708587_СП",null,null,"ССБШ","L=800, S=700, H=850-870, СП",null,null,null,{"$f":"ROUND(O20*(1+'Повышение цен'!$C$9),0)","v":33298},33298,null,null,27661]
[null,null,"ССБШ_100708587_СП",null,null,"ССБШ","L=1000, S=700, H=850-870, СП",null,null,null,{"$f":"ROUND(O21*(1+'Повышение цен'!$C$9),0)","v":34801},34801,null,null,28910]
[null,null,"ССБШ_120708587_СП",null,null,"ССБШ","L=1200, S=700, H=850-870, СП",null,null,null,{"$f":"ROUND(O22*(1+'Повышение цен'!$C$9),0)","v":36308},36308,null,null,30162]
[null,null,"ССБШ_150708587_СП",null,null,"ССБШ","L=1500, S=700, H=850-870, СП",null,null,null,{"$f":"ROUND(O23*(1+'Повышение цен'!$C$9),0)","v":38564},38564,null,null,32036]
[null,null,"ССБШ_180708587_СП",null,null,"ССБШ","L=1800, S=700, H=850-870, СП",null,null,null,{"$f":"ROUND(O24*(1+'Повышение цен'!$C$9),0)","v":40820},40820,null,null,33910]
[]
[null,"Стол кондитерский с обвязкой (ССБ Ш; ОБ)"]
[]
[null,"Изображение","Артикул",null,null,"Модель","Характеристика номенклатуры",null,null,null,"Базовая цена,","Ваша цена,","Техническое описание",null,"Базовая цена,"]
[null,null,null,null,null,null,null,null,null,null,"руб","руб",null,null,"руб"]
[null,null,"ССБШ_60608587_ОБ",null,null,"ССБШ","L=600, S=600, H=850-870, ОБ",null,null,null,{"$f":"ROUND(O30*(1+'Повышение цен'!$C$9),0)","v":28982},{"$f":"ROUND(IF($D$4=\"С НДС\",K30*(1-$D$3),K30*(1-$D$3)/1.2),0)","v":28982},"шлифованная н/ст, столешницы - Бук, неразборная конструкция, нижний фартук, каркас - труба 40*40*1,2 мм, Hстолешницы -30 мм(бук), обвязка; регулируемые ножки (+/-20мм), ",null,24076]
[null,null,"ССБШ_80608587_ОБ",null,null,"ССБШ","L=800, S=600, H=850-870, ОБ",null,null,null,{"$f":"ROUND(O31*(1+'Повышение цен'!$C$9),0)","v":29911},29911,null,null,24848]
[null,null,"ССБШ_100608587_ОБ",null,null,"ССБШ","L=1000, S=600, H=850-870, ОБ",null,null,null,{"$f":"ROUND(O32*(1+'Повышение цен'!$C$9),0)","v":30840},30840,null,null,25619]
[null,null,"ССБШ_120608587_ОБ",null,null,"ССБШ","L=1200, S=600, H=850-870, ОБ",null,null,null,{"$f":"ROUND(O33*(1+'Повышение цен'!$C$9),0)","v":31774},31774,null,null,26395]
[null,null,"ССБШ_150608587_ОБ",null,null,"ССБШ","L=1500, S=600, H=850-870, ОБ",null,null,null,{"$f":"ROUND(O34*(1+'Повышение цен'!$C$9),0)","v":33166},33166,null,null,27552]
[null,null,"ССБШ_180608587_ОБ",null,null,"ССБШ","L=1800, S=600, H=850-870, ОБ",null,null,null,{"$f":"ROUND(O35*(1+'Повышение цен'!$C$9),0)","v":34563},34563,null,null,28712]
[]
[null,null,"ССБШ_60708587_ОБ",null,null,"ССБШ","L=600, S=700, H=850-870, ОБ",null,null,null,{"$f":"ROUND(O37*(1+'Повышение цен'!$C$9),0)","v":29443},{"$f":"ROUND(IF($D$4=\"С НДС\",K37*(1-$D$3),K37*(1-$D$3)/1.2),0)","v":29443},null,null,24459]
[null,null,"ССБШ_80708587_ОБ",null,null,"ССБШ","L=800, S=700, H=850-870, ОБ",null,null,null,{"$f":"ROUND(O38*(1+'Повышение цен'!$C$9),0)","v":30530},30530,null,null,25362]
[null,null,"ССБШ_100708587_ОБ",null,null,"ССБШ","L=1000, S=700, H=850-870, ОБ",null,null,null,{"$f":"ROUND(O39*(1+'Повышение цен'!$C$9),0)","v":31617},31617,null,null,26265]
[null,null,"ССБШ_120708587_ОБ",null,null,"ССБШ","L=1200, S=700, H=850-870, ОБ",null,null,null,{"$f":"ROUND(O40*(1+'Повышение цен'!$C$9),0)","v":32702},32702,null,null,27166]
[null,null,"ССБШ_150708587_ОБ",null,null,"ССБШ","L=1500, S=700, H=850-870, ОБ",null,null,null,{"$f":"ROUND(O41*(1+'Повышение цен'!$C$9),0)","v":34331},34331,null,null,28519]
[null,null,"ССБШ_180708587_ОБ",null,null,"ССБШ","L=1800, S=700, H=850-870, ОБ",null,null,null,{"$f":"ROUND(O42*(1+'Повышение цен'!$C$9),0)","v":35959},35959,null,null,29872]
[]
[null,null,"Формула расчета цены",null,null,null,null,null,null,null,null,null,"Техническое описание"]
[null,"Артикул","Модель","Длина,","Глубина,","Высота","Исполнение",null,"Доп.","Доп.","Базовая цена,","Ваша цена,","Нестандартной модели"]
[null,null,null,"мм","мм","мм","полка/обв",null,"опция","колеса","руб","руб",{"$f":"CONCATENATE(\"шлифованная н/ст, столешница бук - 30 мм, неразборная конструкция, нижний фартук\",\", каркас - труба 40*40*1,2 мм,\",IF(G47=\"СП\",\" сплошная полка, R36\",\"обвязка, \"),IF(J47=\"К\",\", 4 колеса(2 с тормозом)\",\"регулируемые ножки(+/-20мм)\"),\", длина \", D47,\"мм\",\", глубина \",E47,\"мм\",\" ,высота \",F47,\"мм, \", \"Объем в упаковке \",ROUND(D47/1000*E47/1000*(F47+150)/1000,2),\" м3\")","v":"шлифованная н/ст, столешница бук - 30 мм, неразборная конструкция, нижний фартук, каркас - труба 40*40*1,2 мм, сплошная полка, R36регулируемые ножки(+/-20мм), длина 1500мм, глубина 700мм ,высота 850мм, Объем в упаковке 1,05 м3"}]
[null,{"$f":"UPPER(CONCATENATE(C47,\"_\",D47/10,E47/10,IF(AND(J47=\"\",F50=850),8587,F50/10),\"_\",G47,H47,I47,J47))","v":"ССБШ_150708587_СП"},"ССБШ",1500,700,850,"СП",null,null,null,{"$f":"ROUND(((K48*IF(D48>1800,1.05,1)*IF(E48>700,1.05,1)*IF(F48>870,1.05,1)+IF(J47=\"К\",6000,0))*1.1)*1.05*1.07*1.1*(1+'Повышение цен'!$C$9),0)","v":38565},{"$f":"ROUND(IF($D$4=\"С НДС\",K47*(1-$D$3),K47*(1-$D$3)/1.2),0)","v":38565}]
[null,null,null,{"$f":"IF(AND(D47>399,D47<2001),D47,\"не производим\")","v":1500},{"$f":"IF(AND(E47>399,E47<1001),E47,\"не производим\")","v":700},{"$f":"IF(AND(F50>599,F50<1011),F50,\"не производим\")","v":850},null,null,null,null,{"$f":"IF(G47=\"СП\",ROUND(ROUND(ROUND((((2920*1.62/2)*(D48*E48)/1000000+380*2.5+230+30000*1.5*(D48*E48*0.03)/1000000)+1500*F48/850*F48/850+1500*4.5)*1.18,0)*0.97,0)*(0.85+0.6944),0),IF(G47=\"ОБ\",ROUND(ROUND(ROUND((((2920*1.62/2)*(D48*E48*0.8)/1000000+380*2.5+230+30000*1.5*(D48*E48*0.02)/1000000)+1500*F48/850*F48/850+1500*4.5)*1.18,0)*0.97*0.96,0)*(0.85+0.6944),0)))","v":23566}]
[null,null,null,"400-2000","400-1000","600-1000",null,null,null,"К","Колеса"]
[null,null,null,null,null,{"$f":"IF(F47=870,850,F47)","v":850}]
[null,null,"ССБШ","стол с буковой столешницей",null,null,"ОБ",null,"обвязка"]
[null,null,null,null,null,null,"СП",null,"сплошная полка"]
[]
[null,"Стол разделочный с полипропиленой столешницей с нижней полкой (ССП Ш; СП)"]
[]
[null,"Изображение","Артикул",null,null,"Модель","Характеристика номенклатуры",null,null,null,"Базовая цена,","Ваша цена,","Техническое описание",null,"Базовая цена,"]
[null,null,null,null,null,null,null,null,null,null,"руб","руб",null,null,"руб"]
[null,null,"ССПШ_60608587_СП",null,null,"ССПШ","L=600, S=600, H=850-870, СП",null,null,null,{"$f":"ROUND(O58*(1+'Повышение цен'!$C$9),0)","v":27420},{"$f":"ROUND(IF($D$4=\"С НДС\",K58*(1-$D$3),K58*(1-$D$3)/1.2),0)","v":27420},"шлифованная н/ст, столешницы - полипропилен, неразборная конструкция,нижний фартук, каркас - труба 40*40*1,2 мм, Hстолешницы -30 мм(полипропилен), сплошная полка; регулируемые ножки (+/-20мм), ",null,22778]
[null,null,"ССПШ_80608587_СП",null,null,"ССПШ","L=800, S=600, H=850-870, СП",null,null,null,{"$f":"ROUND(O59*(1+'Повышение цен'!$C$9),0)","v":30942},30942,null,null,25704]
[null,null,"ССПШ_100608587_СП",null,null,"ССПШ","L=1000, S=600, H=850-870, СП",null,null,null,{"$f":"ROUND(O60*(1+'Повышение цен'!$C$9),0)","v":34463},34463,null,null,28629]
[null,null,"ССПШ_120608587_СП",null,null,"ССПШ","L=1200, S=600, H=850-870, СП",null,null,null,{"$f":"ROUND(O61*(1+'Повышение цен'!$C$9),0)","v":37984},37984,null,null,31554]
[null,null,"ССПШ_150608587_СП",null,null,"ССПШ","L=1500, S=600, H=850-870, СП",null,null,null,{"$f":"ROUND(O62*(1+'Повышение цен'!$C$9),0)","v":43269},43269,null,null,35944]
[null,null,"ССПШ_180608587_СП",null,null,"ССПШ","L=1800, S=600, H=850-870, СП",null,null,null,{"$f":"ROUND(O63*(1+'Повышение цен'!$C$9),0)","v":48547},48547,null,null,40329]
[]
[null,null,"ССПШ_60708587_СП",null,null,"ССПШ","L=600, S=700, H=850-870, СП",null,null,null,{"$f":"ROUND(O65*(1+'Повышение цен'!$C$9),0)","v":29181},{"$f":"ROUND(IF($D$4=\"С НДС\",K65*(1-$D$3),K65*(1-$D$3)/1.2),0)","v":29181},null,null,24241]
[null,null,"ССПШ_80708587_СП",null,null,"ССПШ","L=800, S=700, H=850-870, СП",null,null,null,{"$f":"ROUND(O66*(1+'Повышение цен'!$C$9),0)","v":33290},33290,null,null,27655]
[null,null,"ССПШ_100708587_СП",null,null,"ССПШ","L=1000, S=700, H=850-870, СП",null,null,null,{"$f":"ROUND(O67*(1+'Повышение цен'!$C$9),0)","v":37399},37399,null,null,31068]
[null,null,"ССПШ_120708587_СП",null,null,"ССПШ","L=1200, S=700, H=850-870, СП",null,null,null,{"$f":"ROUND(O68*(1+'Повышение цен'!$C$9),0)","v":41507},41507,null,null,34481]
[null,null,"ССПШ_150708587_СП",null,null,"ССПШ","L=1500, S=700, H=850-870, СП",null,null,null,{"$f":"ROUND(O69*(1+'Повышение цен'!$C$9),0)","v":47668},47668,null,null,39599]
[null,null,"ССПШ_180708587_СП",null,null,"ССПШ","L=1800, S=700, H=850-870, СП",null,null,null,{"$f":"ROUND(O70*(1+'Повышение цен'!$C$9),0)","v":53834},53834,null,null,44721]
[]
[]
[null,"Стол разделочный с полипропиленой столешницей с нижней обвязкой (ССП Ш; ОБ)"]
[]
[null,"Изображение","Артикул",null,null,"Модель","Характеристика номенклатуры",null,null,null,"Базовая цена,","Ваша цена,","Техническое описание",null,"Базовая цена,"]
[null,null,null,null,null,null,null,null,null,null,"руб","руб",null,null,"руб"]
[null,null,"ССПШ_60608587_ОБ",null,null,"ССПШ","L=600, S=600, H=850-870, ОБ",null,null,null,{"$f":"ROUND(O77*(1+'Повышение цен'!$C$9),0)","v":25835},{"$f":"ROUND(IF($D$4=\"С НДС\",K77*(1-$D$3),K77*(1-$D$3)/1.2),0)","v":25835},"шлифованная н/ст, столешницы - полипропилен, неразборная конструкция,нижний фартук, каркас - труба 40*40*1,2 мм, Hстолешницы -30 мм(полипропилен), обвязка; регулируемые ножки (+/-20мм), ",null,21462]
[null,null,"ССПШ_80608587_ОБ",null,null,"ССПШ","L=800, S=600, H=850-870, ОБ",null,null,null,{"$f":"ROUND(O78*(1+'Повышение цен'!$C$9),0)","v":28936},28936,null,null,24038]
[null,null,"ССПШ_100608587_ОБ",null,null,"ССПШ","L=1000, S=600, H=850-870, ОБ",null,null,null,{"$f":"ROUND(O79*(1+'Повышение цен'!$C$9),0)","v":32043},32043,null,null,26619]
[null,null,"ССПШ_120608587_ОБ",null,null,"ССПШ","L=1200, S=600, H=850-870, ОБ",null,null,null,{"$f":"ROUND(O80*(1+'Повышение цен'!$C$9),0)","v":35152},35152,null,null,29201]
[null,null,"ССПШ_150608587_ОБ",null,null,"ССПШ","L=1500, S=600, H=850-870, ОБ",null,null,null,{"$f":"ROUND(O81*(1+'Повышение цен'!$C$9),0)","v":39809},39809,null,null,33070]
[null,null,"ССПШ_180608587_ОБ",null,null,"ССПШ","L=1800, S=600, H=850-870, ОБ",null,null,null,{"$f":"ROUND(O82*(1+'Повышение цен'!$C$9),0)","v":44469},44469,null,null,36941]
[]
[null,null,"ССПШ_60708587_ОБ",null,null,"ССПШ","L=600, S=700, H=850-870, ОБ",null,null,null,{"$f":"ROUND(O84*(1+'Повышение цен'!$C$9),0)","v":27387},{"$f":"ROUND(IF($D$4=\"С НДС\",K84*(1-$D$3),K84*(1-$D$3)/1.2),0)","v":27387},null,null,22751]
[null,null,"ССПШ_80708587_ОБ",null,null,"ССПШ","L=800, S=700, H=850-870, ОБ",null,null,null,{"$f":"ROUND(O85*(1+'Повышение цен'!$C$9),0)","v":31008},31008,null,null,25759]
[null,null,"ССПШ_100708587_ОБ",null,null,"ССПШ","L=1000, S=700, H=850-870, ОБ",null,null,null,{"$f":"ROUND(O86*(1+'Повышение цен'!$C$9),0)","v":34634},34634,null,null,28771]
[null,null,"ССПШ_120708587_ОБ",null,null,"ССПШ","L=1200, S=700, H=850-870, ОБ",null,null,null,{"$f":"ROUND(O87*(1+'Повышение цен'!$C$9),0)","v":38257},38257,null,null,31781]
[null,null,"ССПШ_150708587_ОБ",null,null,"ССПШ","L=1500, S=700, H=850-870, ОБ",null,null,null,{"$f":"ROUND(O88*(1+'Повышение цен'!$C$9),0)","v":43694},43694,null,null,36297]
[null,null,"ССПШ_180708587_ОБ",null,null,"ССПШ","L=1800, S=700, H=850-870, ОБ",null,null,null,{"$f":"ROUND(O89*(1+'Повышение цен'!$C$9),0)","v":49129},49129,null,null,40812]
[]
[null,null,"Формула расчета цены",null,null,null,null,null,null,null,null,null,"Техническое описание"]
[null,"Артикул",null,"Длина,","Глубина,","Высота","Исполнение",null,"Доп.","Доп.","Базовая цена,","Ваша цена,","Нестандартной модели"]
[null,null,null,"мм","мм","мм","полка/обв",null,"опция","колеса","руб","руб",{"$f":"CONCATENATE(\"шлифованная н/ст, полипропиленовая столешница - 30 мм, неразборная конструкция, нижний фартук\",\", каркас - труба 40*40*1,2 мм,\",IF(G94=\"СП\",\" сплошная полка, R36\",\"обвязка, \"),IF(J94=\"К\",\", 4 колеса(2 с тормозом)\",\"регулируемые ножки(+/-20мм)\"),\", длина \", D94,\"мм\",\", глубина \",E94,\"мм\",\" ,высота \",F94,\"мм, \", \"Объем в упаковке \",ROUND(D94/1000*E94/1000*(F94+150)/1000,2),\" м3\")","v":"шлифованная н/ст, полипропиленовая столешница - 30 мм, неразборная конструкция, нижний фартук, каркас - труба 40*40*1,2 мм,обвязка, регулируемые ножки(+/-20мм), длина 1200мм, глубина 700мм ,высота 850мм, Объем в упаковке 0,84 м3"}]
[null,{"$f":"UPPER(CONCATENATE(C94,\"_\",D94/10,E94/10,IF(AND(F97=850,J94=\"\"),8587,F97/10),\"_\",G94,,I94,J94))","v":"ССПШ_120708587_ОБ"},"ССПШ",1200,700,850,"ОБ",null,null,null,{"$f":"ROUND((K95*IF(D95>1800,1.05,1)*IF(E95>700,1.05,1)*IF(F95>870,1.05,1)+IF(J94=\"К\",6000,0))*1.1,0)*1.05*1.07*1.1*(1+'Повышение цен'!$C$9)","v":38257.409695315298},{"$f":"ROUND(IF($D$4=\"С НДС\",K94*(1-$D$3),K94*(1-$D$3)/1.2),0)","v":38257}]
[null,null,null,{"$f":"IF(AND(D94>399,D94<2001),D94,\"не производим\")","v":1200},{"$f":"IF(AND(E94>399,E94<1001),E94,\"не производим\")","v":700},{"$f":"IF(AND(F97>599,F97<1001),F97,\"не производим\")","v":850},null,null,null,null,{"$f":"IF(G94=\"СП\",ROUND(ROUND(ROUND((((2920*1.62/2)*(D95*E95)/1000000+380*2.5+230+4300*1.75*(D95*E95)/1000000)+1000*F95/850*F95/850+1000*3.5)*1.18,0)*0.995,0)*(0.85+0.6944),0),IF(G94=\"ОБ\",ROUND(ROUND(ROUND((((2920*1.62/2)*(D95*E95*0.9)/1000000+380*2.5+230+4300*1.75*(D95*E95*0.9)/1000000)+1000*F95/850*F95/850+1000*3.5)*1.18,0)*0.975,0)*(0.85+0.6944),0)))","v":23378}]
[null,null,null,"400-2000","400-1000","600-1000",null,null,null,"К","Колеса"]
[null,null,null,null,null,{"$f":"IF(F94=870,850,F94)","v":850}]
[null,null,null,null,null,null,"ОБ",null,"обвязка"]
[null,null,null,null,null,null,"СП",null,"сплошная полка"]
[null,null,"ССПШ","стол с полипропиленово столешницей"]

{"sheet":"Столы для отходов","index":8,"n_rows":143,"n_cols":15,"rows_kept":143,"cut":false,"hidden":false,"merged":[[120,2,120,4],[120,6,120,9],[91,2,91,4],[91,6,91,9],[97,2,97,11],[111,1,111,10],[113,1,114,1],[113,2,114,4],[113,5,114,5],[113,6,114,9],[119,6,119,9],[95,6,95,9],[27,12,27,13],[28,2,29,2],[28,12,28,13],[29,12,38,13],[32,10,32,11],[33,10,33,11],[23,2,23,4],[23,6,23,9],[25,2,25,4],[11,12,25,13],[12,2,12,4],[12,6,12,9],[13,2,13,4],[13,6,13,9],[14,2,14,4],[14,6,14,9],[16,2,16,4],[19,2,19,4],[22,2,22,4],[22,6,22,9],[15,2,15,4],[15,6,15,9],[17,2,17,4],[17,6,17,9],[61,12,61,13],[62,2,63,2],[62,12,62,13],[63,12,72,13],[66,10,66,11],[67,10,67,11],[68,3,68,5],[68,8,68,11],[69,3,69,5],[69,8,69,11],[70,3,70,5],[71,3,71,5],[72,3,72,5],[61,2,61,11],[9,0,10,0],[9,1,10,1],[9,2,10,4],[9,5,10,5],[9,6,10,9],[9,12,10,13],[1,0,1,2],[2,0,2,2],[3,0,3,2],[6,1,6,10],[7,2,8,11],[40,1,40,10],[42,1,43,1],[42,2,43,4],[42,5,43,5],[42,6,43,9],[37,3,37,5],[38,3,38,5],[27,2,27,11],[34,8,34,11],[35,8,35,11],[34,3,34,5],[35,3,35,5],[36,3,36,5],[19,6,19,9],[11,1,25,1],[11,2,11,4],[11,6,11,9],[16,6,16,9],[24,2,24,4],[24,6,24,9],[20,2,20,4],[20,6,20,9],[21,2,21,4],[25,6,25,9],[21,6,21,9],[42,12,43,13],[44,1,58,1],[44,2,44,4],[44,6,44,9],[44,12,58,13],[45,2,45,4],[45,6,45,9],[47,2,47,4],[47,6,47,9],[48,2,48,4],[46,2,46,4],[46,6,46,9],[53,2,53,4],[57,2,57,4],[53,6,53,9],[57,6,57,9],[54,2,54,4],[54,6,54,9],[55,2,55,4],[55,6,55,9],[56,2,56,4],[56,6,56,9],[48,6,48,9],[49,2,49,4],[49,6,49,9],[50,2,50,4],[50,6,50,9],[52,2,52,4],[52,6,52,9],[58,2,58,4],[58,6,58,9],[77,1,77,10],[79,1,80,1],[79,2,80,4],[79,5,80,5],[79,6,80,9],[86,2,86,4],[86,6,86,9],[85,6,85,9],[82,2,82,4],[82,6,82,9],[79,12,80,13],[81,1,95,1],[81,2,81,4],[81,6,81,9],[81,12,95,13],[83,2,83,4],[83,6,83,9],[84,2,84,4],[84,6,84,9],[85,2,85,4],[94,2,94,4],[94,6,94,9],[90,2,90,4],[90,6,90,9],[92,2,92,4],[92,6,92,9],[93,2,93,4],[93,6,93,9],[95,2,95,4],[87,2,87,4],[87,6,87,9],[89,2,89,4],[89,6,89,9],[97,12,97,13],[98,2,99,2],[99,12,108,13],[102,10,102,11],[104,3,104,5],[105,3,105,5],[105,8,105,11],[106,3,106,5],[107,3,107,5],[108,3,108,5],[103,7,103,11],[104,7,104,11],[98,12,98,13],[113,12,114,13],[115,1,129,1],[115,2,115,4],[125,6,125,9],[126,2,126,4],[126,6,126,9],[128,2,128,4],[128,6,128,9],[129,2,129,4],[129,6,129,9],[123,2,123,4],[123,6,123,9],[124,2,124,4],[124,6,124,9],[125,2,125,4],[115,12,129,13],[116,2,116,4],[116,6,116,9],[117,2,117,4],[117,6,117,9],[118,2,118,4],[118,6,118,9],[115,6,115,9],[119,2,119,4],[121,2,121,4],[121,6,121,9],[131,2,131,11],[131,12,131,13],[132,2,133,2],[132,12,132,13],[133,12,142,13],[136,10,136,11],[137,7,137,11],[138,3,138,5],[127,2,127,4],[127,6,127,9],[138,7,138,11],[139,3,139,5],[140,3,140,5],[141,3,141,5],[142,3,142,5],[139,6,142,11]]}
["Нейтральное оборудование/Столы сбора отходов",null,null,null,null,null,null,null,null,null,null,null,null,"На главную"]
[]
["Ваша скидка:",null,null,{"$f":"Содержание!C2","v":0}]
["НДС:",null,null,{"$f":"IF(Лист2!A1=TRUE,\"С НДС\",\"БЕЗ НДС\")","v":"С НДС"}]
[]
[]
[null,"Стол для отходов с бортом с нижней обвязкой (СОП Ш; ОБ)"]
[]
[]
[null,"Изображение","Артикул",null,null,"Модель","Характеристика номенклатуры",null,null,null,"Базовая цена,","Ваша цена,","Техническое описание",null,"Базовая цена,"]
[null,null,null,null,null,null,null,null,null,null,"руб","руб",null,null,"руб"]
[null,null,"СОПШ_60608587_ОБ",null,null,"СОПШ","L=600, S=600, H=850-870, ОБ",null,null,null,{"$f":"ROUND(O12*(1+'Повышение цен'!$C$9),0)","v":16365},{"$f":"ROUND(IF($D$4=\"С НДС\",K12*(1-$D$3),K12*(1-$D$3)/1.22),0)","v":16365},"шлифованная н/ст, толщина столешницы - 1 мм, разборная конструкция, каркас - труба 40*40*1,2 мм, Hстолешницы -50 мм5, Hборта - 40 мм, столешница усилена ЛДСП толщиной 16 мм, отверстие 225 мм, расположение отверстия указано в названии стола , резиновое кольцо в комплекте, регулируемые ножки(+/-20мм), отступ от края 100 мм",null,13595]
[null,null,"СОПШЛ_80608587_ОБ",null,null,"СОПШЛ","L=800, S=600, H=850-870, ОБ",null,null,null,{"$f":"ROUND(O13*(1+'Повышение цен'!$C$9),0)","v":17438},{"$f":"ROUND(IF($D$4=\"С НДС\",K13*(1-$D$3),K13*(1-$D$3)/1.22),0)","v":17438},null,null,14486]
[null,null,"СОПШП_80608587_ОБ",null,null,"СОПШП","L=800, S=600, H=850-870, ОБ",null,null,null,{"$f":"ROUND(O14*(1+'Повышение цен'!$C$9),0)","v":17438},17438,null,null,14486]
[null,null,"СОПШЛ_100608587_ОБ",null,null,"СОПШЛ","L=1000, S=600, H=850-870, ОБ",null,null,null,{"$f":"ROUND(O15*(1+'Повышение цен'!$C$9),0)","v":18507},18507,null,null,15374]
[null,null,"СОПШП_100608587_ОБ",null,null,"СОПШП","L=1000, S=600, H=850-870, ОБ",null,null,null,{"$f":"ROUND(O16*(1+'Повышение цен'!$C$9),0)","v":18507},18507,null,null,15374]
[null,null,"СОПШЛ_120608587_ОБ",null,null,"СОПШЛ","L=1200, S=600, H=850-870, ОБ",null,null,null,{"$f":"ROUND(O17*(1+'Повышение цен'!$C$9),0)","v":19578},19578,null,null,16264]
[null,null,"СОПШП_120608587_ОБ",null,null,"СОПШП","L=1200, S=600, H=850-870, ОБ",null,null,null,{"$f":"ROUND(O18*(1+'Повышение цен'!$C$9),0)","v":19578},19578,null,null,16264]
[]
[null,null,"СОПШ_60708587_ОБ",null,null,"СОПШ","L=600, S=700, H=850-870, ОБ",null,null,null,{"$f":"ROUND(O20*(1+'Повышение цен'!$C$9),0)","v":17001},{"$f":"ROUND(IF($D$4=\"С НДС\",K20*(1-$D$3),K20*(1-$D$3)/1.22),0)","v":17001},null,null,14123]
[null,null,"СОПШЛ_80708587_ОБ",null,null,"СОПШЛ","L=800, S=700, H=850-870, ОБ",null,null,null,{"$f":"ROUND(O21*(1+'Повышение цен'!$C$9),0)","v":18164},18164,null,null,15089]
[null,null,"СОПШП_80708587_ОБ",null,null,"СОПШП","L=800, S=700, H=850-870, ОБ",null,null,null,{"$f":"ROUND(O22*(1+'Повышение цен'!$C$9),0)","v":18164},18164,null,null,15089]
[null,null,"СОПШЛ_100708587_ОБ",null,null,"СОПШЛ","L=1000, S=700, H=850-870, ОБ",null,null,null,{"$f":"ROUND(O23*(1+'Повышение цен'!$C$9),0)","v":19324},19324,null,null,16053]
[null,null,"СОПШП_100708587_ОБ",null,null,"СОПШП","L=1000, S=700, H=850-870, ОБ",null,null,null,{"$f":"ROUND(O24*(1+'Повышение цен'!$C$9),0)","v":19324},19324,null,null,16053]
[null,null,"СОПШЛ_120708587_ОБ",null,null,"СОПШЛ","L=1200, S=700, H=850-870, ОБ",null,null,null,{"$f":"ROUND(O25*(1+'Повышение цен'!$C$9),0)","v":20487},20487,null,null,17019]
[null,null,"СОПШП_120708587_ОБ",null,null,"СОПШП","L=1200, S=700, H=850-870, ОБ",null,null,null,{"$f":"ROUND(O26*(1+'Повышение цен'!$C$9),0)","v":20487},20487,null,null,17019]
[]
[null,null,"Формула расчета цены",null,null,null,null,null,null,null,null,null,"Техническое описание"]
[null,"Артикул","Модель","Длина,","Глубина,","Высота","Доп.","Доп.","Каркас","Доп.","Базовая цена,","Ваша цена,","Нестандартной модели"]
[null,null,null,"мм","мм","мм","опция","борт","раз/св","колеса","руб","руб",{"$f":"CONCATENATE(\"шлифованная н/ст, толщина столешницы - 1 мм,\",IF(I31=\"СВ\",\"сварная конструкция\",\"разборная конструкция\"),\", обвязка, каркас - труба 40*40*1,2 мм,\",IF(OR(OR(C31=\"СОПШ\",C31=\"СОПШП\"),C31=\"СОПШЛ\"),\"стол с бортом Нборта-40мм, отступ от края 100 мм\",\"стол без борта\"),IF(AND(OR(OR(C31=\"СОПШ\",C31=\"СОПШП\"),C31=\"СОПШЛ\"),G31=\"ОБ2Б\"),\", стол угловой с двумя бортами\",\"\"),IF(AND(G31=\"ОБ2Б\",H31=\"П\"),\", правый\",\"\"),IF(AND(G31=\"ОБ2Б\",H31=\"Л\"),\", левый\",\"\"),\" Hстолешницы -50 мм, столешница усилена ЛДСП толщиной 16 мм,\",\" отверстие 225 мм, резиновое кольцо в комплекте, \",IF(C31=\"СОПШЛ\",\"отверстие слева\",IF(C31=\"СОПШП\",\"отверстие справа\",IF(C31=\"СОПШ\",\"отверстие по центру\",IF(C31=\"СОЦШЛП\",\"отверстие сбоку\",IF(C31=\"СОЦШ\",\"отверстие по центру\",\"отверстие по центру\"))))),IF(J31=\"К\",\", 4 колеса(2 с тормозом)\",\", регулируемые ножки(+/-20мм)\"),\", длина \",D31,\"мм\",\", глубина \",E31,\"мм\",\" ,высота \",F31,\"мм, \", \"Объем в упаковке \",IF(I31=\"\",ROUND(D31/1000*E31/1000*0.255,2), ROUND(D31/1000*E31/1000*(F31+150)/1000,2)),\" м3\")","v":"шлифованная н/ст, толщина столешницы - 1 мм,разборная конструкция, обвязка, каркас - труба 40*40*1,2 мм,стол с бортом Нборта-40мм, отступ от края 100 мм Hстолешницы -50 мм, столешница усилена ЛДСП толщиной 16 мм, отверстие 225 мм, резиновое кольцо в комплекте, отверстие слева, регулируемые ножки(+/-20мм), длина 600мм, глубина 600мм ,высота 870мм, Объем в упаковке 0,09 м3"}]
[null,{"$f":"UPPER(CONCATENATE(C31,\"_\",D31/10,E31/10,IF(AND(J31=\"\",F34=850),8587,F34/10),\"_\",G31,H31,I31,J31))","v":"СОПШЛ_60608587_ОБ"},"СОПШЛ",600,600,870,"ОБ",null,null,null,{"$f":"ROUND(((K32*IF(D32>1500,1.05,1)*IF(E32>700,1.05,1)*IF(F32>870,1.05,1)+IF(J31=\"К\",6000,0))*1.1)*1.05*1.07,0)*1.1*(1+'Повышение цен'!$C$9)","v":16365.240808951323},{"$f":"ROUND(IF($D$4=\"С НДС\",K31*(1-$D$3),K31*(1-$D$3)/1.22),0)","v":16365}]
[null,null,null,{"$f":"IF(AND(D31>399,D31<2001),D31,\"не производим\")","v":600},{"$f":"IF(AND(E31>399,E31<801),E31,\"не производим\")","v":600},{"$f":"IF(AND(F34>599,F34<1001),F34,\"не производим\")","v":850},null,null,null,null,{"$f":"IF(OR(OR(C31=\"СОПШ\",C31=\"СОПШП\"),C31=\"СОПШЛ\"),IF(AND(I31=\"\",G31=\"ОБ\"),ROUND((((D32*E32*Техно!S10*Техно!T8*0.00001*1.2*Техно!T10)+(((F32-50)*0.001*4+(D32-50)*0.001+(E32-50)*2*0.001)*Техно!T19)+(((D32-100)*80*0.00001*Техно!T8*Техно!S14*2)+((E32-100)*80*0.00001*Техно!T8*Техно!S14*2))*Техно!T14)*1.18+((D32*0.001+E32*0.001)*0.9*Техно!T20)+(Техно!T25*0.35+Техно!T24)+((Техно!T26+Техно!T27)*3))*1.18/0.69*(0.85+0.6944),0),IF(AND(I31=\"СВ\",G31=\"ОБ\"),ROUND((((D32*E32*Техно!S10*Техно!T8*0.00001*1.2*Техно!T10)+(((F32-50)*0.001*4+(D32-50)*0.001+(E32-50)*2*0.001)*Техно!T19)+(((D32-100)*80*0.00001*Техно!T8*Техно!S14*2)+((E32-100)*80*0.00001*Техно!T8*Техно!S14*2))*Техно!T14)*1.18+((D32*0.001+E32*0.001)*0.9*Техно!T20)+(Техно!T25*0.35+Техно!T24)+((Техно!T26+Техно!T27)*3))*1.18/0.69*1.07*(0.85+0.6944),0),IF(AND(I31=\"\",G31=\"ОБ2Б\"),ROUND((((D32*E32*Техно!S10*Техно!T8*0.00001*1.2*Техно!T10)+(((F32-50)*0.001*4+(D32-50)*0.001+(E32-50)*2*0.001)*Техно!T19)+(((D32-100)*80*0.00001*Техно!T8*Техно!S14*2)+((E32-100)*80*0.00001*Техно!T8*Техно!S14*2))*Техно!T14)*1.18+((D32*0.001+E32*0.001)*0.9*Техно!T20)+(Техно!T25*0.35+Техно!T24)+((Техно!T26+Техно!T27)*3))*1.18/0.69*1.05*(0.85+0.6944),0),IF(AND(I31=\"СВ\",G31=\"ОБ2Б\"),ROUND((((D32*E32*Техно!S10*Техно!T8*0.00001*1.2*Техно!T10)+(((F32-50)*0.001*4+(D32-50)*0.001+(E32-50)*2*0.001)*Техно!T19)+(((D32-100)*80*0.00001*Техно!T8*Техно!S14*2)+((E32-100)*80*0.00001*Техно!T8*Техно!S14*2))*Техно!T14)*1.18+((D32*0.001+E32*0.001)*0.9*Техно!T20)+(Техно!T25*0.35+Техно!T24)+((Техно!T26+Техно!T27)*3))*1.18/0.69*1.05*1.07*(0.85+0.6944),0))))),IF(OR(C31=\"СОЦШ\",C31=\"СОЦШЛП\"),IF(I31=\"\",ROUND((((D32*E32*Техно!S10*Техно!T8*0.00001*1*Техно!T10)+(((F32-50)*0.001*4+(D32-50)*0.001+(E32-50)*2*0.001)*Техно!T19)+(((D32-100)*80*0.00001*Техно!T8*Техно!S14*2)+((E32-100)*80*0.00001*Техно!T8*Техно!S14*2))*Техно!T14)*1.18+((D32*0.001+E32*0.001)*0.9*Техно!T20)+(Техно!T25*0.35+Техно!T24)+((Техно!T26+Техно!T27)*2.2))*1.18/0.67*(0.85+0.6944),0),IF(I31=\"СВ\",ROUND((((D32*E32*Техно!S10*Техно!T8*0.00001*1*Техно!T10)+(((F32-50)*0.001*4+(D32-50)*0.001+(E32-50)*2*0.001)*Техно!T19)+(((D32-100)*80*0.00001*Техно!T8*Техно!S14*2)+((E32-100)*80*0.00001*Техно!T8*Техно!S14*2))*Техно!T14)*1.18+((D32*0.001+E32*0.001)*0.9*Техно!T20)+(Техно!T25*0.35+Техно!T24)+((Техно!T26+Техно!T27)*2.2))*1.18/0.67*1.07*(0.85+0.6944),0),))))","v":10000}]
[null,null,null,"400-2000","400-800","600-1000","ОБ",null,null,"К","Колеса"]
[null,null,null,null,null,{"$f":"IF(F31=870,850,F31)","v":850},null,null,"СВ",null,"Сварная конструкция"]
[null,null,"СОПШ","с бортом, отверстие по центру",null,null,"ОБ2Б","П","угловой стол(два борта сзади и справа)"]
[null,null,"СОПШЛ","с бортом, отверстие слева",null,null,"ОБ2Б","Л","угловой стол(два борта сзади и слева)"]
[null,null,"СОПШП","с бортом, отверстие справа"]
[null,null,"СОЦШ","без борта"]
[null,null,"СОЦШЛП","без борта, отверстие сбоку"]
[]
[null,"Стол для отходов с бортом с нижней обвязкой (СОПН Э1; ОБ)"]
[]
[null,"Изображение","Артикул",null,null,"Модель","Характеристика номенклатуры",null,null,null,"Базовая цена,","Ваша цена,","Техническое описание",null,"Базовая цена,"]
[null,null,null,null,null,null,null,null,null,null,"руб","руб",null,null,"руб"]
[null,null,"СОПНЭ1_60608587_ОБ",null,null,"СОПНЭ1","L=600, S=600, H=850-870, ОБ",null,null,null,{"$f":"ROUND(O45*(1+'Повышение цен'!$C$10),0)","v":15004},{"$f":"ROUND(IF($D$4=\"С НДС\",K45*(1-$D$3),K45*(1-$D$3)/1.22),0)","v":15004},"н/ст, толщина столешницы - 0,8 мм, разборная конструкция, каркас - труба 40*40*1,2 мм, Hстолешницы -40 мм, Hборта - 40 мм, столешница усилена ЛДСП толщиной 16 мм, отверстие 225 мм, расположение отверстия указано в названии стола , резиновое кольцо в комплект не входит, регулируемые ножки(+/-20мм), отступ от края 100 мм",null,12464]
[null,null,"СОПНЭ1Л_80608587_ОБ",null,null,"СОПНЭ1Л","L=800, S=600, H=850-870, ОБ",null,null,null,{"$f":"ROUND(O46*(1+'Повышение цен'!$C$10),0)","v":15890},15890,null,null,13200]
[null,null,"СОПНЭ1П_80608587_ОБ",null,null,"СОПНЭ1П","L=800, S=600, H=850-870, ОБ",null,null,null,{"$f":"ROUND(O47*(1+'Повышение цен'!$C$10),0)","v":15890},15890,null,null,13200]
[null,null,"СОПНЭ1Л_100608587_ОБ",null,null,"СОПНЭ1Л","L=1000, S=600, H=850-870, ОБ",null,null,null,{"$f":"ROUND(O48*(1+'Повышение цен'!$C$10),0)","v":16776},16776,null,null,13936]
[null,null,"СОПНЭ1П_100608587_ОБ",null,null,"СОПНЭ1П","L=1000, S=600, H=850-870, ОБ",null,null,null,{"$f":"ROUND(O49*(1+'Повышение цен'!$C$10),0)","v":16776},16776,null,null,13936]
[null,null,"СОПНЭ1Л_120608587_ОБ",null,null,"СОПНЭ1Л","L=1200, S=600, H=850-870, ОБ",null,null,null,{"$f":"ROUND(O50*(1+'Повышение цен'!$C$10),0)","v":17663},17663,null,null,14673]
[null,null,"СОПНЭ1П_120608587_ОБ",null,null,"СОПНЭ1П","L=1200, S=600, H=850-870, ОБ",null,null,null,{"$f":"ROUND(O51*(1+'Повышение цен'!$C$10),0)","v":17663},17663,null,null,14673]
[]
[null,null,"СОПНЭ1_60708587_ОБ",null,null,"СОПНЭ1","L=600, S=700, H=850-870, ОБ",null,null,null,{"$f":"ROUND(O53*(1+'Повышение цен'!$C$10),0)","v":15542},{"$f":"ROUND(IF($D$4=\"С НДС\",K53*(1-$D$3),K53*(1-$D$3)/1.22),0)","v":15542},null,null,12911]
[null,null,"СОПНЭ1Л_80708587_ОБ",null,null,"СОПНЭ1Л","L=800, S=700, H=850-870, ОБ",null,null,null,{"$f":"ROUND(O54*(1+'Повышение цен'!$C$10),0)","v":16494},16494,null,null,13702]
[null,null,"СОПНЭ1П_80708587_ОБ",null,null,"СОПНЭ1П","L=800, S=700, H=850-870, ОБ",null,null,null,{"$f":"ROUND(O55*(1+'Повышение цен'!$C$10),0)","v":16494},16494,null,null,13702]
[null,null,"СОПНЭ1Л_100708587_ОБ",null,null,"СОПНЭ1Л","L=1000, S=700, H=850-870, ОБ",null,null,null,{"$f":"ROUND(O56*(1+'Повышение цен'!$C$10),0)","v":17444},17444,null,null,14491]
[null,null,"СОПНЭ1П_100708587_ОБ",null,null,"СОПНЭ1П","L=1000, S=700, H=850-870, ОБ",null,null,null,{"$f":"ROUND(O57*(1+'Повышение цен'!$C$10),0)","v":17444},17444,null,null,14491]
[null,null,"СОПНЭ1Л_120708587_ОБ",null,null,"СОПНЭ1Л","L=1200, S=700, H=850-870, ОБ",null,null,null,{"$f":"ROUND(O58*(1+'Повышение цен'!$C$10),0)","v":18395},18395,null,null,15281]
[null,null,"СОПНЭ1П_120708587_ОБ",null,null,"СОПНЭ1П","L=1200, S=700, H=850-870, ОБ",null,null,null,{"$f":"ROUND(O59*(1+'Повышение цен'!$C$10),0)","v":18395},18395,null,null,15281]
[]
[]
[null,null,"Формула расчета цены",null,null,null,null,null,null,null,null,null,"Техническое описание"]
[null,"Артикул","Модель","Длина,","Глубина,","Высота","Доп.","Доп.","Каркас","Доп.","Базовая цена,","Ваша цена,","Нестандартной модели"]
[null,null,null,"мм","мм","мм","опция","опция","раз/св","колеса","руб","руб",{"$f":"CONCATENATE(\" н/ст, толщина столешницы - 0,8 мм,\",IF(I65=\"СВ\",\"сварная конструкция\",\"разборная конструкция\"),\", обвязка, каркас - труба 40*40*1,2 мм,\",IF(OR(OR(C65=\"СОПНЭ1\",C65=\"СОПНЭ1П\"),C65=\"СОПНЭ1Л\"),\"стол с бортом Нборта-40мм, отступ от края 100 мм\",\"стол без борта\"),\" Hстолешницы -40 мм, столешница усилена ЛДСП толщиной 16 мм,\",\" отверстие 225 мм, резиновое кольцо в комплект не входит, \",IF(C65=\"СОПНЭ1Л\",\"отверстие слева\",IF(C65=\"СОПНЭ1П\",\"отверстие справа\",IF(C65=\"СОПНЭ1\",\"отверстие по центру\",IF(C65=\"СОЦНЭ1ЛП\",\"отверстие сбоку\",IF(C65=\"СОЦНЭ1\",\"отверстие по центру\",\"отверстие\"))))),IF(J65=\"К\",\", 4 колеса(2 с тормозом)\",\", регулируемые ножки(+/-20мм)\"),\", длина \",D65,\"мм\",\", глубина \",E65,\"мм\",\" ,высота \",F65,\"мм, \", \"Объем в упаковке \",IF(I65=\"\",ROUND(D65/1000*E65/1000*0.255,2), ROUND(D65/1000*E65/1000*(F65+150)/1000,2)),\" м3\")","v":" н/ст, толщина столешницы - 0,8 мм,разборная конструкция, обвязка, каркас - труба 40*40*1,2 мм,стол с бортом Нборта-40мм, отступ от края 100 мм Hстолешницы -40 мм, столешница усилена ЛДСП толщиной 16 мм, отверстие 225 мм, резиновое кольцо в комплект не входит, отверстие по центру, регулируемые ножки(+/-20мм), длина 800мм, глубина 700мм ,высота 870мм, Объем в упаковке 0,14 м3"}]
[null,{"$f":"UPPER(CONCATENATE(C65,\"_\",D65/10,E65/10,IF(AND(J65=\"\",F68=850),8587,F68/10),\"_\",G65,H65,I65,J65))","v":"СОПНЭ1_80708587_ОБ"},"СОПНЭ1",800,700,870,"ОБ",null,null,null,{"$f":"ROUND((K66*IF(D66>1500,1.05,1)*IF(E66>700,1.05,1)*IF(F66>870,1.05,1)+IF(J65=\"К\",6000,0))*1.1*1.07*1.1*(1+'Повышение цен'!$C$10),0)","v":16494},{"$f":"ROUND(IF($D$4=\"С НДС\",K65*(1-$D$3),K65*(1-$D$3)/1.22),0)","v":16494}]
[null,null,null,{"$f":"IF(AND(D65>399,D65<2001),D65,\"не производим\")","v":800},{"$f":"IF(AND(E65>399,E65<801),E65,\"не производим\")","v":700},{"$f":"IF(AND(F68>599,F68<1001),F68,\"не производим\")","v":850},null,null,null,null,{"$f":"IF(OR(OR(C65=\"СОПНЭ1\",C65=\"СОПНЭ1П\"),C65=\"СОПНЭ1Л\"),IF(AND(I65=\"\",G65=\"ОБ\"),ROUND((((D66*E66*Техно!I12*Техно!J8*0.00001*1.2*Техно!J12)+(((F66-50)*0.001*4+(D66-50)*0.001+(E66-50)*2*0.001)*Техно!T19)+(((D66-100)*80*0.00001*Техно!T8*Техно!S14*2)+((E66-100)*80*0.00001*Техно!T8*Техно!S14*2))*Техно!T14)*1.18+((D66*0.001+E66*0.001)*0.9*Техно!T20)+(Техно!T25*0.35+Техно!T24)+((Техно!T26+Техно!T27)*3))*1.18/0.7*(0.85+0.6944),0),IF(AND(I65=\"СВ\",G65=\"ОБ\"),ROUND((((D66*E66*Техно!I12*Техно!J8*0.00001*1.2*Техно!J12)+(((F66-50)*0.001*4+(D66-50)*0.001+(E66-50)*2*0.001)*Техно!T19)+(((D66-100)*80*0.00001*Техно!T8*Техно!S14*2)+((E66-100)*80*0.00001*Техно!T8*Техно!S14*2))*Техно!T14)*1.18+((D66*0.001+E66*0.001)*0.9*Техно!T20)+(Техно!T25*0.35+Техно!T24)+((Техно!T26+Техно!T27)*3))*1.18/0.7*1.07*(0.85+0.6944),0))),IF(OR(C65=\"СОЦНЭ1\",C65=\"СОЦНЭ1ЛП\"),IF(I65=\"\",ROUND((((D66*E66*Техно!I12*Техно!J8*0.00001*1.2*Техно!J12)+(((F66-50)*0.001*4+(D66-50)*0.001+(E66-50)*2*0.001)*Техно!T19)+(((D66-100)*80*0.00001*Техно!T8*Техно!S14*2)+((E66-100)*80*0.00001*Техно!T8*Техно!S14*2))*Техно!T14)*1.18+((D66*0.001+E66*0.001)*0.9*Техно!T20)+(Техно!T25*0.35+Техно!T24)+((Техно!T26+Техно!T27)*2.2))*1.18/0.7*(0.85+0.6944),0),IF(I65=\"СВ\",ROUND((((D66*E66*Техно!I12*Техно!J8*0.00001*1.2*Техно!J12)+(((F66-50)*0.001*4+(D66-50)*0.001+(E66-50)*2*0.001)*Техно!T19)+(((D66-100)*80*0.00001*Техно!T8*Техно!S14*2)+((E66-100)*80*0.00001*Техно!T8*Техно!S14*2))*Техно!T14)*1.18+((D66*0.001+E66*0.001)*0.9*Техно!T20)+(Техно!T25*0.35+Техно!T24)+((Техно!T26+Техно!T27)*2.2))*1.18/0.7*1.07*(0.85+0.6944),0),))))","v":10583}]
[null,null,null,"400-2000","400-800","600-1000","ОБ",null,null,"К","Колеса"]
[null,null,null,null,null,{"$f":"IF(F65=870,850,F65)","v":850},null,null,"СВ",null,"Сварная конструкция"]
[null,null,"СОПНЭ1","с бортом, отверстие по центру"]
[null,null,"СОПНЭ1Л","с бортом, отверстие слева"]
[null,null,"СОПНЭ1П","с бортом, отверстие справа"]
[null,null,"СОЦНЭ1","без борта, отверстие по центру"]
[null,null,"СОЦНЭ1ЛП","без борта, отверстие сбоку"]
[]
[]
[]
[]
[null,"Стол для отходов с бортом с нижней обвязкой (СОПН Э; ОБ)"]
[]
[null,"Изображение","Артикул",null,null,"Модель","Характеристика номенклатуры",null,null,null,"Базовая цена,","Ваша цена,","Техническое описание",null,"Базовая цена,"]
[null,null,null,null,null,null,null,null,null,null,"руб","руб",null,null,"руб"]
[null,null,"СОПНЭ_60608587_ОБ",null,null,"СОПНЭ","L=600, S=600, H=850-870, ОБ",null,null,null,{"$f":"ROUND(O82*(1+'Повышение цен'!$C$10),0)","v":8731},{"$f":"ROUND(IF($D$4=\"С НДС\",K82*(1-$D$3),K82*(1-$D$3)/1.22),0)","v":8731},"н/ст, толщина столешницы - 0,8 мм, разборная конструкция, обвязка с четырех сторон, каркас - нерж уголок 40*40*1,5 мм, Hстолешницы -40 мм, Hборта - 40 мм, столешница усилена ЛДСП толщиной 16 мм, отверстие 225 мм, расположение отверстия указано в названии стола , резиновое кольцо в комплект не входит, регулируемые ножки(+/-20мм), отступ от края 100 мм",null,7253]
[null,null,"СОПНЭЛ_80608587_ОБ",null,null,"СОПНЭЛ","L=800, S=600, H=850-870, ОБ",null,null,null,{"$f":"ROUND(O83*(1+'Повышение цен'!$C$10),0)","v":9601},9601,null,null,7976]
[null,null,"СОПНЭП_80608587_ОБ",null,null,"СОПНЭП","L=800, S=600, H=850-870, ОБ",null,null,null,{"$f":"ROUND(O84*(1+'Повышение цен'!$C$10),0)","v":9601},9601,null,null,7976]
[null,null,"СОПНЭЛ_100608587_ОБ",null,null,"СОПНЭЛ","L=1000, S=600, H=850-870, ОБ",null,null,null,{"$f":"ROUND(O85*(1+'Повышение цен'!$C$10),0)","v":10474},10474,null,null,8701]
[null,null,"СОПНЭП_100608587_ОБ",null,null,"СОПНЭП","L=1000, S=600, H=850-870, ОБ",null,null,null,{"$f":"ROUND(O86*(1+'Повышение цен'!$C$10),0)","v":10474},10474,null,null,8701]
[null,null,"СОПНЭЛ_120608587_ОБ",null,null,"СОПНЭЛ","L=1200, S=600, H=850-870, ОБ",null,null,null,{"$f":"ROUND(O87*(1+'Повышение цен'!$C$10),0)","v":11344},11344,null,null,9424]
[null,null,"СОПНЭП_120608587_ОБ",null,null,"СОПНЭП","L=1200, S=600, H=850-870, ОБ",null,null,null,{"$f":"ROUND(O88*(1+'Повышение цен'!$C$10),0)","v":11344},11344,null,null,9424]
[]
[null,null,"СОПНЭ_60708587_ОБ",null,null,"СОПНЭ","L=600, S=700, H=850-870, ОБ",null,null,null,{"$f":"ROUND(O90*(1+'Повышение цен'!$C$10),0)","v":9156},{"$f":"ROUND(IF($D$4=\"С НДС\",K90*(1-$D$3),K90*(1-$D$3)/1.22),0)","v":9156},null,null,7606]
[null,null,"СОПНЭЛ_80708587_ОБ",null,null,"СОПНЭЛ","L=800, S=700, H=850-870, ОБ",null,null,null,{"$f":"ROUND(O91*(1+'Повышение цен'!$C$10),0)","v":10115},10115,null,null,8403]
[null,null,"СОПНЭП_80708587_ОБ",null,null,"СОПНЭП","L=800, S=700, H=850-870, ОБ",null,null,null,{"$f":"ROUND(O92*(1+'Повышение цен'!$C$10),0)","v":10115},10115,null,null,8403]
[null,null,"СОПНЭЛ_100708587_ОБ",null,null,"СОПНЭЛ","L=1000, S=700, H=850-870, ОБ",null,null,null,{"$f":"ROUND(O93*(1+'Повышение цен'!$C$10),0)","v":11074},11074,null,null,9199]
[null,null,"СОПНЭП_100708587_ОБ",null,null,"СОПНЭП","L=1000, S=700, H=850-870, ОБ",null,null,null,{"$f":"ROUND(O94*(1+'Повышение цен'!$C$10),0)","v":11074},11074,null,null,9199]
[null,null,"СОПНЭЛ_120708587_ОБ",null,null,"СОПНЭЛ","L=1200, S=700, H=850-870, ОБ",null,null,null,{"$f":"ROUND(O95*(1+'Повышение цен'!$C$10),0)","v":12034},12034,null,null,9997]
[null,null,"СОПНЭП_120708587_ОБ",null,null,"СОПНЭП","L=1200, S=700, H=850-870, ОБ",null,null,null,{"$f":"ROUND(O96*(1+'Повышение цен'!$C$10),0)","v":12034},12034,null,null,9997]
[]
[null,null,"Формула расчета цены",null,null,null,null,null,null,null,null,null,"Техническое описание"]
[null,"Артикул","Модель","Длина,","Глубина,","Высота","Доп.","Доп.","Доп.","Доп.","Базовая цена,","Ваша цена,","Нестандартной модели"]
[null,null,null,"мм","мм","мм","опция","опция","опция","колеса","руб","руб",{"$f":"CONCATENATE(\" н/ст, толщина столешницы - 0,8 мм,\",\"разборная конструкция,\",IF(G101=\"ОБ\",\" обвязка с четырех сторон\",IF(G101=\"РП\",\" решетчатая полка\",\"\")),\", каркас - нерж уголок 40*40*1,5 мм,\",IF(OR(OR(C101=\"СОПНЭ\",C101=\"СОПНЭП\"),C101=\"СОПНЭЛ\"),\"стол с бортом Нборта-40мм, отступ от края 100 мм\",\"стол без борта\"),\" Hстолешницы -40 мм, столешница усилена ЛДСП толщиной 16 мм,\",\" отверстие 225 мм, резиновое кольцо в комплект не входит, \",IF(C101=\"СОПНЭЛ\",\"отверстие слева\",IF(C101=\"СОПНЭП\",\"отверстие справа\",IF(C101=\"СОПНЭ\",\"отверстие по центру\",IF(C101=\"СОЦНЭЛП\",\"отверстие сбоку\",IF(C101=\"СОЦНЭ\",\"отверстие по центру\",\"отверстие\"))))),IF(J101=\"К\",\", 4 колеса(2 с тормозом)\",\", регулируемые ножки(+/-20мм)\"),\", длина \",D101,\"мм\",\", глубина \",E101,\"мм\",\" ,высота \",F101,\"мм, \", \"Объем в упаковке \",IF(I101=\"\",ROUND(D101/1000*E101/1000*0.255,2), ROUND(D101/1000*E101/1000*(F101+150)/1000,2)),\" м3\")","v":" н/ст, толщина столешницы - 0,8 мм,разборная конструкция, обвязка с четырех сторон, каркас - нерж уголок 40*40*1,5 мм,стол с бортом Нборта-40мм, отступ от края 100 мм Hстолешницы -40 мм, столешница усилена ЛДСП толщиной 16 мм, отверстие 225 мм, резиновое кольцо в комплект не входит, отверстие по центру, регулируемые ножки(+/-20мм), длина 1200мм, глубина 600мм ,высота 870мм, Объем в упаковке 0,18 м3"}]
[null,{"$f":"UPPER(CONCATENATE(C101,\"_\",D101/10,E101/10,IF(AND(J101=\"\",F104=870),8587,F104/10),\"_\",G101,H101,I101,J101))","v":"СОПНЭ_120608587_ОБ"},"СОПНЭ",1200,600,870,"ОБ",null,null,null,{"$f":"ROUND((K102*IF(D102>1500,1.05,1)*IF(E102>700,1.05,1)*IF(F102>870,1.05,1)+IF(J101=\"К\",6000,0))*1.1*1.07,0)*1.15*(1+'Повышение цен'!$C$10)","v":11344.7043151299},{"$f":"ROUND(IF($D$4=\"С НДС\",K101*(1-$D$3),K101*(1-$D$3)/1.22),0)","v":11345}]
[null,null,null,{"$f":"IF(AND(D101>399,D101<1501),D101,\"не производим\")","v":1200},{"$f":"IF(AND(E101>399,E101<801),E101,\"не производим\")","v":600},{"$f":"IF(AND(F104>599,F104<1001),F104,\"не производим\")","v":870},null,null,null,null,{"$f":"IF(OR(OR(C101=\"СОПНЭ\",C101=\"СОПНЭП\"),C101=\"СОПНЭЛ\"),IF(G101=\"ОБ\",ROUND((((D102*E102*Техно!S11*Техно!T8*0.00001*1.35*Техно!T11)+((E102-50)*80*0.00001*Техно!T8*Техно!S17*Техно!T17*D102/E102)+(((D102-100)*80*0.00001*Техно!T8*Техно!S14*2)+((E102-100)*80*0.00001*Техно!T8*Техно!S14*2)+((F102-50)*80*0.00001*Техно!T8*Техно!S14*4))*Техно!T14)*1.18+((D102*0.001+E102*0.001)*0.9*Техно!T20)+(Техно!T25*0.15)+((Техно!T26+Техно!T27)*2.6))*1.18/0.69*(0.85+0.6944),0),IF(G101=\"РП\",ROUND((((D102*E102*Техно!S11*Техно!T8*0.00001*1.35*Техно!T11)+((E102-50)*80*0.00001*Техно!T8*Техно!S17*Техно!T17*D102/E102)+(((D102-100)*80*0.00001*Техно!T8*Техно!S14*2)+((E102-100)*80*0.00001*Техно!T8*Техно!S14*2*D102/500)+((F102-50)*80*0.00001*Техно!T8*Техно!S14*4))*Техно!T14)*1.18+((D102*0.001+E102*0.001)*0.9*Техно!T20)+(Техно!T25*0.15)+((Техно!T26+Техно!T27)*(2.6+0.3)))*1.18/0.69*1.05*(0.85+0.6944),0))),IF(OR(C101=\"СОЦНЭ\",C101=\"СОЦНЭЛП\"),IF(G101=\"ОБ\",ROUND((((D102*E102*Техно!S11*Техно!T8*0.00001*1.15*Техно!T11)+((E102-50)*80*0.00001*Техно!T8*Техно!S17*Техно!T17*D102/E102)+(((D102-100)*80*0.00001*Техно!T8*Техно!S14*2)+((E102-100)*80*0.00001*Техно!T8*Техно!S14*2)+((F102-50)*80*0.00001*Техно!T8*Техно!S14*4))*Техно!T14)*1.18+((D102*0.001+E102*0.001)*0.9*Техно!T20)+(Техно!T25*0.2)+((Техно!T26+Техно!T27)*2.4))*1.18/0.69*(0.85+0.6944),0),IF(G101=\"РП\",ROUND((((D102*E102*Техно!S11*Техно!T8*0.00001*1.15*Техно!T11)+((E102-50)*80*0.00001*Техно!T8*Техно!S17*Техно!T17*D102/E102)+(((D102-100)*80*0.00001*Техно!T8*Техно!S14*2)+((E102-100)*80*0.00001*Техно!T8*Техно!S14*2*D102/500)+((F102-50)*80*0.00001*Техно!T8*Техно!S14*4))*Техно!T14)*1.18+((D102*0.001+E102*0.001)*0.9*Техно!T20)+(Техно!T25*0.2)+((Техно!T26+Техно!T27)*(2.4+0.2)))*1.18/0.69*1.05*(0.85+0.6944),0)))))","v":6963}]
[null,null,null,"400-1500","400-800","600-1000",null,null,null,"К","Колеса"]
[null,null,null,null,null,{"$f":"IF(F101=850,870,F101)","v":870},"ОБ","обвязка с четырех сторон"]
[null,null,"СОПНЭ","с бортом, отверстие по центру",null,null,"РП","Решетчатая полка"]
[null,null,"СОПНЭЛ","с бортом, отверстие слева"]
[null,null,"СОПНЭП","с бортом, отверстие справа"]
[null,null,"СОЦНЭ","без борта"]
[null,null,"СОЦНЭЛП","без борта, отверстие сбоку"]
[]
[]
[null,"Стол для отходов с бортом с нижней обвязкой (СОПЦ Э; ОБ)"]
[]
[null,"Изображение","Артикул",null,null,"Модель","Характеристика номенклатуры",null,null,null,"Базовая цена,","Ваша цена,","Техническое описание",null,"Базовая цена,"]
[null,null,null,null,null,null,null,null,null,null,"руб","руб",null,null,"руб"]
[null,null,"СОПЦЭ_60608587_ОБ",null,null,"СОПЦЭ","L=600, S=600, H=850-870, ОБ",null,null,null,{"$f":"ROUND(O116*(1+'Повышение цен'!$C$10),0)","v":7445},{"$f":"ROUND(IF($D$4=\"С НДС\",K116*(1-$D$3),K116*(1-$D$3)/1.22),0)","v":7445},"н/ст, толщина столешницы - 0,8 мм, разборная конструкция, обвязка с четырех сторон, каркас - оцин уголок 40*40*1,5 мм, Hстолешницы -40 мм, Hборта - 40 мм, столешница усилена ЛДСП толщиной 16 мм, отверстие 225 мм, расположение отверстия указано в названии стола , резиновое кольцо в комплект не входит, регулируемые ножки(+/-20мм), отступ от края 100 мм",null,6185]
[null,null,"СОПЦЭЛ_80608587_ОБ",null,null,"СОПЦЭЛ","L=800, S=600, H=850-870, ОБ",null,null,null,{"$f":"ROUND(O117*(1+'Повышение цен'!$C$10),0)","v":8160},8160,null,null,6779]
[null,null,"СОПЦЭП_80608587_ОБ",null,null,"СОПЦЭП","L=800, S=600, H=850-870, ОБ",null,null,null,{"$f":"ROUND(O118*(1+'Повышение цен'!$C$10),0)","v":8160},8160,null,null,6779]
[null,null,"СОПЦЭЛ_100608587_ОБ",null,null,"СОПЦЭЛ","L=1000, S=600, H=850-870, ОБ",null,null,null,{"$f":"ROUND(O119*(1+'Повышение цен'!$C$10),0)","v":8875},8875,null,null,7373]
[null,null,"СОПЦЭП_100608587_ОБ",null,null,"СОПЦЭП","L=1000, S=600, H=850-870, ОБ",null,null,null,{"$f":"ROUND(O120*(1+'Повышение цен'!$C$10),0)","v":8875},8875,null,null,7373]
[null,null,"СОПЦЭЛ_120608587_ОБ",null,null,"СОПЦЭЛ","L=1200, S=600, H=850-870, ОБ",null,null,null,{"$f":"ROUND(O121*(1+'Повышение цен'!$C$10),0)","v":9589},9589,null,null,7966]
[null,null,"СОПЦЭП_120608587_ОБ",null,null,"СОПЦЭП","L=1200, S=600, H=850-870, ОБ",null,null,null,{"$f":"ROUND(O122*(1+'Повышение цен'!$C$10),0)","v":9589},9589,null,null,7966]
[]
[null,null,"СОПЦЭ_60708587_ОБ",null,null,"СОПЦЭ","L=600, S=700, H=850-870, ОБ",null,null,null,{"$f":"ROUND(O124*(1+'Повышение цен'!$C$10),0)","v":7791},{"$f":"ROUND(IF($D$4=\"С НДС\",K124*(1-$D$3),K124*(1-$D$3)/1.22),0)","v":7791},null,null,6472]
[null,null,"СОПЦЭЛ_80708587_ОБ",null,null,"СОПЦЭЛ","L=800, S=700, H=850-870, ОБ",null,null,null,{"$f":"ROUND(O125*(1+'Повышение цен'!$C$10),0)","v":8582},8582,null,null,7129]
[null,null,"СОПЦЭП_80708587_ОБ",null,null,"СОПЦЭП","L=800, S=700, H=850-870, ОБ",null,null,null,{"$f":"ROUND(O126*(1+'Повышение цен'!$C$10),0)","v":8582},8582,null,null,7129]
[null,null,"СОПЦЭЛ_100708587_ОБ",null,null,"СОПЦЭЛ","L=1000, S=700, H=850-870, ОБ",null,null,null,{"$f":"ROUND(O127*(1+'Повышение цен'!$C$10),0)","v":9369},9369,null,null,7783]
[null,null,"СОПЦЭП_100708587_ОБ",null,null,"СОПЦЭП","L=1000, S=700, H=850-870, ОБ",null,null,null,{"$f":"ROUND(O128*(1+'Повышение цен'!$C$10),0)","v":9369},9369,null,null,7783]
[null,null,"СОПЦЭЛ_120708587_ОБ",null,null,"СОПЦЭЛ","L=1200, S=700, H=850-870, ОБ",null,null,null,{"$f":"ROUND(O129*(1+'Повышение цен'!$C$10),0)","v":10160},10160,null,null,8440]
[null,null,"СОПЦЭП_120708587_ОБ",null,null,"СОПЦЭП","L=1200, S=700, H=850-870, ОБ",null,null,null,{"$f":"ROUND(O130*(1+'Повышение цен'!$C$10),0)","v":10160},10160,null,null,8440]
[]
[null,null,"Формула расчета цены",null,null,null,null,null,null,null,null,null,"Техническое описание"]
[null,"Артикул","Модель","Длина,","Глубина,","Высота","Доп.","Доп.","Доп.","Доп.","Базовая цена,","Ваша цена,","Нестандартной модели"]
[null,null,null,"мм","мм","мм","опция","опция","опция","колеса","руб","руб",{"$f":"CONCATENATE(\" н/ст, толщина столешницы - 0,8 мм,\",\"разборная конструкция,\",IF(G135=\"ОБ\",\" обвязка с четырех сторон\",IF(G135=\"РП\",\" решетчатая полка\",\"\")),\", каркас - нерж уголок 40*40*1,5 мм,\",IF(OR(OR(C135=\"СОПЦЭ\",C135=\"СОПЦЭП\"),C135=\"СОПЦЭЛ\"),\"стол с бортом Нборта-40мм, отступ от края 100 мм\",\"стол без борта\"),\" Hстолешницы -40 мм, столешница усилена ЛДСП толщиной 16 мм,\",\" отверстие 225 мм, резиновое кольцо в комплект не входит, \",IF(C135=\"СОПЦЭЛ\",\"отверстие слева\",IF(C135=\"СОПЦЭП\",\"отверстие справа\",IF(C135=\"СОПЦЭ\",\"отверстие по центру\",IF(C135=\"СОЦЦЭЛП\",\"отверстие сбоку\",IF(C135=\"СОЦЦЭ\",\"отверстие по центру\",\"отверстие\"))))),IF(J135=\"К\",\", 4 колеса(2 с тормозом)\",\", регулируемые ножки(+/-20мм)\"),\", длина \",D135,\"мм\",\", глубина \",E135,\"мм\",\" ,высота \",F135,\"мм, \", \"Объем в упаковке \",IF(I135=\"\",ROUND(D135/1000*E135/1000*0.255,2), ROUND(D135/1000*E135/1000*(F135+150)/1000,2)),\" м3\")","v":" н/ст, толщина столешницы - 0,8 мм,разборная конструкция, обвязка с четырех сторон, каркас - нерж уголок 40*40*1,5 мм,стол с бортом Нборта-40мм, отступ от края 100 мм Hстолешницы -40 мм, столешница усилена ЛДСП толщиной 16 мм, отверстие 225 мм, резиновое кольцо в комплект не входит, отверстие по центру, регулируемые ножки(+/-20мм), длина 600мм, глубина 600мм ,высота 850мм, Объем в упаковке 0,09 м3"}]
[null,{"$f":"UPPER(CONCATENATE(C135,\"_\",D135/10,E135/10,IF(AND(J135=\"\",F138=870),8587,F138/10),\"_\",G135,H135,I135,J135))","v":"СОПЦЭ_60608587_ОБ"},"СОПЦЭ",600,600,850,"ОБ",null,null,null,{"$f":"ROUND((K136*IF(D136>1500,1.05,1)*IF(E136>700,1.05,1)*IF(F136>870,1.05,1)+IF(J135=\"К\",6000,0))*1.1*1.07,0)*1.15*(1+'Повышение цен'!$C$10)","v":7445.0054675739602},{"$f":"ROUND(IF($D$4=\"С НДС\",K135*(1-$D$3),K135*(1-$D$3)/1.22),0)","v":7445}]
[null,null,null,{"$f":"IF(AND(D135>399,D135<1501),D135,\"не производим\")","v":600},{"$f":"IF(AND(E135>399,E135<801),E135,\"не производим\")","v":600},{"$f":"IF(AND(F138>599,F138<1001),F138,\"не производим\")","v":870},null,null,null,null,{"$f":"IF(OR(OR(C135=\"СОПЦЭ\",C135=\"СОПЦЭП\"),C135=\"СОПЦЭЛ\"),IF(G135=\"ОБ\",ROUND((((D136*E136*Техно!S12*Техно!T8*0.00001*1.25*Техно!T12)+((E136-50)*80*0.00001*Техно!T8*Техно!S17*Техно!T17*D136/E136)+(((D136-100)*80*0.00001*Техно!T8*Техно!S15*2)+((E136-100)*80*0.00001*Техно!T8*Техно!S15*2)+((F136-50)*80*0.00001*Техно!T8*Техно!S15*4))*Техно!T15)*1.18+((D136*0.001+E136*0.001)*0.9*Техно!T20)+(Техно!T25*0.15)+((Техно!T26+Техно!T27)*2.5))*1.18/0.67*(0.85+0.6944),0),IF(G135=\"РП\",ROUND((((D136*E136*Техно!S12*Техно!T8*0.00001*1.25*Техно!T12)+((E136-50)*80*0.00001*Техно!T8*Техно!S17*Техно!T17*D136/E136)+(((D136-100)*80*0.00001*Техно!T8*Техно!S15*2)+((E136-100)*80*0.00001*Техно!T8*Техно!S15*2*D136/500)+((F136-50)*80*0.00001*Техно!T8*Техно!S15*4))*Техно!T15)*1.18+((D136*0.001+E136*0.001)*0.9*Техно!T20)+(Техно!T25*0.15)+((Техно!T26+Техно!T27)*(2.5+0.2)))*1.18/0.67*1.05*(0.85+0.6944),0))),IF(OR(C135=\"СОЦЦЭ\",C135=\"СОЦЦЭЛП\"),IF(G135=\"ОБ\",ROUND((((D136*E136*Техно!S12*Техно!T8*0.00001*1*Техно!T12)+((E136-50)*80*0.00001*Техно!T8*Техно!S17*Техно!T17*D136/E136)+(((D136-100)*80*0.00001*Техно!T8*Техно!S15*2)+((E136-100)*80*0.00001*Техно!T8*Техно!S15*2)+((F136-50)*80*0.00001*Техно!T8*Техно!S15*4))*Техно!T15)*1.18+((D136*0.001+E136*0.001)*0.9*Техно!T20)+(Техно!T25*0.2)+((Техно!T26+Техно!T27)*2.35))*1.18/0.68*(0.85+0.6944),0),IF(G135=\"РП\",ROUND((((D136*E136*Техно!S12*Техно!T8*0.00001*1*Техно!T12)+((E136-50)*80*0.00001*Техно!T8*Техно!S17*Техно!T17*D136/E136)+(((D136-100)*80*0.00001*Техно!T8*Техно!S15*2)+((E136-100)*80*0.00001*Техно!T8*Техно!S15*2*D136/500)+((F136-50)*80*0.00001*Техно!T8*Техно!S15*4))*Техно!T15)*1.18+((D136*0.001+E136*0.001)*0.9*Техно!T20)+(Техно!T25*0.2)+((Техно!T26+Техно!T27)*(2.35+0.2)))*1.18/0.68*1.05*(0.85+0.6944),0)))))","v":4569}]
[null,null,null,"400-1500","400-800","600-1000",null,null,null,"К","Колеса"]
[null,null,null,null,null,{"$f":"IF(F135=850,870,F135)","v":870},"ОБ","обвязка с четырех сторон"]
[null,null,"СОПЦЭ","с бортом, отверстие по центру",null,null,"РП","Решетчатая полка"]
[null,null,"СОПЦЭЛ","с бортом, отверстие слева"]
[null,null,"СОПЦЭП","с бортом, отверстие справа"]
[null,null,"СОЦЦЭ","без борта"]
[null,null,"СОЦЦЭЛП","без борта, отверстие сбоку"]

{"sheet":"Столы закрытые","index":9,"n_rows":134,"n_cols":16,"rows_kept":134,"cut":false,"hidden":false,"merged":[[45,3,45,4],[35,2,35,12],[43,3,43,4],[44,3,44,4],[41,10,41,12],[43,8,43,12],[35,13,35,14],[36,13,36,14],[37,13,45,14],[40,11,40,12],[42,3,42,4],[42,9,42,12],[49,13,50,14],[15,2,15,4],[15,6,15,10],[16,2,16,4],[16,6,16,10],[17,2,17,4],[17,6,17,10],[18,6,18,10],[20,0,20,12],[21,1,21,11],[10,13,18,14],[31,2,31,4],[31,6,31,10],[32,2,32,4],[32,6,32,10],[33,2,33,4],[33,6,33,10],[30,2,30,4],[30,6,30,10],[25,6,25,10],[26,2,26,4],[26,6,26,10],[27,2,27,4],[27,6,27,10],[13,2,13,4],[13,6,13,10],[10,1,18,1],[10,2,10,4],[10,6,10,10],[25,1,33,1],[25,13,33,14],[25,2,25,4],[18,2,18,4],[23,2,24,4],[23,5,24,5],[23,6,24,10],[23,13,24,14],[28,2,28,4],[28,6,28,10],[11,2,11,4],[11,6,11,10],[12,2,12,4],[12,6,12,10],[23,1,24,1],[8,0,9,0],[8,1,9,1],[8,2,9,4],[8,5,9,5],[8,6,9,10],[8,13,9,14],[1,0,1,2],[2,0,2,2],[3,0,3,2],[6,1,6,11],[7,2,7,12],[67,13,77,14],[79,13,79,14],[54,2,54,4],[54,6,54,10],[55,2,55,4],[55,6,55,10],[58,2,58,4],[60,2,60,4],[60,6,60,10],[58,6,58,10],[59,2,59,4],[59,6,59,10],[61,2,61,4],[61,6,61,10],[74,2,74,4],[74,6,74,10],[75,2,75,4],[75,6,75,10],[76,2,76,4],[76,6,76,10],[77,2,77,4],[77,6,77,10],[65,5,66,5],[65,13,66,14],[69,6,69,10],[79,2,79,12],[70,2,70,4],[70,6,70,10],[71,2,71,4],[68,2,68,4],[68,6,68,10],[73,2,73,4],[73,6,73,10],[47,1,47,11],[48,2,48,12],[49,0,50,0],[49,1,50,1],[49,2,50,4],[49,5,50,5],[49,6,50,10],[51,1,61,1],[51,2,51,4],[51,6,51,10],[52,2,52,4],[52,6,52,10],[57,2,57,4],[57,6,57,10],[87,9,87,12],[51,13,61,14],[53,2,53,4],[53,6,53,10],[62,0,62,12],[63,1,63,11],[65,1,66,1],[65,2,66,4],[65,6,66,10],[80,13,80,14],[71,6,71,10],[81,13,89,14],[84,11,84,12],[85,10,85,12],[86,3,86,4],[86,9,86,12],[87,3,87,4],[88,8,88,12],[88,3,88,4],[89,3,89,4],[67,1,77,1],[67,2,67,4],[67,6,67,10],[69,2,69,4],[91,1,91,11],[92,2,92,12],[93,0,94,0],[93,1,94,1],[93,2,94,4],[93,5,94,5],[93,6,94,10],[93,13,94,14],[95,1,105,1],[95,2,95,4],[95,6,95,10],[95,13,105,14],[96,2,96,4],[96,6,96,10],[97,2,97,4],[97,6,97,10],[98,2,98,4],[98,6,98,10],[99,2,99,4],[99,6,99,10],[101,2,101,4],[101,6,101,10],[102,2,102,4],[102,6,102,10],[103,2,103,4],[103,6,103,10],[104,2,104,4],[104,6,104,10],[105,2,105,4],[105,6,105,10],[106,0,106,12],[107,1,107,11],[109,1,110,1],[109,2,110,4],[109,5,110,5],[109,6,110,10],[109,13,110,14],[111,1,121,1],[111,2,111,4],[111,6,111,10],[111,13,121,14],[112,2,112,4],[112,6,112,10],[113,2,113,4],[113,6,113,10],[114,2,114,4],[114,6,114,10],[115,2,115,4],[115,6,115,10],[117,2,117,4],[117,6,117,10],[118,2,118,4],[118,6,118,10],[119,2,119,4],[119,6,119,10],[120,2,120,4],[120,6,120,10],[121,2,121,4],[121,6,121,10],[132,3,132,4],[133,3,133,4],[123,2,123,12],[123,13,123,14],[124,13,124,14],[128,11,128,12],[129,10,129,12],[130,3,130,4],[131,9,131,12],[131,3,131,4],[130,8,130,12],[125,13,133,14]]}
["Нейтральное оборудование/Столы закрытые",null,null,null,null,null,null,null,null,null,null,null,null,null,"На главную"]
[]
["Ваша скидка:",null,null,{"$f":"Содержание!C2","v":0}]
["НДС:",null,null,{"$f":"IF(Лист2!A1=TRUE,\"С НДС\",\"БЕЗ НДС\")","v":"С НДС"}]
[]
[]
[null,"Стол закрытый двери купе с бортом (СРП Ш К)"]
[]
[null,"Изображение","Артикул",null,null,"Модель","Характеристика номенклатуры",null,null,null,null,"Базовая цена,","Ваша цена,","Техническое описание",null,"Базовая цена,"]
[null,null,null,null,null,null,null,null,null,null,null,"руб","руб",null,null,"руб"]
[null,null,"СРПШК_80608587_СПД",null,null,"СРПШК","L=800, S=600, H=850-870, СПД",null,null,null,null,{"$f":"ROUND(P11*(1+'Повышение цен'!$C$11),0)","v":39220},{"$f":"ROUND(IF($D$4=\"С НДС\",L11*(1-$D$3),L11*(1-$D$3)/1.22),0)","v":39220},"шлифованная н/ст, толщина столешницы - 1 мм, двери купе, сварная конструкция, стол закрыт с трех сторон, сплошная полка+дно, каркас - труба 40*40*1,2 мм, Hстолешницы -50 мм, Hборта - 40 мм, столешница усилена швеллером, регулируемые ножки(+/-20мм)",null,32581]
[null,null,"СРПШК_100608587_СПД",null,null,"СРПШК","L=1000, S=600, H=850-870, СПД",null,null,null,null,{"$f":"ROUND(P12*(1+'Повышение цен'!$C$11),0)","v":41430},{"$f":"ROUND(IF($D$4=\"С НДС\",L12*(1-$D$3),L12*(1-$D$3)/1.22),0)","v":41430},null,null,34417]
[null,null,"СРПШК_120608587_СПД",null,null,"СРПШК","L=1200, S=600, H=850-870, СПД",null,null,null,null,{"$f":"ROUND(P13*(1+'Повышение цен'!$C$11),0)","v":43638},43638,null,null,36251]
[null,null,"СРПШК_150608587_СПД",null,null,"СРПШК","L=1500, S=600, H=850-870, СПД",null,null,null,null,{"$f":"ROUND(P14*(1+'Повышение цен'!$C$11),0)","v":46953},46953,null,null,39005]
[]
[null,null,"СРПШК_80708587_СПД",null,null,"СРПШК","L=800, S=700, H=850-870, СПД",null,null,null,null,{"$f":"ROUND(P16*(1+'Повышение цен'!$C$11),0)","v":40773},{"$f":"ROUND(IF($D$4=\"С НДС\",L16*(1-$D$3),L16*(1-$D$3)/1.22),0)","v":40773},null,null,33871]
[null,null,"СРПШК_100708587_СПД",null,null,"СРПШК","L=1000, S=700, H=850-870, СПД",null,null,null,null,{"$f":"ROUND(P17*(1+'Повышение цен'!$C$11),0)","v":43190},43190,null,null,35879]
[null,null,"СРПШК_120708587_СПД",null,null,"СРПШК","L=1200, S=700, H=850-870, СПД",null,null,null,null,{"$f":"ROUND(P18*(1+'Повышение цен'!$C$11),0)","v":45608},45608,null,null,37887]
[null,null,"СРПШК_150708587_СПД",null,null,"СРПШК","L=1500, S=700, H=850-870, СПД",null,null,null,null,{"$f":"ROUND(P19*(1+'Повышение цен'!$C$11),0)","v":49235},49235,null,null,40900]
[]
[]
[null,"Стол закрытый двери купе без борта (СРЦ Ш К)"]
[]
[null,"Изображение","Артикул",null,null,"Модель","Характеристика номенклатуры",null,null,null,null,"Базовая цена,","Ваша цена,","Техническое описание",null,"Базовая цена,"]
[null,null,null,null,null,null,null,null,null,null,null,"руб","руб",null,null,"руб"]
[null,null,"СРЦШК_80608587_СПД",null,null,"СРЦШК","L=800, S=600, H=850-870, СПД",null,null,null,null,{"$f":"ROUND(P26*(1+'Повышение цен'!$C$11),0)","v":38579},{"$f":"ROUND(IF($D$4=\"С НДС\",L26*(1-$D$3),L26*(1-$D$3)/1.22),0)","v":38579},"шлифованная н/ст, толщина столешницы - 1 мм, двери купе, сварная конструкция, стол закрыт с трех сторон, сплошная полка+дно, каркас - труба 40*40*1,2 мм, Hстолешницы -50 мм, без борта, столешница усилена швеллером, регулируемые ножки(+/-20мм)",null,32048]
[null,null,"СРЦШК_100608587_СПД",null,null,"СРЦШК","L=1000, S=600, H=850-870, СПД",null,null,null,null,{"$f":"ROUND(P27*(1+'Повышение цен'!$C$11),0)","v":40629},40629,null,null,33751]
[null,null,"СРЦШК_120608587_СПД",null,null,"СРЦШК","L=1200, S=600, H=850-870, СПД",null,null,null,null,{"$f":"ROUND(P28*(1+'Повышение цен'!$C$11),0)","v":42676},42676,null,null,35452]
[null,null,"СРЦШК_150608587_СПД",null,null,"СРЦШК","L=1500, S=600, H=850-870, СПД",null,null,null,null,{"$f":"ROUND(P29*(1+'Повышение цен'!$C$11),0)","v":45748},45748,null,null,38004]
[]
[null,null,"СРЦШК_80708587_СПД",null,null,"СРЦШК","L=800, S=700, H=850-870, СПД",null,null,null,null,{"$f":"ROUND(P31*(1+'Повышение цен'!$C$11),0)","v":40024},{"$f":"ROUND(IF($D$4=\"С НДС\",L31*(1-$D$3),L31*(1-$D$3)/1.22),0)","v":40024},null,null,33249]
[null,null,"СРЦШК_100708587_СПД",null,null,"СРЦШК","L=1000, S=700, H=850-870, СПД",null,null,null,null,{"$f":"ROUND(P32*(1+'Повышение цен'!$C$11),0)","v":42256},42256,null,null,35103]
[null,null,"СРЦШК_120708587_СПД",null,null,"СРЦШК","L=1200, S=700, H=850-870, СПД",null,null,null,null,{"$f":"ROUND(P33*(1+'Повышение цен'!$C$11),0)","v":44483},44483,null,null,36953]
[null,null,"СРЦШК_150708587_СПД",null,null,"СРЦШК","L=1500, S=700, H=850-870, СПД",null,null,null,null,{"$f":"ROUND(P34*(1+'Повышение цен'!$C$11),0)","v":47824},47824,null,null,39728]
[]
[null,null,"Формула расчета цены",null,null,null,null,null,null,null,null,null,null,"Техническое описание"]
[null,"Артикул",null,"Длина,","Глубина,","Высота","Кол.","станд.","Доп.","Стенка","Доп.","Базовая цена,","Ваша цена,","Нестандартной модели"]
[null,null,null,"мм","мм","мм","полок","исп.","двери","задняя","колеса","руб","руб",{"$f":"CONCATENATE(\"шлифованная н/ст, толщина столешницы - 1 мм, двери купе, сварная конструкция, \",\" сплошная полка \",IF(G40=\"\",1,G40), \"шт + дно,\",\" каркас - труба 40*40*1,2 мм,\",IF(OR(C39=\"СРПШ\",C39=\"СРПШКС\"),\"стол с бортом Нборта-40мм, \",\"стол без борта\"),\" Hстолешницы -50 мм, столешница усилена швеллером,\",IF(OR(C39=\"СРПШКС\",C39=\"СРЦШКС\"),\" стол сквозной, \",\"\"),IF(K39=\"К\",\" 4 колеса(2 с тормозом)\",\"регулируемые ножки(+/-20мм)\"),\", длина \", D39,\"мм\",\", глубина \",E39,\"мм\",\" ,высота \",F39,\"мм, \", \"Объем в упаковке \",ROUND(D39/1000*E39/1000*(F39+150)/1000,2),\" м3\")","v":"шлифованная н/ст, толщина столешницы - 1 мм, двери купе, сварная конструкция,  сплошная полка 1шт + дно, каркас - труба 40*40*1,2 мм,стол без борта Hстолешницы -50 мм, столешница усилена швеллером,регулируемые ножки(+/-20мм), длина 800мм, глубина 600мм ,высота 850мм, Объем в упаковке 0,48 м3"}]
[null,{"$f":"UPPER(CONCATENATE(C39,\"_\",D39/10,E39/10,IF(AND(F42=850,K39=\"\"),8587,F42/10),\"_\",IF(G39=1,\"\",G39),H39,I39,J39,K39))","v":"СРПШК_80608587_СПД"},"СРПШК",800,600,850,null,"СПД",null,null,null,{"$f":"ROUND(((L40*IF(OR(C39=\"СРПШК\",C39=\"СРЦШК\"),1,1.25)*IF(I39=\"3ДВ\",1.07,1)*IF(J39=\"БЗС\",0.95,1)*IF(D40>1500,1.05,1)*IF(E40>700,1.05,1)*IF(F40>870,1.05,1)+IF(K39=\"К\",6000,0)))*1.07*1.15*(1+'Повышение цен'!$C$11),0)","v":39221},{"$f":"ROUND(IF($D$4=\"С НДС\",L39*(1-$D$3),L39*(1-$D$3)/1.22),0)","v":39221}]
[null,null,null,{"$f":"IF(AND(D39>599,D39<2001),D39,\"не производим\")","v":800},{"$f":"IF(AND(E39>399,E39<1001),E39,\"не производим\")","v":600},{"$f":"IF(AND(F42>599,F42<1001),F42,\"не производим\")","v":850},{"$f":"IF(G39=\"\",1,G39)","v":1},null,null,null,null,{"$f":"IF(OR(C39=\"СРПШК\",C39=\"СРПШКС\"),ROUND(ROUND(ROUND((((D40*E40*(G40-1+3)/1000000*1.15+800*D40*2/1000000+E40*800*3/1000000)*1150+380*2.5*((G40-1)/10+1)+250)+2500+3500*((F40/850)-1)+2500*2.5*((G40-1)/10+1))*1.18,0)*0.97,0)*(0.85+0.694),0),IF(OR(C39=\"СРЦШК\",C39=\"СРЦШКС\"),ROUND(ROUND(ROUND((((D40*E40*(G40-1+3)/1000000+800*D40*2/1000000+E40*800*3/1000000)*1150+380*2.5*((G40-1)/10+1)+250)+2500+3500*(F40/850-1)+2500*2.5)*1.18,0)*0.97,0)*(0.85+0.6944),0)))","v":26478}]
[null,null,null,"600-2000","400-1000","600-1000","1_3","СПД",null,null,"К","Колеса"]
[null,null,null,null,null,{"$f":"IF(F39=870,850,F39)","v":850},null,null,null,"БЗС","Без задней стенки"]
[null,null,"СРПШК","с бортом",null,null,null,null,"3ДВ","Три двери, при длине стола более 1200 мм"]
[null,null,"СРПШКС","с бортом, сквозной",null,null,null,"СПД","Сплошная полка + дно"]
[null,null,"СРЦШК","без борта"]
[null,null,"СРЦШКС","без борта, сквозной"]
[]
[null,"Стол закрытый двери распашные с бортом (СРП Ш Р)"]
[]
[null,"Изображение","Артикул",null,null,"Модель","Характеристика номенклатуры",null,null,null,null,"Базовая цена,","Ваша цена,","Техническое описание",null,"Базовая цена,"]
[null,null,null,null,null,null,null,null,null,null,null,"руб","руб",null,null,"руб"]
[null,null,"СРПШР_60608587_СПД",null,null,"СРПШР","L=600, S=600, H=850-870, СПД, Л/О",null,null,null,null,{"$f":"ROUND(P52*(1+'Повышение цен'!$C$11),0)","v":32586},{"$f":"ROUND(IF($D$4=\"С НДС\",L52*(1-$D$3),L52*(1-$D$3)/1.22),0)","v":32586},"шлифованная н/ст, толщина столешницы - 1 мм, двери распашные, сварная конструкция, стол закрыт с трех сторон, сплошная полка+дно, каркас - труба 40*40*1,2 мм, Hстолешницы -50 мм, Hборта - 40 мм, столешница усилена швеллером, регулируемые ножки(+/-20мм)",null,27070]
[null,null,"СРПШР_80608587_СПД",null,null,"СРПШР","L=800, S=600, H=850-870, СПД",null,null,null,null,{"$f":"ROUND(P53*(1+'Повышение цен'!$C$11),0)","v":34794},34794,null,null,28904]
[null,null,"СРПШР_100608587_СПД",null,null,"СРПШР","L=1000, S=600, H=850-870, СПД",null,null,null,null,{"$f":"ROUND(P54*(1+'Повышение цен'!$C$11),0)","v":37007},37007,null,null,30742]
[null,null,"СРПШР_120608587_СПД",null,null,"СРПШР","L=1200, S=600, H=850-870, СПД",null,null,null,null,{"$f":"ROUND(P55*(1+'Повышение цен'!$C$11),0)","v":39215},39215,null,null,32577]
[null,null,"СРПШР_150608587_СПД",null,null,"СРПШР","L=1500, S=600, H=850-870, СПД",null,null,null,null,{"$f":"ROUND(P56*(1+'Повышение цен'!$C$11),0)","v":42529},42529,null,null,35330]
[]
[null,null,"СРПШР_60708587_СПД",null,null,"СРПШР","L=600, S=700, H=850-870, СПД, Л/О",null,null,null,null,{"$f":"ROUND(P58*(1+'Повышение цен'!$C$11),0)","v":33933},{"$f":"ROUND(IF($D$4=\"С НДС\",L58*(1-$D$3),L58*(1-$D$3)/1.22),0)","v":33933},null,null,28189]
[null,null,"СРПШР_80708587_СПД",null,null,"СРПШР","L=800, S=700, H=850-870, СПД",null,null,null,null,{"$f":"ROUND(P59*(1+'Повышение цен'!$C$11),0)","v":36349},36349,null,null,30196]
[null,null,"СРПШР_100708587_СПД",null,null,"СРПШР","L=1000, S=700, H=850-870, СПД",null,null,null,null,{"$f":"ROUND(P60*(1+'Повышение цен'!$C$11),0)","v":38768},38768,null,null,32205]
[null,null,"СРПШР_120708587_СПД",null,null,"СРПШР","L=1200, S=700, H=850-870, СПД",null,null,null,null,{"$f":"ROUND(P61*(1+'Повышение цен'!$C$11),0)","v":41185},41185,null,null,34213]
[null,null,"СРПШР_150708587_СПД",null,null,"СРПШР","L=1500, S=700, H=850-870, СПД",null,null,null,null,{"$f":"ROUND(P62*(1+'Повышение цен'!$C$11),0)","v":44812},44812,null,null,37226]
[]
[null,"Стол закрытый двери распашные без борта (СРЦ Ш Р)"]
[]
[null,"Изображение","Артикул",null,null,"Модель","Характеристика номенклатуры",null,null,null,null,"Базовая цена,","Ваша цена,","Техническое описание",null,"Базовая цена,"]
[null,null,null,null,null,null,null,null,null,null,null,"руб","руб",null,null,"руб"]
[null,null,"СРЦШР_60608587_СПД",null,null,"СРЦШР","L=600, S=600, H=850-870, СПД, Л/О",null,null,null,null,{"$f":"ROUND(P68*(1+'Повышение цен'!$C$11),0)","v":32107},{"$f":"ROUND(IF($D$4=\"С НДС\",L68*(1-$D$3),L68*(1-$D$3)/1.22),0)","v":32107},"шлифованная н/ст, толщина столешницы - 1 мм, двери распашные, сварная конструкция, стол закрыт с трех сторон, сплошная полка+дно, каркас - труба 40*40*1,2 мм, Hстолешницы -50 мм, без борта, столешница усилена швеллером, регулируемые ножки(+/-20мм)",null,26672]
[null,null,"СРЦШР_80608587_СПД",null,null,"СРЦШР","L=800, S=600, H=850-870, СПД",null,null,null,null,{"$f":"ROUND(P69*(1+'Повышение цен'!$C$11),0)","v":34155},34155,null,null,28373]
[null,null,"СРЦШР_100608587_СПД",null,null,"СРЦШР","L=1000, S=600, H=850-870, СПД",null,null,null,null,{"$f":"ROUND(P70*(1+'Повышение цен'!$C$11),0)","v":36205},36205,null,null,30076]
[null,null,"СРЦШР_120608587_СПД",null,null,"СРЦШР","L=1200, S=600, H=850-870, СПД",null,null,null,null,{"$f":"ROUND(P71*(1+'Повышение цен'!$C$11),0)","v":38250},38250,null,null,31775]
[null,null,"СРЦШР_150608587_СПД",null,null,"СРЦШР","L=1500, S=600, H=850-870, СПД",null,null,null,null,{"$f":"ROUND(P72*(1+'Повышение цен'!$C$11),0)","v":41321},41321,null,null,34326]
[]
[null,null,"СРЦШР_60708587_СПД",null,null,"СРЦШР","L=600, S=700, H=850-870, СПД, Л/О",null,null,null,null,{"$f":"ROUND(P74*(1+'Повышение цен'!$C$11),0)","v":33372},{"$f":"ROUND(IF($D$4=\"С НДС\",L74*(1-$D$3),L74*(1-$D$3)/1.22),0)","v":33372},null,null,27723]
[null,null,"СРЦШР_80708587_СПД",null,null,"СРЦШР","L=800, S=700, H=850-870, СПД",null,null,null,null,{"$f":"ROUND(P75*(1+'Повышение цен'!$C$11),0)","v":35599},35599,null,null,29573]
[null,null,"СРЦШР_100708587_СПД",null,null,"СРЦШР","L=1000, S=700, H=850-870, СПД",null,null,null,null,{"$f":"ROUND(P76*(1+'Повышение цен'!$C$11),0)","v":37829},37829,null,null,31425]
[null,null,"СРЦШР_120708587_СПД",null,null,"СРЦШР","L=1200, S=700, H=850-870, СПД",null,null,null,null,{"$f":"ROUND(P77*(1+'Повышение цен'!$C$11),0)","v":40056},40056,null,null,33275]
[null,null,"СРЦШР_150708587_СПД",null,null,"СРЦШР","L=1500, S=700, H=850-870, СПД",null,null,null,null,{"$f":"ROUND(P78*(1+'Повышение цен'!$C$11),0)","v":43400},43400,null,null,36053]
[]
[null,null,"Формула расчета цены",null,null,null,null,null,null,null,null,null,null,"Техническое описание"]
[null,"Артикул",null,"Длина,","Глубина,","Высота","Кол.","Станд.","Откр.","Стенка","Доп.","Базовая цена,","Ваша цена,","Нестандартной модели"]
[null,null,null,"мм","мм","мм","полок","исп.","двери","задняя","колеса","руб","руб",{"$f":"CONCATENATE(\"шлифованная н/ст, толщина столешницы - 1 мм, двери распашные, сварная конструкция, \",\" сплошная полка \",IF(G84=\"\",1,G84), \"шт + дно,\",\" каркас - труба 40*40*1,2 мм,\",IF(OR(C83=\"СРПШР\",C83=\"СРПШРС\"),\"стол с бортом Нборта-40мм, \",\"стол без борта\"),\" Hстолешницы -50 мм, столешница усилена швеллером,\",IF(OR(C83=\"СРПШРС\",C83=\"СРЦШРС\"),\" стол сквозной, \",\"\"),IF(K83=\"К\",\" 4 колеса(2 с тормозом)\",\"регулируемые ножки(+/-20мм)\"),\", длина \", D83,\"мм\",\", глубина \",E83,\"мм\",\" ,высота \",F83,\"мм, \", \"Объем в упаковке \",ROUND(D83/1000*E83/1000*(F83+150)/1000,2),\" м3\")","v":"шлифованная н/ст, толщина столешницы - 1 мм, двери распашные, сварная конструкция,  сплошная полка 1шт + дно, каркас - труба 40*40*1,2 мм,стол без борта Hстолешницы -50 мм, столешница усилена швеллером,регулируемые ножки(+/-20мм), длина 1000мм, глубина 700мм ,высота 850мм, Объем в упаковке 0,7 м3"}]
[null,{"$f":"UPPER(CONCATENATE(C83,\"_\",D83/10,E83/10,IF(AND(F86=850,K83=\"\"),8587,F86/10),\"_\",IF(G83=1,\"\",G83),H83,I83,J83,K83))","v":"СРЦШР_100708587_СПД"},"СРЦШР",1000,700,850,null,"СПД",null,null,null,{"$f":"ROUND(((L84*IF(OR(C83=\"СРПШР\",C83=\"СРЦШР\"),1,1.25)*IF(J83=\"БЗС\",0.95,1)*IF(D84>1500,1.05,1)*IF(E84>700,1.05,1)*IF(F84>870,1.05,1)+IF(K83=\"К\",6000,0)))*1.07*1.15*(1+'Повышение цен'!$C$11),0)","v":37828},{"$f":"ROUND(IF($D$4=\"С НДС\",L83*(1-$D$3),L83*(1-$D$3)/1.22),0)","v":37828}]
[null,null,null,{"$f":"IF(AND(D83>399,D83<1501),D83,\"не производим\")","v":1000},{"$f":"IF(AND(E83>399,E83<1001),E83,\"не производим\")","v":700},{"$f":"IF(AND(F86>599,F86<1001),F86,\"не производим\")","v":850},{"$f":"IF(G83=\"\",1,G83)","v":1},null,null,null,null,{"$f":"IF(OR(C83=\"СРПШР\",C83=\"СРПШРС\"),ROUND(ROUND(ROUND((((D84*E84*(G84-1+3)/1000000*1.15+800*D84*2/1000000+E84*800*3/1000000)*1150+380*2*((G84-1)/10+1))+2500+3500*(F84/850-1)+2500*2*((G84-1)/10+1))*1.18,0)*0.97,0)*(0.85+0.694),0),IF(OR(C83=\"СРЦШР\",C83=\"СРЦШРС\"),ROUND(ROUND(ROUND((((D84*E84*(G84-1+3)/1000000+800*D84*2/1000000+E84*800*3/1000000)*1150+380*2*((G84-1)/10+1))+2500+3500*(F84/850-1)+2500*2*((G84-1)/10+1))*1.18,0)*0.97,0)*(0.85+0.6944),0)))","v":25538}]
[null,null,null,"400-1500","400-1000","600-1000","1_3","СПД",null,null,"К","Колеса"]
[null,null,null,null,null,{"$f":"IF(F83=870,850,F83)","v":850},null,null,null,"БЗС","Без задней стенки"]
[null,null,"СРПШР","с бортом",null,null,null,null,"П/О","Правая дверь, при длине стола менее 750 мм"]
[null,null,"СРПШРС","с бортом, сквозной",null,null,null,null,"Л/О","Левая дверь, при длине стола менее 750 мм"]
[null,null,"СРЦШР","без борта",null,null,null,"СПД","Сплошная полка + дно"]
[null,null,"СРЦШРС","без борта, сквозной"]
[]
[null,"Стол закрытый без дверей с бортом (СРП Ш З)"]
[]
[null,"Изображение","Артикул",null,null,"Модель","Характеристика номенклатуры",null,null,null,null,"Базовая цена,","Ваша цена,","Техническое описание",null,"Базовая цена,"]
[null,null,null,null,null,null,null,null,null,null,null,"руб","руб",null,null,"руб"]
[null,null,"СРПШЗ_60608587_СПД",null,null,"СРПШЗ","L=600, S=600, H=850-870, СПД",null,null,null,null,{"$f":"ROUND(P96*(1+'Повышение цен'!$C$11),0)","v":27222},{"$f":"ROUND(IF($D$4=\"С НДС\",L96*(1-$D$3),L96*(1-$D$3)/1.22),0)","v":27222},"шлифованная н/ст, толщина столешницы - 1 мм, без дверей, сварная конструкция, стол закрыт с трех сторон, сплошная полка+дно, каркас - труба 40*40*1,2 мм, Hстолешницы -50 мм, Hборта - 40 мм, столешница усилена швеллером, регулируемые ножки(+/-20мм)",null,22614]
[null,null,"СРПШЗ_80608587_СПД",null,null,"СРПШЗ","L=800, S=600, H=850-870, СПД",null,null,null,null,{"$f":"ROUND(P97*(1+'Повышение цен'!$C$11),0)","v":28533},28533,null,null,23703]
[null,null,"СРПШЗ_100608587_СПД",null,null,"СРПШЗ","L=1000, S=600, H=850-870, СПД",null,null,null,null,{"$f":"ROUND(P98*(1+'Повышение цен'!$C$11),0)","v":29840},29840,null,null,24789]
[null,null,"СРПШЗ_120608587_СПД",null,null,"СРПШЗ","L=1200, S=600, H=850-870, СПД",null,null,null,null,{"$f":"ROUND(P99*(1+'Повышение цен'!$C$11),0)","v":31148},31148,null,null,25875]
[null,null,"СРПШЗ_150608587_СПД",null,null,"СРПШЗ","L=1500, S=600, H=850-870, СПД",null,null,null,null,{"$f":"ROUND(P100*(1+'Повышение цен'!$C$11),0)","v":33114},33114,null,null,27508]
[]
[null,null,"СРПШЗ_60708587_СПД",null,null,"СРПШЗ","L=600, S=700, H=850-870, СПД",null,null,null,null,{"$f":"ROUND(P102*(1+'Повышение цен'!$C$11),0)","v":28637},{"$f":"ROUND(IF($D$4=\"С НДС\",L102*(1-$D$3),L102*(1-$D$3)/1.22),0)","v":28637},null,null,23789]
[null,null,"СРПШЗ_80708587_СПД",null,null,"СРПШЗ","L=800, S=700, H=850-870, СПД",null,null,null,null,{"$f":"ROUND(P103*(1+'Повышение цен'!$C$11),0)","v":30163},30163,null,null,25057]
[null,null,"СРПШЗ_100708587_СПД",null,null,"СРПШЗ","L=1000, S=700, H=850-870, СПД",null,null,null,null,{"$f":"ROUND(P104*(1+'Повышение цен'!$C$11),0)","v":31692},31692,null,null,26327]
[null,null,"СРПШЗ_120708587_СПД",null,null,"СРПШЗ","L=1200, S=700, H=850-870, СПД",null,null,null,null,{"$f":"ROUND(P105*(1+'Повышение цен'!$C$11),0)","v":33217},33217,null,null,27594]
[null,null,"СРПШЗ_150708587_СПД",null,null,"СРПШЗ","L=1500, S=700, H=850-870, СПД",null,null,null,null,{"$f":"ROUND(P106*(1+'Повышение цен'!$C$11),0)","v":35509},35509,null,null,29498]
[]
[null,"Стол закрытый без дверей без борта (СРЦ Ш З)"]
[]
[null,"Изображение","Артикул",null,null,"Модель","Характеристика номенклатуры",null,null,null,null,"Базовая цена,","Ваша цена,","Техническое описание",null,"Базовая цена,"]
[null,null,null,null,null,null,null,null,null,null,null,"руб","руб",null,null,"руб"]
[null,null,"СРЦШЗ_60608587_СПД",null,null,"СРЦШЗ","L=600, S=600, H=850-870, СПД",null,null,null,null,{"$f":"ROUND(P112*(1+'Повышение цен'!$C$11),0)","v":26718},{"$f":"ROUND(IF($D$4=\"С НДС\",L112*(1-$D$3),L112*(1-$D$3)/1.22),0)","v":26718},"шлифованная н/ст, толщина столешницы - 1 мм, без дверей, сварная конструкция, стол закрыт с трех сторон, сплошная полка+дно, каркас - труба 40*40*1,2 мм, Hстолешницы -50 мм, без борта, столешница усилена швеллером, регулируемые ножки(+/-20мм)",null,22195]
[null,null,"СРЦШЗ_80608587_СПД",null,null,"СРЦШЗ","L=800, S=600, H=850-870, СПД",null,null,null,null,{"$f":"ROUND(P113*(1+'Повышение цен'!$C$11),0)","v":27855},27855,null,null,23140]
[null,null,"СРЦШЗ_100608587_СПД",null,null,"СРЦШЗ","L=1000, S=600, H=850-870, СПД",null,null,null,null,{"$f":"ROUND(P114*(1+'Повышение цен'!$C$11),0)","v":28994},28994,null,null,24086]
[null,null,"СРЦШЗ_120608587_СПД",null,null,"СРЦШЗ","L=1200, S=600, H=850-870, СПД",null,null,null,null,{"$f":"ROUND(P115*(1+'Повышение цен'!$C$11),0)","v":30133},30133,null,null,25032]
[null,null,"СРЦШЗ_150608587_СПД",null,null,"СРЦШЗ","L=1500, S=600, H=850-870, СПД",null,null,null,null,{"$f":"ROUND(P116*(1+'Повышение цен'!$C$11),0)","v":31842},31842,null,null,26452]
[]
[null,null,"СРЦШЗ_60708587_СПД",null,null,"СРЦШЗ","L=600, S=700, H=850-870, СПД",null,null,null,null,{"$f":"ROUND(P118*(1+'Повышение цен'!$C$11),0)","v":28046},{"$f":"ROUND(IF($D$4=\"С НДС\",L118*(1-$D$3),L118*(1-$D$3)/1.22),0)","v":28046},null,null,23298]
[null,null,"СРЦШЗ_80708587_СПД",null,null,"СРЦШЗ","L=800, S=700, H=850-870, СПД",null,null,null,null,{"$f":"ROUND(P119*(1+'Повышение цен'!$C$11),0)","v":29373},29373,null,null,24401]
[null,null,"СРЦШЗ_100708587_СПД",null,null,"СРЦШЗ","L=1000, S=700, H=850-870, СПД",null,null,null,null,{"$f":"ROUND(P120*(1+'Повышение цен'!$C$11),0)","v":30704},30704,null,null,25506]
[null,null,"СРЦШЗ_120708587_СПД",null,null,"СРЦШЗ","L=1200, S=700, H=850-870, СПД",null,null,null,null,{"$f":"ROUND(P121*(1+'Повышение цен'!$C$11),0)","v":32033},32033,null,null,26610]
[null,null,"СРЦШЗ_150708587_СПД",null,null,"СРЦШЗ","L=1500, S=700, H=850-870, СПД",null,null,null,null,{"$f":"ROUND(P122*(1+'Повышение цен'!$C$11),0)","v":34024},34024,null,null,28264]
[]
[null,null,"Формула расчета цены",null,null,null,null,null,null,null,null,null,null,"Техническое описание"]
[null,"Артикул",null,"Длина,","Глубина,","Высота","Кол.","Станд.","Доп.","Доп.","Доп.","Базовая цена,","Ваша цена,","Нестандартной модели"]
[null,null,null,"мм","мм","мм","полок","исп.","опция","опция","колеса","руб","руб",{"$f":"CONCATENATE(\"шлифованная н/ст, толщина столешницы - 1 мм, без дверей, сварная конструкция, \",\" сплошная полка \",IF(G128=\"\",1,G128), \"шт + дно,\",\" каркас - труба 40*40*1,2 мм,\",IF(OR(C127=\"СРПШ\",C127=\"СРПШКС\"),\"стол с бортом Нборта-40мм, \",\"стол без борта\"),\" Hстолешницы -50 мм, столешница усилена швеллером,\",IF(OR(C127=\"СРПШКС\",C127=\"СРЦШКС\"),\" стол сквозной, \",\"\"),IF(K127=\"К\",\" 4 колеса(2 с тормозом)\",\"регулируемые ножки(+/-20мм)\"),\", длина \", D127,\"мм\",\", глубина \",E127,\"мм\",\" ,высота \",F127,\"мм, \", \"Объем \",ROUND(D127/1000*E127/1000*(F127+150)/1000,2),\" м3\")","v":"шлифованная н/ст, толщина столешницы - 1 мм, без дверей, сварная конструкция,  сплошная полка 1шт + дно, каркас - труба 40*40*1,2 мм,стол без борта Hстолешницы -50 мм, столешница усилена швеллером,регулируемые ножки(+/-20мм), длина 1500мм, глубина 600мм ,высота 870мм, Объем 0,92 м3"}]
[null,{"$f":"UPPER(CONCATENATE(C127,\"_\",D127/10,E127/10,IF(AND(F130=850,K127=\"\"),8587,F130/10),\"_\",IF(G127=1,\"\",G127),H127,I127,J127,K127))","v":"СРЦШЗ_150608587_СПД"},"СРЦШЗ",1500,600,870,null,"СПД",null,null,null,{"$f":"ROUND((L128*IF(OR(C127=\"СРПШЗ\",C127=\"СРЦШЗ\"),1,1.25)*IF(J127=\"БЗС\",0.95,1)*IF(D128>1500,1.05,1)*IF(E128>700,1.05,1)*IF(F128>870,1.05,1)+IF(K127=\"К\",6000,0))*1.05,0)*1.07*1.15*(1+'Повышение цен'!$C$11)","v":31842.404669763488},{"$f":"ROUND(IF($D$4=\"С НДС\",L127*(1-$D$3),L127*(1-$D$3)/1.22),0)","v":31842}]
[null,null,null,{"$f":"IF(AND(D127>699,D127<2001),D127,\"не производим\")","v":1500},{"$f":"IF(AND(E127>399,E127<1001),E127,\"не производим\")","v":600},{"$f":"IF(AND(F130>599,F130<1001),F130,\"не производим\")","v":850},{"$f":"IF(G127=\"\",1,G127)","v":1},null,null,null,null,{"$f":"IF(OR(C127=\"СРПШЗ\",C127=\"СРПШЗС\"),ROUND(ROUND(ROUND((((D128*E128*(G128-1+3)/1000000*1.15+E128*800*3/1000000)*1150+380*1.5*((G128-1)/10+1))+2500+3500*(F128/850-1)+2500*1.5*((G128-1)/10+1))*1.18,0)*0.97,0)*(0.85+0.694),0),IF(OR(C127=\"СРЦШЗ\",C127=\"СРЦШЗС\"),ROUND(ROUND(ROUND((((D128*E128*(G128-1+3)/1000000+E128*800*3/1000000)*1150+380*1.5*((G128-1)/10+1))+2500+3500*(F128/850-1)+2500*1.5*((G128-1)/10+1))*1.18,0)*0.97,0)*(0.85+0.6944),0)))","v":20473}]
[null,null,null,"400-2000","400-1000","600-1000","1_3","СПД",null,null,"К","Колеса"]
[null,null,null,null,null,{"$f":"IF(F127=870,850,F127)","v":850},null,null,null,"БЗС","Без задней стенки"]
[null,null,"СРПШЗ","с бортом",null,null,null,"СПД","Сплошная полка + дно"]
[null,null,"СРЦШЗ","без борта"]
[null,null,"СРПШЗС","с бортом, сквозной"]
[null,null,"СРЦШЗС","без борта, сквозной"]

{"sheet":"Столы закрытые с ванной","index":10,"n_rows":88,"n_cols":16,"rows_kept":88,"cut":false,"hidden":false,"merged":[[8,0,9,0],[8,1,9,1],[8,2,9,4],[8,5,9,5],[8,6,9,10],[8,13,9,14],[1,0,1,2],[2,0,2,2],[3,0,3,2],[6,1,6,11],[7,2,7,12],[17,6,17,10],[10,1,18,1],[10,2,10,4],[10,6,10,10],[11,2,11,4],[11,6,11,10],[12,2,12,4],[12,6,12,10],[13,2,13,4],[13,6,13,10],[23,13,24,14],[25,1,31,1],[25,2,25,4],[25,6,25,10],[25,13,31,14],[26,2,26,4],[26,6,26,10],[27,2,27,4],[18,2,18,4],[18,6,18,10],[20,0,20,12],[21,1,21,11],[23,1,24,1],[23,2,24,4],[23,5,24,5],[23,6,24,10],[10,13,18,14],[31,2,31,4],[31,6,31,10],[15,2,15,4],[15,6,15,10],[16,2,16,4],[16,6,16,10],[17,2,17,4],[33,2,33,12],[33,13,33,14],[34,13,34,14],[35,13,45,14],[38,11,38,12],[27,6,27,10],[29,2,29,4],[29,6,29,10],[30,2,30,4],[30,6,30,10],[40,3,40,5],[34,9,35,9],[34,6,34,7],[35,6,35,7],[36,6,36,7],[38,6,38,7],[39,6,39,7],[40,6,40,7],[39,9,39,12],[40,8,40,12],[49,0,50,0],[49,1,50,1],[49,2,50,4],[49,5,50,5],[49,6,50,10],[49,13,50,14],[41,8,41,12],[47,1,47,11],[48,2,48,12],[42,6,42,7],[42,8,42,12],[43,6,43,7],[43,8,43,12],[41,3,41,5],[42,3,42,5],[44,3,44,5],[43,3,43,5],[45,3,45,5],[61,2,61,4],[61,6,61,10],[55,2,55,4],[55,6,55,10],[57,2,57,4],[57,6,57,10],[58,2,58,4],[58,6,58,10],[51,1,61,1],[51,2,51,4],[51,6,51,10],[52,2,52,4],[52,6,52,10],[53,2,53,4],[53,6,53,10],[54,2,54,4],[54,6,54,10],[59,2,59,4],[59,6,59,10],[60,2,60,4],[60,6,60,10],[67,1,73,1],[67,13,73,14],[67,2,67,4],[67,6,67,10],[68,2,68,4],[62,0,62,12],[63,1,63,11],[65,1,66,1],[65,2,66,4],[65,5,66,5],[65,6,66,10],[68,6,68,10],[69,2,69,4],[69,6,69,10],[82,3,82,5],[84,8,84,12],[75,2,75,12],[80,11,80,12],[82,9,82,12],[71,2,71,4],[71,6,71,10],[72,2,72,4],[72,6,72,10],[73,2,73,4],[73,6,73,10],[76,6,76,7],[76,9,77,9],[77,6,77,7],[77,13,87,14],[78,6,78,7],[79,6,79,7],[80,6,80,7],[81,6,81,7],[81,9,81,12],[82,6,82,7],[41,6,41,7],[37,6,37,7],[75,13,75,14],[76,13,76,14],[65,13,66,14],[51,13,61,14],[86,3,86,5],[87,3,87,5],[83,3,83,5],[83,6,83,7],[83,8,83,12],[84,3,84,5],[84,6,84,7],[85,3,85,5],[85,6,85,7],[85,8,85,12]]}
["Нейтральное оборудование/Столы закрытые с ванной",null,null,null,null,null,null,null,null,null,null,null,null,null,"На главную"]
[]
["Ваша скидка:",null,null,{"$f":"Содержание!C2","v":0}]
["НДС:",null,null,{"$f":"IF(Лист2!A1=TRUE,\"С НДС\",\"БЕЗ НДС\")","v":"С НДС"}]
[]
[]
[null,"Стол закрытый с ванной, двери купе  СВП Ш К "]
[]
[null,"Изображение","Артикул",null,null,"Модель","Характеристика номенклатуры",null,null,null,null,"Базовая цена,","Ваша цена,","Техническое описание",null,"Базовая цена,"]
[null,null,null,null,null,null,null,null,null,null,null,"руб","руб",null,null,"руб"]
[null,null,"СВПШК_80608587_25",null,null,"СВПШК","L=800, S=600, H=850-870, G=250",null,null,null,null,{"$f":"ROUND(P11*(1+'Повышение цен'!$C$12),0)","v":42202},{"$f":"ROUND(IF($D$4=\"С НДС\",L11*(1-$D$3),L11*(1-$D$3)/1.22),0)","v":42202},"шлифованная н/ст, толщина столешницы - 1 мм, двери купе, сварная конструкция, стол закрыт с трех сторон,  каркас - труба 40*40*1,2 мм, Hстолешницы -50 мм, Hборта - 40 мм, столешница усилена швеллером, отверстие для смесителя диаметром 31 мм, регулируемые ножки(+/-20мм); 1 цельнотянутая емкость : 400*400*250 мм при глубине изделия 600 мм; 500*500*300 мм при глубине изделия 700 мм и выше; с отверстием для слива 54 мм",null,35058]
[null,null,"СВПШК_100608587_25",null,null,"СВПШК","L=1000, S=600, H=850-870, G=250",null,null,null,null,{"$f":"ROUND(P12*(1+'Повышение цен'!$C$12),0)","v":43521},{"$f":"ROUND(IF($D$4=\"С НДС\",L12*(1-$D$3),L12*(1-$D$3)/1.22),0)","v":43521},null,null,36154]
[null,null,"СВПШК_120608587_25",null,null,"СВПШК","L=1200, S=600, H=850-870, G=250",null,null,null,null,{"$f":"ROUND(P13*(1+'Повышение цен'!$C$12),0)","v":44837},44837,null,null,37247]
[null,null,"СВПШК_150608587_25",null,null,"СВПШК","L=1500, S=600, H=850-870, G=250",null,null,null,null,{"$f":"ROUND(P14*(1+'Повышение цен'!$C$12),0)","v":46819},46819,null,null,38893]
[]
[null,null,"СВПШК_80708587_30",null,null,"СВПШК","L=800, S=700, H=850-870, G=300",null,null,null,null,{"$f":"ROUND(P16*(1+'Повышение цен'!$C$12),0)","v":45943},{"$f":"ROUND(IF($D$4=\"С НДС\",L16*(1-$D$3),L16*(1-$D$3)/1.22),0)","v":45943},null,null,38166]
[null,null,"СВПШК_100708587_30",null,null,"СВПШК","L=1000, S=700, H=850-870, G=300",null,null,null,null,{"$f":"ROUND(P17*(1+'Повышение цен'!$C$12),0)","v":47401},47401,null,null,39377]
[null,null,"СВПШК_120708587_30",null,null,"СВПШК","L=1200, S=700, H=850-870, G=300",null,null,null,null,{"$f":"ROUND(P18*(1+'Повышение цен'!$C$12),0)","v":48858},48858,null,null,40587]
[null,null,"СВПШК_150708587_30",null,null,"СВПШК","L=1500, S=700, H=850-870, G=300",null,null,null,null,{"$f":"ROUND(P19*(1+'Повышение цен'!$C$12),0)","v":51045},51045,null,null,42404]
[]
[]
[null,"Стол закрытый с двумя ваннами, двери купе СВП Ш К2 "]
[]
[null,"Изображение","Артикул",null,null,"Модель","Характеристика номенклатуры",null,null,null,null,"Базовая цена,","Ваша цена,","Техническое описание",null,"Базовая цена,"]
[null,null,null,null,null,null,null,null,null,null,null,"руб","руб",null,null,"руб"]
[null,null,"СВПШК2_100608587_25",null,null,"СВПШК2","L=1000, S=600, H=850-870, G=250",null,null,null,null,{"$f":"ROUND(P26*(1+'Повышение цен'!$C$12),0)","v":52225},{"$f":"ROUND(IF($D$4=\"С НДС\",L26*(1-$D$3),L26*(1-$D$3)/1.22),0)","v":52225},"шлифованная н/ст, толщина столешницы - 1 мм, двери купе, сварная конструкция, стол закрыт с трех сторон,  каркас - труба 40*40*1,2 мм, Hстолешницы -50 мм, Hборта - 40 мм, столешница усилена швеллером, отверстие для смесителя диаметром 31 мм, регулируемые ножки(+/-20мм); 2 цельнотянутые емкости : 400*400*250 мм при глубине изделия 600 мм; 500*500*300 мм при глубине изделия 700 мм и выше; с отверстием для слива 54 мм",null,43384]
[null,null,"СВПШК2_120608587_25",null,null,"СВПШК2","L=1200, S=600, H=850-870, G=250",null,null,null,null,{"$f":"ROUND(P27*(1+'Повышение цен'!$C$12),0)","v":53804},53804,null,null,44696]
[null,null,"СВПШК2_150608587_25",null,null,"СВПШК2","L=1500, S=600, H=850-870, G=250",null,null,null,null,{"$f":"ROUND(P28*(1+'Повышение цен'!$C$12),0)","v":56182},56182,null,null,46671]
[]
[null,null,"СВПШК2_100708587_25",null,null,"СВПШК2","L=1000, S=700, H=850-870, G=250",null,null,null,null,{"$f":"ROUND(P30*(1+'Повышение цен'!$C$12),0)","v":53929},{"$f":"ROUND(IF($D$4=\"С НДС\",L30*(1-$D$3),L30*(1-$D$3)/1.22),0)","v":53929},null,null,44800]
[null,null,"СВПШК2_120708587_30",null,null,"СВПШК2","L=1200, S=700, H=850-870, G=300",null,null,null,null,{"$f":"ROUND(P31*(1+'Повышение цен'!$C$12),0)","v":58629},58629,null,null,48704]
[null,null,"СВПШК2_150708587_30",null,null,"СВПШК2","L=1500, S=700, H=850-870, G=300",null,null,null,null,{"$f":"ROUND(P32*(1+'Повышение цен'!$C$12),0)","v":61253},61253,null,null,50884]
[]
[null,null,"Формула расчета цены",null,null,null,null,null,null,null,null,null,null,"Техническое описание"]
[null,"Артикул",null,"Длина,","Глубина,","Высота","Цельн. Емкость",null,"Доп.",null,"Доп.","Базовая цена,","Ваша цена,","Нестандартной модели"]
[null,null,null,"мм","мм","мм","Глубина, мм",null,"двери",null,"колеса","руб","руб",{"$f":"CONCATENATE(\"шлифованная н/ст, толщина столешницы - 1 мм, двери купе, сварная конструкция, стол закрыт с трех сторон, каркас нерж. труба 40*40*1,2 мм, Hстолешницы -50 мм, Hборта - 40 мм, столешница усилена швеллером,\",IF(G37=300,\"цельнотянутая емкость 500*500*300 мм\",\"\"),IF(G37=250,\"цельнотянутая емкость 400*400*250 мм\",\"\"),IF(OR(OR(C37=\"СВПШК\",C37=\"СВПШПК\",C37=\"СВПШЛК\")),\" 1 шт, \",\"\"),IF(OR(OR(C37=\"СВПШК2\",C37=\"СВПШПК2\",C37=\"СВПШЛК2\")),\" 2 шт, \",\"\"),IF(K37=\"К\",\" 4 колеса(2 с тормозом)\",\"регулируемые ножки(+/-20мм)\"),\", длина \",D37,\"мм\",\", глубина \",E37,\"мм\",\" ,высота \",F37,\"мм, \",\"Объем в упаковке \",ROUND(D37/1000*E37/1000*(F37+150)/1000,2),\"м3\")","v":"шлифованная н/ст, толщина столешницы - 1 мм, двери купе, сварная конструкция, стол закрыт с трех сторон, каркас нерж. труба 40*40*1,2 мм, Hстолешницы -50 мм, Hборта - 40 мм, столешница усилена швеллером,цельнотянутая емкость 400*400*250 мм 1 шт, регулируемые ножки(+/-20мм), длина 1500мм, глубина 600мм ,высота 850мм, Объем в упаковке 0,9м3"}]
[null,{"$f":"UPPER(CONCATENATE(C37,\"_\",D37/10,E37/10,IF(AND(F40=850,K37=\"\"),8587,F40/10),\"_\",G37/10,IF(OR(I37=\"3ДВ\",K37=\"К\"),\"_\",\"\"),I37,K37))","v":"СВПШК_150608587_25"},"СВПШК",1500,600,850,250,null,null,null,null,{"$f":"ROUND((L38*IF(OR(OR(C37=\"СВПШК2\",C37=\"СВПШЛК2\",C37=\"СВПШПК2\")),1.2,1)*IF(D38>1500,1.05,1)*IF(E38>700,1.05,1)*IF(F38>850,1.05,1)*IF(I37=\"3ДВ\",1.07,1)+IF(K37=\"К\",6000,0))*1.05*1.07,0)*1.1*(1+'Повышение цен'!$C$12)","v":46818.174551508368},{"$f":"ROUND(IF($D$4=\"С НДС\",L37*(1-$D$3),L37*(1-$D$3)/1.22),0)","v":46818}]
[null,null,null,{"$f":"IF(AND(D37>599,D37<2001),D37,\"не производим\")","v":1500},{"$f":"IF(AND(E37>599,E37<1001),E37,\"не производим\")","v":600},{"$f":"IF(AND(F40>599,F40<1001),F40,\"не производим\")","v":850},null,null,null,null,null,{"$f":"IF(OR(OR(OR(OR(OR(C37=\"СВПШК\",C37=\"СВПШЛК\",C37=\"СВПШПК\",C37=\"СВПШК2\",C37=\"СВПШЛК2\",C37=\"СВПШПК2\"))))),IF(G37=250,ROUND(ROUND(ROUND((((D38*E38*2/1000000*1.15+800*D38*1/1000000+E38*800*3/1000000)*1150+380*3.5+250)+2500+2500*(F38/850-1)+Техно!X10+2500*2.5)*1.18,0)*0.97,0)*(0.85+0.694),0),IF(G37=300,ROUND(ROUND(ROUND((((D38*E38*2/1000000*1.15+800*D38*1/1000000+E38*800*3/1000000)*1150+380*3.5+250)+2500+2500*(F38/850-1)+Техно!X11+2500*2.5)*1.18,0)*0.97,0)*(0.85+0.694),0))))","v":31470}]
[null,null,null,{"$f":"IF(OR(OR(C37=\"СВПШК\",C37=\"СВПШЛК\",C37=\"СВПШПК\")),\"600-2000\",\"1000-2000\")","v":"600-2000"},"600-1000","600-1000",null,null,null,null,"К","Колеса"]
[null,null,null,null,null,{"$f":"IF(F37=870,850,F37)","v":850},null,null,"3ДВ","Три двери, при длине стола более 1200 мм"]
[null,null,"СВПШК","одна мойка, по центру",null,null,"G=250",null,"Цельнотянутая емкость 400*400*250 мм "]
[null,null,"СВПШЛК","одна мойка, слева",null,null,"G=300",null,"Цельнотянутая емкость 500*500*300 мм "]
[null,null,"СВПШПК","одна мойка, справа"]
[null,null,"СВПШК2","две мойки, по центру"]
[null,null,"СВПШЛК2","две мойки, слева"]
[null,null,"СВПШПК2","две мойки, справа"]
[]
[null,"Стол закрытый с ванной, двери распашные  СВП Ш Р"]
[]
[null,"Изображение","Артикул",null,null,"Модель","Характеристика номенклатуры",null,null,null,null,"Базовая цена,","Ваша цена,","Техническое описание",null,"Базовая цена,"]
[null,null,null,null,null,null,null,null,null,null,null,"руб","руб",null,null,"руб"]
[null,null,"СВПШР_60608587_25_ЛО",null,null,"СВПШР","L=600, S=600, H=850-870, G=250, Л/О",null,null,null,null,{"$f":"ROUND(P52*(1+'Повышение цен'!$C$12),0)","v":35610},{"$f":"ROUND(IF($D$4=\"С НДС\",L52*(1-$D$3),L52*(1-$D$3)/1.22),0)","v":35610},"шлифованная н/ст, толщина столешницы - 1 мм, двери распашные, сварная конструкция, стол закрыт с трех сторон,  каркас - труба 40*40*1,2 мм, Hстолешницы -50 мм, Hборта - 40 мм, столешница усилена швеллером, отверстие для смесителя диаметром 31 мм, регулируемые ножки(+/-20мм); 1 цельнотянутая емкость : 400*400*250 мм при глубине изделия 600 мм; 500*500*300 мм при глубине изделия 700 мм и выше; с отверстием для слива 54 мм",null,29582]
[null,null,"СВПШР_80608587_25",null,null,"СВПШР","L=800, S=600, H=850-870, G=250",null,null,null,null,{"$f":"ROUND(P53*(1+'Повышение цен'!$C$12),0)","v":36984},36984,null,null,30723]
[null,null,"СВПШР_100608587_25",null,null,"СВПШР","L=1000, S=600, H=850-870, G=250",null,null,null,null,{"$f":"ROUND(P54*(1+'Повышение цен'!$C$12),0)","v":38356},38356,null,null,31863]
[null,null,"СВПШР_120608587_25",null,null,"СВПШР","L=1200, S=600, H=850-870, G=250",null,null,null,null,{"$f":"ROUND(P55*(1+'Повышение цен'!$C$12),0)","v":39732},39732,null,null,33006]
[null,null,"СВПШР_150608587_25",null,null,"СВПШР","L=1500, S=600, H=850-870, G=250",null,null,null,null,{"$f":"ROUND(P56*(1+'Повышение цен'!$C$12),0)","v":43880},43880,null,null,36452]
[]
[null,null,"СВПШР_60708587_30_ЛО",null,null,"СВПШР","L=600, S=700, H=850-870, G=300, Л/О",null,null,null,null,{"$f":"ROUND(P58*(1+'Повышение цен'!$C$12),0)","v":39225},{"$f":"ROUND(IF($D$4=\"С НДС\",L58*(1-$D$3),L58*(1-$D$3)/1.22),0)","v":39225},null,null,32585]
[null,null,"СВПШР_80708587_30",null,null,"СВПШР","L=800, S=700, H=850-870, G=300",null,null,null,null,{"$f":"ROUND(P59*(1+'Повышение цен'!$C$12),0)","v":40683},40683,null,null,33796]
[null,null,"СВПШР_100708587_30",null,null,"СВПШР","L=1000, S=700, H=850-870, G=300",null,null,null,null,{"$f":"ROUND(P60*(1+'Повышение цен'!$C$12),0)","v":42143},42143,null,null,35009]
[null,null,"СВПШР_120708587_30",null,null,"СВПШР","L=1200, S=700, H=850-870, G=300",null,null,null,null,{"$f":"ROUND(P61*(1+'Повышение цен'!$C$12),0)","v":43600},43600,null,null,36219]
[null,null,"СВПШР_150708587_30",null,null,"СВПШР","L=1500, S=700, H=850-870, G=300",null,null,null,null,{"$f":"ROUND(P62*(1+'Повышение цен'!$C$12),0)","v":45787},45787,null,null,38036]
[]
[null,"Стол закрытый с двумя ваннами, двери распашные СВП Ш Р2 "]
[]
[null,"Изображение","Артикул",null,null,"Модель","Характеристика номенклатуры",null,null,null,null,"Базовая цена,","Ваша цена,","Техническое описание",null,"Базовая цена,"]
[null,null,null,null,null,null,null,null,null,null,null,"руб","руб",null,null,"руб"]
[null,null,"СВПШР2_100608587_25",null,null,"СВПШР2","L=1000, S=600, H=850-870, G=250",null,null,null,null,{"$f":"ROUND(P68*(1+'Повышение цен'!$C$12),0)","v":46026},{"$f":"ROUND(IF($D$4=\"С НДС\",L68*(1-$D$3),L68*(1-$D$3)/1.22),0)","v":46026},"шлифованная н/ст, толщина столешницы - 1 мм, двери распашные, сварная конструкция, стол закрыт с трех сторон,  каркас - труба 40*40*1,2 мм, Hстолешницы -50 мм, Hборта - 40 мм, столешница усилена швеллером, отверстие для смесителя диаметром 31 мм, регулируемые ножки(+/-20мм); 2 цельнотянутые емкости : 400*400*250 мм при глубине изделия 600 мм; 500*500*300 мм при глубине изделия 700 мм и выше; с отверстием для слива 54 мм",null,38235]
[null,null,"СВПШР2_120608587_25",null,null,"СВПШР2","L=1200, S=600, H=850-870, G=250",null,null,null,null,{"$f":"ROUND(P69*(1+'Повышение цен'!$C$12),0)","v":47679},47679,null,null,39608]
[null,null,"СВПШР2_150608587_25",null,null,"СВПШР2","L=1500, S=600, H=850-870, G=250",null,null,null,null,{"$f":"ROUND(P70*(1+'Повышение цен'!$C$12),0)","v":52653},52653,null,null,43740]
[]
[null,null,"СВПШР2_100708587_25",null,null,"СВПШР2","L=1000, S=700, H=850-870, G=250",null,null,null,null,{"$f":"ROUND(P72*(1+'Повышение цен'!$C$12),0)","v":47501},{"$f":"ROUND(IF($D$4=\"С НДС\",L72*(1-$D$3),L72*(1-$D$3)/1.22),0)","v":47501},null,null,39460]
[null,null,"СВПШР2_120708587_30",null,null,"СВПШР2","L=1200, S=700, H=850-870, G=300",null,null,null,null,{"$f":"ROUND(P73*(1+'Повышение цен'!$C$12),0)","v":52320},52320,null,null,43463]
[null,null,"СВПШР2_150708587_30",null,null,"СВПШР2","L=1500, S=700, H=850-870, G=300",null,null,null,null,{"$f":"ROUND(P74*(1+'Повышение цен'!$C$12),0)","v":57691},57691,null,null,47925]
[]
[null,null,"Формула расчета цены",null,null,null,null,null,null,null,null,null,null,"Техническое описание"]
[null,"Артикул",null,"Длина,","Глубина,","Высота","Цельн. Емкость",null,"Откр.",null,"Доп.","Базовая цена,","Ваша цена,","Нестандартной модели"]
[null,null,null,"мм","мм","мм","Глубина, мм",null,"двери",null,"колеса","руб","руб",{"$f":"CONCATENATE(\"шлифованная н/ст, толщина столешницы - 1 мм, двери распашные, сварная конструкция, стол закрыт с трех сторон, каркас нерж. труба 40*40*1,2 мм, Hстолешницы -50 мм, Hборта - 40 мм, столешница усилена швеллером,\",IF(G79=300,\"цельнотянутая емкость 500*500*300 мм\",\"\"),IF(G79=250,\"цельнотянутая емкость 400*400*250 мм\",\"\"),IF(OR(OR(C79=\"СВПШР\",C79=\"СВПШПР\",C79=\"СВПШЛР\")),\" 1 шт, \",\"\"),IF(OR(OR(C79=\"СВПШР2\",C79=\"СВПШПР2\",C79=\"СВПШЛР2\")),\" 2 шт, \",\"\"),IF(K79=\"К\",\" 4 колеса(2 с тормозом)\",\"регулируемые ножки(+/-20мм)\"),\", длина \",D79,\"мм\",\", глубина \",E79,\"мм\",\" ,высота \",F79,\"мм, \",\"Объем в упаковке \",ROUND(D79/1000*E79/1000*(F79+150)/1000,2),\"м3\")","v":"шлифованная н/ст, толщина столешницы - 1 мм, двери распашные, сварная конструкция, стол закрыт с трех сторон, каркас нерж. труба 40*40*1,2 мм, Hстолешницы -50 мм, Hборта - 40 мм, столешница усилена швеллером,цельнотянутая емкость 400*400*250 мм 2 шт, регулируемые ножки(+/-20мм), длина 1000мм, глубина 700мм ,высота 850мм, Объем в упаковке 0,7м3"}]
[null,{"$f":"UPPER(CONCATENATE(C79,\"_\",D79/10,E79/10,IF(AND(F82=850,K79=\"\"),8587,F82/10),\"_\",G79/10,IF(OR(OR(I79=\"Л/О\",I79=\"П/О\",K79=\"К\")),\"_\",\"\"),I79,K79))","v":"СВПШР2_100708587_25"},"СВПШР2",1000,700,850,250,null,null,null,null,{"$f":"ROUND((L80*IF(OR(OR(C79=\"СВПШР2\",C79=\"СВПШЛР2\",C79=\"СВПШПР2\")),1.2,1)*IF(D80>1200,1.05,1)*IF(E80>700,1.05,1)*IF(F80>850,1.05,1)+IF(K79=\"К\",6000,0))*1.05*1.07,0)*1.1*(1+'Повышение цен'!$C$12)","v":47501.438914112048},{"$f":"ROUND(IF($D$4=\"С НДС\",L79*(1-$D$3),L79*(1-$D$3)/1.22),0)","v":47501}]
[null,null,null,{"$f":"IF(AND(D79>499,D79<1501),D79,\"не производим\")","v":1000},{"$f":"IF(AND(E79>399,E79<1001),E79,\"не производим\")","v":700},{"$f":"IF(AND(F82>599,F82<1001),F82,\"не производим\")","v":850},{"$f":"IF(G79=\"\",1,G79)","v":250},null,null,null,null,{"$f":"IF(OR(OR(OR(OR(OR(C79=\"СВПШР\",C79=\"СВПШЛР\",C79=\"СВПШПР\",C79=\"СВПШР2\",C79=\"СВПШЛР2\",C79=\"СВПШПР2\"))))),IF(G79=250,ROUND(ROUND(ROUND((((D80*E80*2/1000000*1.15+800*D80*1/1000000+E80*800*2/1000000)*1150+380*3.5+250)+1500+Техно!X10+2500*(F80/850-1)+1500*3.5)*1.18,0)*1.042*0.97,0)*(0.85+0.694),0),IF(G79=300,ROUND(ROUND(ROUND((((D80*E80*2/1000000*1.15+800*D80*1/1000000+E80*800*3/1000000)*1150+380*3.5+250)+1500+Техно!X11+2500*(F80/850-1)+1500*3.5)*1.18,0)*0.97,0)*(0.85+0.694),0))))","v":26608}]
[null,null,null,{"$f":"IF(OR(OR(C79=\"СВПШР\",C79=\"СВПШЛР\",C79=\"СВПШПР\")),\"600-2000\",\"1000-2000\")","v":"1000-2000"},"600-1000","600-1000",null,null,null,null,"К","Колеса"]
[null,null,null,null,null,{"$f":"IF(F79=870,850,F79)","v":850},null,null,"П/О","Правая дверь, при длине стола менее 750 мм"]
[null,null,"СВПШР","одна мойка, по центру",null,null,null,null,"Л/О","Левая дверь, при длине стола менее 750 мм"]
[null,null,"СВПШЛР","одна мойка, слева",null,null,"G=250",null,"Цельнотянутая емкость 400*400*250 мм"]
[null,null,"СВПШПР","одна мойка, справа",null,null,"G=300",null,"Цельнотянутая емкость 500*500*300 мм "]
[null,null,"СВПШР2","две мойки, по центру"]
[null,null,"СВПШЛР2","две мойки, слева"]
[null,null,"СВПШПР2","две мойки, справа"]

{"sheet":"Столы для моек, для рыбы","index":11,"n_rows":63,"n_cols":15,"rows_kept":63,"cut":false,"hidden":true,"merged":[[34,2,34,11],[47,1,47,10],[33,0,33,11],[29,0,30,0],[29,1,30,1],[29,2,30,4],[29,5,30,5],[29,6,30,9],[42,9,42,11],[31,1,32,1],[31,2,31,4],[31,6,31,9],[59,1,60,1],[59,2,60,4],[59,5,60,5],[59,6,60,9],[34,12,34,13],[35,2,36,2],[36,12,44,13],[39,10,39,11],[41,4,41,8],[42,4,42,8],[44,3,44,8],[43,4,43,8],[51,1,55,1],[49,12,50,13],[35,12,35,13],[40,10,40,11],[61,1,62,1],[61,2,61,4],[61,6,61,9],[62,2,62,4],[62,6,62,9],[62,12,62,13],[61,12,61,13],[51,2,51,4],[51,6,51,9],[51,12,55,13],[52,2,52,4],[52,6,52,9],[53,2,53,4],[53,6,53,9],[54,2,54,4],[59,12,60,13],[54,6,54,9],[55,2,55,4],[55,6,55,9],[56,0,56,11],[57,1,57,10],[49,0,50,0],[49,1,50,1],[49,2,50,4],[49,5,50,5],[49,6,50,9],[1,0,1,2],[2,0,2,2],[3,0,3,2],[3,4,3,8],[27,1,27,10],[10,1,11,1],[10,2,10,4],[10,6,10,9],[8,6,9,9],[22,9,22,11],[13,2,13,11],[14,2,15,2],[18,10,18,11],[19,10,19,11],[21,4,21,8],[22,4,22,8],[6,1,6,10],[7,2,7,11],[31,12,32,13],[32,2,32,4],[32,6,32,9],[29,12,30,13],[28,2,28,11],[13,12,13,13],[14,12,14,13],[15,12,23,13],[23,3,23,8],[20,9,20,11],[8,0,9,0],[8,1,9,1],[8,2,9,4],[8,5,9,5],[10,12,11,13],[11,2,11,4],[11,6,11,9],[8,12,9,13]]}
["Нейтральное оборудование/Столы для моек, для чистки рыбы",null,null,null,null,null,null,null,null,null,null,null,null,"На главную"]
[]
["Ваша скидка:",null,null,{"$f":"Содержание!C2","v":0}]
["НДС:",null,null,{"$f":"IF(Лист2!A1=TRUE,\"С НДС\",\"БЕЗ НДС\")","v":"С НДС"},"Складская программа"]
[]
[]
[null,"Стол для посудомоечной машины, входной СПМ Ш ВХЛ"]
[]
[null,"Изображение","Артикул",null,null,"Модель","Характеристика номенклатуры",null,null,null,"Базовая цена,","Ваша цена,","Техническое описание",null,"Базовая цена,"]
[null,null,null,null,null,null,null,null,null,null,"руб","руб",null,null,"руб"]
[null,null,"СПМШВХЛ1_120758587",null,null,"СПМШВХ","L=1200, S=750, H=850-870; G=300",null,null,null,{"$f":"ROUND(O11*(1+'Повышение цен'!$C$12),0)","v":43736},{"$f":"ROUND(IF($D$4=\"С НДС\",K11*(1-$D$3),K11*(1-$D$3)/1.2),0)","v":43736},"шлифованная н/ст, толщина нержавеющей стали   - 1 мм, цельнотянутая емкость 500*400*300 со сливным отверстием 54 мм; сварная конструкция, отверстие для смесителя диаметром 31 мм; каркас - труба 40*40*1,2 мм, Hстолешницы -50 мм, Hборта -200 мм, обвязка с трех сторон, отверстие для отходов диаметром 225 мм, углубление для кассеты, крепление для посудомоечной машины, регулируемые ножки(+/-20мм),",null,36332]
[null,null,"СПМШВХП1_120758587",null,null,"СПМШВХ","L=1200, S=750, H=850-870; G=300",null,null,null,{"$f":"ROUND(O12*(1+'Повышение цен'!$C$12),0)","v":43736},43736,null,null,36332]
[]
[null,null,"Формула расчета цены",null,null,null,null,null,null,null,null,null,"Техническое описание"]
[null,"Артикул","Модель","Левое/","Кол-во","Длина,","Глубина,","Высота","Доп.","Доп.","Базовая цена,","Ваша цена,","Нестандартной модели"]
[null,null,null,"Правое","ванн","мм","мм","мм","опция","колеса","руб","руб",{"$f":"CONCATENATE(\"шлифованная н/ст, толщина стали  - 1 мм, сварная конструкция, \",IF(F17<900,\"цельнотянутая емкость 400*400*300 \",\"\"),IF(OR(F17>900,F17=900),\"Цельнотянутая емкость 400*500*300 \",\"\"), E20,\" шт\",\", каркас - труба 40*40*1,2 мм,  \",IF(D17=\"ВХЛ\",\" расположен слева от машины, \",\"\"),IF(D17=\"ВХП\",\" расположен слева от машины, \",\"\"),IF(I17=\"СП\",\"сплошная полка\",\" \"),IF(J17=\"К\",\", 4 колеса(2 с тормозом)\",\"регулируемые ножки(+/-20мм)\"),\", длина \", F17,\"мм\",\", глубина \",G17,\"мм\",\" ,высота \",H17,\"мм\")","v":"шлифованная н/ст, толщина стали  - 1 мм, сварная конструкция, Цельнотянутая емкость 400*500*300 1 шт, каркас - труба 40*40*1,2 мм,   расположен слева от машины,  регулируемые ножки(+/-20мм), длина 1200мм, глубина 750мм ,высота 870мм"}]
[null,{"$f":"UPPER(CONCATENATE(C17,D17,IF(E17=\"\",1,E17),\"_\",F17/10,G17/10,IF(AND(H20=850,J17=\"\"),8587,H17/10),IF(J17=\"К\",\"_\",\"\"),J17))","v":"СПМШВХЛ1_120758587"},"СПМШ","ВХЛ",null,1200,750,870,null,null,{"$f":"ROUND((K18*IF(I17=\"СП\",1.1,1)+IF(J17=\"К\",6000,0))*1.07*1.1*(1+'Повышение цен'!$C$12),0)","v":43735},{"$f":"ROUND(IF($D$4=\"С НДС\",K17*(1-$D$3),K17*(1-$D$3)/1.2),0)","v":43735}]
[null,null,null,null,{"$f":"IF(AND(E20>0.99,E20<2.01),E20,\"не производим\")","v":1},{"$f":"IF(AND(F17>799,F17<2000),F17,\"не производим\")","v":1200},{"$f":"IF(AND(G17>499,G17<951),G17,\"не производим\")","v":750},{"$f":"IF(AND(H17>499,H17<951),H17,\"не производим\")","v":870},{"$f":"IF(AND(I17>4.99,I17<8.01),I17,\"не производим\")","v":"не производим"},null,{"$f":"IF(OR(E18=\"\",E18=1),IF(OR(D17=\"ВХЛ\",D17=\"ВХП\"),ROUND(ROUND(ROUND((((F18*G18*2/1000000*1.8+800*F18*1/1000000)*1150+380*3.5+250)+4000+2500*2.5)*1.2,0),0)*(0.85+0.694),0),IF(D17=\"ВХУ\",ROUND(ROUND(ROUND((((F18*G18*2/1000000*1.9+800*F18*1/1000000)*1150+380*3.5+250)+4000+2900*2.5)*1.2,0),0)*(0.85+0.694),0))),IF(E18=2,IF(OR(D17=\"ВХЛ\",D17=\"ВХП\"),ROUND(ROUND(ROUND((((F18*G18*2/1000000*1.8+800*F18*1/1000000)*1150+380*3.5+250)+5500+3000*2.5)*1.2,0),0)*(0.85+0.694),0),IF(D17=\"ВХУ\",ROUND(ROUND(ROUND((((F18*G18*2/1000000*1.9+800*F18*1/1000000)*1150+380*3.5+250)+5500+3300*2.5)*1.2,0),0)*(0.85+0.694),0)))))","v":30868}]
[null,null,null,null,"1_2",{"$f":"IF(E20=1,\"800-1300\",IF(E20=2,\"1000-1500\",\"ошибка\"))","v":"800-1300"},"700-800","850-870"]
[null,null,null,null,{"$f":"IF(E17=\"\",1,E17)","v":1},null,null,{"$f":"IF(H17=870,850,H17)","v":850},null,"К","Колеса"]
[null,null,null,null,null,null,null,null,"СП","Сплошная полка"]
[null,null,null,"ВХЛ","Стол входной, расположен слева от машины "]
[null,null,null,"ВХП","Стол входной, расположен справа от машины "]
[null,null,"СПМШ","Стол для посудомоечной машины"]
[]
[]
[]
[null,"Стол для посудомоечной машины  СПМ ВЫХ"]
[]
[null,"Изображение","Артикул",null,null,"Модель","Характеристика номенклатуры",null,null,null,"Базовая цена,","Ваша цена,","Техническое описание",null,"Базовая цена,"]
[null,null,null,null,null,null,null,null,null,null,"руб","руб",null,null,"руб"]
[null,null,"СПМШВЫХЛ_60758587_Н",null,null,"СПМШВЫХЛ","L=600, S=750, H=850-870, Н",null,null,null,{"$f":"ROUND(O32*(1+'Повышение цен'!$C$9),0)","v":21557},{"$f":"ROUND(IF($D$4=\"С НДС\",K32*(1-$D$3),K32*(1-$D$3)/1.2),0)","v":21557},"шлифованная н/ст, толщина нержавеющей стали   - 1 мм, сварная конструкция, каркас - труба 40*40*1,2 мм, 5 направляющих для кассет 500*500, регулируемые ножки(+/-20мм) крепление к посудомоечной машине слева/справа,",null,17908]
[null,null,"СПМШВЫХП_60758587_Н",null,null,"СПМШВЫХП","L=600, S=750, H=850-870, Н",null,null,null,{"$f":"ROUND(O33*(1+'Повышение цен'!$C$9),0)","v":21557},21557,null,null,17908]
[]
[null,null,"Формула расчета цены",null,null,null,null,null,null,null,null,null,"Техническое описание"]
[null,"Артикул","Модель","Левое/","Длина,","Глубина,","Высота","Доп.",null,"Доп.","Базовая цена,","Ваша цена,","Нестандартной модели"]
[null,null,null,"Правое","мм","мм","мм","опция",null,"колеса","руб","руб",{"$f":"CONCATENATE(\"шлифованная н/ст, толщина стали  - 1 мм,  каркас - труба 40*40*1,2 мм,  \",IF(D38=\"ВЫХЛ\",\" крепление для посудомоечной машины слева, \",\"\"),IF(D38=\"ВЫХП\",\" крепление для посудомоечной машины справа, \",\"\"),IF(D38=\"ВЫХУ\",\" крепление для посудомоечной машины съемное, устанавливается слева/справа, \",\"\"),IF(H38=\"ОБ\",\"без направляющих для кассет, \",\"\"),IF(H38=\"Н\",\"направляющие для кассет снизу, \",\"\"),IF(J38=\"К\",\", 4 колеса(2 с тормозом)\",\"регулируемые ножки(+/-20мм)\"),\", длина \", E38,\"мм\",\", глубина \",F38,\"мм\",\" ,высота \",G38,\"мм\")","v":"шлифованная н/ст, толщина стали  - 1 мм,  каркас - труба 40*40*1,2 мм,   крепление для посудомоечной машины слева, направляющие для кассет снизу, регулируемые ножки(+/-20мм), длина 600мм, глубина 750мм ,высота 850мм"}]
[null,{"$f":"UPPER(CONCATENATE(C38,D38,\"_\",E38/10,F38/10,IF(AND(G41=850,J38=\"\"),8587,G38/10),\"_\",H38,J38))","v":"СПМШВЫХЛ_60758587_Н"},"СПМШ","ВЫХЛ",600,750,850,"Н",null,null,{"$f":"ROUND((K39+IF(J38=\"К\",6000,0))*1.07*1.1*(1+'Повышение цен'!$C$9),0)","v":21557},{"$f":"ROUND(IF($D$4=\"С НДС\",K38*(1-$D$3),K38*(1-$D$3)/1.2),0)","v":21557}]
[null,null,null,null,{"$f":"IF(AND(E38>599,E38<701),E38,\"не производим\")","v":600},{"$f":"IF(AND(F38>700,F38<801),F38,\"не производим\")","v":750},{"$f":"IF(AND(G38>499,G38<951),G38,\"не производим\")","v":850},{"$f":"IF(AND(H38>499,H38<951),H38,\"не производим\")","v":"не производим"},{"$f":"IF(AND(I38>4.99,I38<8.01),I38,\"не производим\")","v":"не производим"},null,{"$f":"IF(H38=\"ОБ\",ROUND(ROUND(ROUND((((E39*F39/1000000*1.8+400*E39*1/1000000)*550+380*3.5+250)+1850*2.6)*1.2,0),0)*(0.85+0.694),0),IF(H38=\"Н\",ROUND(ROUND(ROUND((((E39*F39/1000000*1.8+400*E39*2*1/1000000)*550+380*3.5+250+5*2*100*F39*0.000789)+2050*2.6)*1.2,0),0)*(0.85+0.694),0)))","v":15215}]
[null,null,null,null,"600-700","700-800","850-870","ОБ_Н"]
[null,null,null,null,{"$f":"IF(E38=\"\",1,E38)","v":600},null,{"$f":"IF(G38=870,850,G38)","v":850},null,null,"К","Колеса"]
[null,null,null,"ВЫХЛ","Стол выходной, расположен слева от машины "]
[null,null,null,"ВЫХП","Стол выходной, расположен справа от машины "]
[null,null,null,"ВЫХУ","Стол выходной, крепление для машины сьемное, устанавливается слева/справа"]
[null,null,"СПМШ","Стол для посудомоечной машины"]
[]
[]
[null,"Стол под рыбу СПР Э"]
[]
[null,"Изображение","Артикул",null,null,"Модель","Характеристика номенклатуры",null,null,null,"Базовая цена,","Ваша цена,","Техническое описание",null,"Базовая цена,"]
[null,null,null,null,null,null,null,null,null,null,"руб","руб",null,null,"руб"]
[null,null,"СПРЭ_110110100_ОБ",null,null,"СПРЭ","L=1100, S=1100, H=1000, ОБ",null,null,null,{"$f":"ROUND(O52*(1+'Повышение цен'!$C$9),0)","v":54974},{"$f":"ROUND(IF($D$4=\"С НДС\",K52*(1-$D$3),K52*(1-$D$3)/1.2),0)","v":54974},"шлифованная н/ст, столешница с теплоизоляцией, поддоны перфорированные съемные;толщина стали - 1 мм, разборная конструкция(столешница + каркас), каркас - труба 40*40*1,2 мм, регулируемые ножки(+/-20мм),",null,45668]
[null,null,"СПРЭ_150110110_ОБ",null,null,"СПРЭ","L=1500, S=1100, H=1100, ОБ",null,null,null,{"$f":"ROUND(O53*(1+'Повышение цен'!$C$9),0)","v":71862},71862,null,null,59697]
[null,null,"СПРЭ_180110100_ОБ",null,null,"СПРЭ","L=1800, S=1100, H=1000, ОБ",null,null,null,{"$f":"ROUND(O54*(1+'Повышение цен'!$C$9),0)","v":80306},80306,null,null,66712]
[null,null,"СПРЭ_220110100_ОБ",null,null,"СПРЭ","L=2200, S=1100, H=1000, ОБ",null,null,null,{"$f":"ROUND(O55*(1+'Повышение цен'!$C$9),0)","v":86145},86145,null,null,71562]
[null,null,"СПРЭ_250110100_ОБ",null,null,"СПРЭ","L=2500, S=1100, H=1000, ОБ",null,null,null,{"$f":"ROUND(O56*(1+'Повышение цен'!$C$9),0)","v":99321},99321,null,null,82508]
[]
[null,"Стол для чистки рыбы СЧР Э"]
[]
[null,"Изображение","Артикул",null,null,"Модель","Характеристика номенклатуры",null,null,null,"Базовая цена,","Ваша цена,","Техническое описание",null,"Базовая цена,"]
[null,null,null,null,null,null,null,null,null,null,"руб","руб",null,null,"руб"]
[null,null,"СЧРЭП_130608587_ОБ",null,null,"СЧРЭП","L=1300, S=600, H=850-870, G=300",null,null,null,{"$f":"ROUND(O62*(1+'Повышение цен'!$C$12),0)","v":95694},{"$f":"ROUND(IF($D$4=\"С НДС\",K62*(1-$D$3),K62*(1-$D$3)/1.2),0)","v":95694},"шлифованная н/ст, столешница: цельнотянутая ванна справа, отверстие для отходов слева, пропиленовая столешница, направляющие для гастроемкости для сбора отходов, нижняя обвязка с трех сторон, каркас - труба 40*40*1,2 мм, регулируемые ножки(+/-20мм),",null,79495]
[null,null,"СЧРЭЛ_130608587_ОБ",null,null,"СЧРЭЛ","L=1300, S=600, H=850-870, G=300",null,null,null,{"$f":"ROUND(O63*(1+'Повышение цен'!$C$12),0)","v":95694},{"$f":"ROUND(IF($D$4=\"С НДС\",K63*(1-$D$3),K63*(1-$D$3)/1.2),0)","v":95694},"шлифованная н/ст, столешница: цельнотянутая ванна слева, отверстие для отходов справа, пропиленовая столешница, направляющие для гастроемкости для сбора отходов, нижняя обвязка с трех сторон, каркас - труба 40*40*1,2 мм, регулируемые ножки(+/-20мм),",null,79495]

{"sheet":"Цельнотянутые ванны","index":12,"n_rows":139,"n_cols":16,"rows_kept":139,"cut":false,"hidden":true,"merged":[[25,13,26,14],[27,1,33,1],[1,0,1,2],[2,0,2,2],[3,0,3,2],[3,4,3,9],[6,1,6,11],[7,2,7,12],[10,13,20,14],[12,2,12,4],[12,6,12,10],[13,2,13,4],[13,6,13,10],[14,2,14,4],[14,6,14,10],[8,0,9,0],[8,1,9,1],[8,2,9,4],[8,5,9,5],[8,6,9,10],[8,13,9,14],[20,2,20,4],[20,6,20,10],[27,2,27,4],[38,13,39,14],[27,6,27,10],[27,13,33,14],[28,2,28,4],[28,6,28,10],[29,2,29,4],[29,6,29,10],[31,2,31,4],[31,6,31,10],[32,2,32,4],[32,6,32,10],[33,2,33,4],[33,6,33,10],[51,13,51,14],[52,13,52,14],[53,13,69,14],[55,6,55,7],[56,6,56,7],[56,11,56,12],[67,6,67,7],[67,8,67,12],[57,6,57,7],[57,10,57,12],[60,9,60,12],[62,7,62,12],[63,7,63,12],[59,9,59,12],[19,2,19,4],[19,6,19,10],[10,1,20,1],[10,2,10,4],[10,6,10,10],[25,1,26,1],[25,2,26,4],[25,5,26,5],[25,6,26,10],[65,3,65,5],[64,3,64,5],[63,3,63,5],[61,3,61,5],[62,3,62,5],[11,6,11,10],[11,2,11,4],[17,2,17,4],[17,6,17,10],[36,1,36,11],[38,1,39,1],[38,2,39,4],[38,5,39,5],[51,2,51,12],[38,6,39,10],[45,6,45,10],[46,2,46,4],[46,6,46,10],[22,0,22,12],[23,1,23,11],[16,2,16,4],[16,6,16,10],[18,2,18,4],[18,6,18,10],[40,1,48,1],[40,2,40,4],[40,6,40,10],[40,13,48,14],[41,2,41,4],[41,6,41,10],[42,2,42,4],[42,6,42,10],[45,2,45,4],[48,2,48,4],[48,6,48,10],[43,2,43,4],[43,6,43,10],[47,2,47,4],[47,6,47,10],[81,1,89,1],[79,0,80,0],[79,1,80,1],[79,2,80,4],[79,5,80,5],[79,6,80,10],[86,6,86,10],[81,2,81,4],[81,6,81,10],[82,2,82,4],[82,6,82,10],[83,2,83,4],[83,6,83,10],[84,2,84,4],[84,6,84,10],[86,2,86,4],[87,2,87,4],[87,6,87,10],[88,2,88,4],[88,6,88,10],[89,2,89,4],[89,6,89,10],[117,2,117,4],[117,6,117,10],[94,1,95,1],[94,2,95,4],[94,5,95,5],[94,6,95,10],[96,1,104,1],[97,2,97,4],[97,6,97,10],[103,2,103,4],[101,2,101,4],[101,6,101,10],[103,6,103,10],[104,2,104,4],[104,6,104,10],[98,2,98,4],[98,6,98,10],[102,2,102,4],[99,6,99,10],[96,2,96,4],[96,6,96,10],[99,2,99,4],[102,6,102,10],[121,8,121,9],[122,8,122,9],[79,13,80,13],[81,13,89,13],[79,14,80,14],[130,8,130,9],[130,10,130,12],[137,4,137,7],[136,4,136,7],[120,13,120,14],[121,6,121,7],[121,13,121,14],[122,6,122,7],[123,6,123,7],[110,2,110,4],[110,6,110,10],[111,2,111,4],[111,6,111,10],[112,2,112,4],[112,6,112,10],[113,2,113,4],[113,6,113,10],[118,6,118,10],[115,2,115,4],[127,10,127,12],[122,13,138,14],[136,8,136,12],[127,4,127,7],[128,4,128,7],[129,4,129,7],[130,4,130,7],[131,4,131,7],[132,4,132,7],[133,4,133,7],[134,4,134,7],[135,4,135,7],[126,8,126,12],[124,6,124,7],[128,11,128,12],[125,8,125,12],[123,8,123,9],[138,4,138,7],[78,2,78,12],[77,1,77,11],[58,9,58,12],[120,2,120,12],[106,1,106,11],[108,1,109,1],[108,2,109,4],[108,5,109,5],[108,6,109,10],[110,1,118,1],[118,2,118,4],[91,0,91,12],[92,1,92,11],[58,3,58,5],[59,3,59,5],[61,8,61,12],[68,3,68,5],[69,3,69,5],[60,3,60,5],[67,3,67,5],[66,3,66,5],[115,6,115,10],[116,2,116,4],[116,6,116,10],[96,14,99,14],[101,14,104,14],[108,13,109,13],[110,13,118,13],[108,14,109,14],[110,14,113,14],[115,14,118,14],[81,14,84,14],[86,14,89,14],[94,13,95,13],[96,13,104,13],[94,14,95,14]]}
["Нейтральное оборудование/Цельнотянутые ванны",null,null,null,null,null,null,null,null,null,null,null,null,null,"На главную"]
[]
["Ваша скидка:",null,null,{"$f":"Содержание!C2","v":0}]
["НДС:",null,null,{"$f":"IF(Лист2!A1=TRUE,\"С НДС\",\"БЕЗ НДС\")","v":"С НДС"},"Складская программа"]
[]
[]
[null,"Одинарная цельнотянутая ванна ВМП Ш 1"]
[]
[null,"Изображение","Артикул",null,null,"Модель","Характеристика номенклатуры",null,null,null,null,"Базовая цена,","Ваша цена,","Техническое описание",null,"Базовая цена,"]
[null,null,null,null,null,null,null,null,null,null,null,"руб","руб",null,null,"руб"]
[null,null,"ВМПШ1_60608587_25",null,null,"ВМПШ1","L=600, S=600, H=850-870, G=250",null,null,null,null,{"$f":"ROUND(P11*(1+'Повышение цен'!$C$12),0)","v":29019},{"$f":"ROUND(IF($D$4=\"С НДС\",L11*(1-$D$3),L11*(1-$D$3)/1.2),0)","v":29019},"шлифованная н/ст, толщина столешницы - 1 мм, Aisi 304 разборная конструкция, стол закрыт с трех сторон фартуком,  каркас - труба 40*40*1,2 мм, Hстолешницы -50 мм, Hборта - 40 мм, столешница усилена швеллером; 1 цельнотянутая емкость : 400*400*250 мм при глубине изделия 600 мм; 500*500*300 мм при глубине изделия 700 мм и выше с отверстием для слива 54 мм, отверстие для смесителя, диаметром 31 мм, регулируемые ножки(+/-20мм)",null,24107]
[null,null,"ВМПШ1_80608587_25",null,null,"ВМПШ1","L=800, S=600, H=850-870, G=250",null,null,null,null,{"$f":"ROUND(P12*(1+'Повышение цен'!$C$12),0)","v":31328},31328,null,null,26025]
[null,null,"ВМПШ1_100608587_25",null,null,"ВМПШ1","L=1000, S=600, H=850-870, G=250",null,null,null,null,{"$f":"ROUND(P13*(1+'Повышение цен'!$C$12),0)","v":33635},33635,null,null,27941]
[null,null,"ВМПШ1_120608587_25",null,null,"ВМПШ1","L=1200, S=600, H=850-870, G=250",null,null,null,null,{"$f":"ROUND(P14*(1+'Повышение цен'!$C$12),0)","v":35942},35942,null,null,29858]
[null,null,"ВМПШ1_150608587_25",null,null,"ВМПШ1","L=1500, S=600, H=850-870, G=250",null,null,null,null,{"$f":"ROUND(P15*(1+'Повышение цен'!$C$12),0)","v":39404},39404,null,null,32734]
[]
[null,null,"ВМПШ1_70708587_30",null,null,"ВМПШ1","L=700, S=700, H=850-870, G=300",null,null,null,null,{"$f":"ROUND(P17*(1+'Повышение цен'!$C$12),0)","v":31740},31740,null,null,26367]
[null,null,"ВМПШ1_80708587_30",null,null,"ВМПШ1","L=800, S=700, H=850-870, G=300",null,null,null,null,{"$f":"ROUND(P18*(1+'Повышение цен'!$C$12),0)","v":32996},32996,null,null,27410]
[null,null,"ВМПШ1_100708587_30",null,null,"ВМПШ1","L=1000, S=700, H=850-870, G=300",null,null,null,null,{"$f":"ROUND(P19*(1+'Повышение цен'!$C$12),0)","v":35511},35511,null,null,29500]
[null,null,"ВМПШ1_120708587_30",null,null,"ВМПШ1","L=1200, S=700, H=850-870, G=300",null,null,null,null,{"$f":"ROUND(P20*(1+'Повышение цен'!$C$12),0)","v":38026},38026,null,null,31589]
[null,null,"ВМПШ1_150708587_30",null,null,"ВМПШ1","L=1500, S=700, H=850-870, G=300",null,null,null,null,{"$f":"ROUND(P21*(1+'Повышение цен'!$C$12),0)","v":41798},41798,null,null,34722]
[]
[]
[null,"Двойная цельнотянутая ванна ВМП Ш 2"]
[]
[null,"Изображение","Артикул",null,null,"Модель","Характеристика номенклатуры",null,null,null,null,"Базовая цена,","Ваша цена,","Техническое описание",null,"Базовая цена,"]
[null,null,null,null,null,null,null,null,null,null,null,"руб","руб",null,null,"руб"]
[null,null,"ВМПШ2_100608587_25",null,null,"ВМПШ2","L=1000, S=600, H=850-870, G=250",null,null,null,null,{"$f":"ROUND(P28*(1+'Повышение цен'!$C$12),0)","v":37598},{"$f":"ROUND(IF($D$4=\"С НДС\",L28*(1-$D$3),L28*(1-$D$3)/1.2),0)","v":37598},"шлифованная н/ст, толщина столешницы - 1 мм, Aisi 304 разборная конструкция, стол закрыт с трех сторон фартуком,  каркас - труба 40*40*1,2 мм, Hстолешницы -50 мм, Hборта - 40 мм, столешница усилена швеллером; 2 цельнотянутые емкости : 400*400*250 мм при глубине изделия 600 мм; 500*500*300 мм при глубине изделия 700 мм и выше с отверстием для слива 54 мм, отверстие для смесителя, диаметром 31 мм, регулируемые ножки(+/-20мм)",null,31233]
[null,null,"ВМПШ2_120608587_25",null,null,"ВМПШ2","L=1200, S=600, H=850-870, G=250",null,null,null,null,{"$f":"ROUND(P29*(1+'Повышение цен'!$C$12),0)","v":39684},39684,null,null,32966]
[null,null,"ВМПШ2_150608587_25",null,null,"ВМПШ2","L=1500, S=600, H=850-870, G=250",null,null,null,null,{"$f":"ROUND(P30*(1+'Повышение цен'!$C$12),0)","v":42811},42811,null,null,35564]
[]
[null,null,"ВМПШ2_100708587_25",null,null,"ВМПШ2","L=1000, S=700, H=850-870, G=250",null,null,null,null,{"$f":"ROUND(P32*(1+'Повышение цен'!$C$12),0)","v":40796},{"$f":"ROUND(IF($D$4=\"С НДС\",L32*(1-$D$3),L32*(1-$D$3)/1.2),0)","v":40796},null,null,33890]
[null,null,"ВМПШ2_120708587_30",null,null,"ВМПШ2","L=1200, S=700, H=850-870, G=300",null,null,null,null,{"$f":"ROUND(P33*(1+'Повышение цен'!$C$12),0)","v":43019},43019,null,null,35737]
[null,null,"ВМПШ2_150708587_30",null,null,"ВМПШ2","L=1500, S=700, H=850-870, G=300",null,null,null,null,{"$f":"ROUND(P34*(1+'Повышение цен'!$C$12),0)","v":46449},46449,null,null,38586]
[]
[]
[null,"Тройная цельнотянутая ванна ВМП Ш 3"]
[]
[null,"Изображение","Артикул",null,null,"Модель","Характеристика номенклатуры",null,null,null,null,"Базовая цена,","Ваша цена,","Техническое описание",null,"Базовая цена,"]
[null,null,null,null,null,null,null,null,null,null,null,"руб","руб",null,null,"руб"]
[null,null,"ВМПШ3_150608587_25",null,null,"ВМПШ3","L=1500, S=600, H=850-870, G=250",null,null,null,null,{"$f":"ROUND(P41*(1+'Повышение цен'!$C$12),0)","v":64666},{"$f":"ROUND(IF($D$4=\"С НДС\",L41*(1-$D$3),L41*(1-$D$3)/1.2),0)","v":64666},"шлифованная н/ст, толщина столешницы - 1 мм, Aisi 304 разборная конструкция, стол закрыт с трех сторон фартуком,  каркас - труба 40*40*1,2 мм, Hстолешницы -50 мм, Hборта - 40 мм, столешница усилена швеллером; 3 цельнотянутые емкости : 400*400*250 мм при глубине изделия 600 мм; 500*500*300 мм при глубине изделия 700 мм и выше с отверстием для слива 54 мм, два отверстия для смесителей, диаметром 31 мм, регулируемые ножки(+/-20мм)",null,53719]
[null,null,"ВМПШ3_160608587_25",null,null,"ВМПШ3","L=1600, S=600, H=850-870, G=250",null,null,null,null,{"$f":"ROUND(P42*(1+'Повышение цен'!$C$12),0)","v":66220},66220,null,null,55010]
[null,null,"ВМПШ3_170608587_25",null,null,"ВМПШ3","L=1700, S=600, H=850-870, G=250",null,null,null,null,{"$f":"ROUND(P43*(1+'Повышение цен'!$C$12),0)","v":67774},67774,null,null,56301]
[null,null,"ВМПШ3_180608587_25",null,null,"ВМПШ3","L=1800, S=600, H=850-870, G=250",null,null,null,null,{"$f":"ROUND(P44*(1+'Повышение цен'!$C$12),0)","v":69330},{"$f":"ROUND(IF($D$4=\"С НДС\",L44*(1-$D$3),L44*(1-$D$3)/1.2),0)","v":69330},null,null,57594]
[]
[null,null,"ВМПШ3_150708587_25",null,null,"ВМПШ3","L=1500, S=700, H=850-870, G=250",null,null,null,null,{"$f":"ROUND(P46*(1+'Повышение цен'!$C$12),0)","v":67267},{"$f":"ROUND(IF($D$4=\"С НДС\",L46*(1-$D$3),L46*(1-$D$3)/1.2),0)","v":67267},null,null,55880]
[null,null,"ВМПШ3_160708587_25",null,null,"ВМПШ3","L=1600, S=700, H=850-870, G=250",null,null,null,null,{"$f":"ROUND(P47*(1+'Повышение цен'!$C$12),0)","v":69002},69002,null,null,57321]
[null,null,"ВМПШ3_170708587_25",null,null,"ВМПШ3","L=1700, S=700, H=850-870, G=250",null,null,null,null,{"$f":"ROUND(P48*(1+'Повышение цен'!$C$12),0)","v":70738},{"$f":"ROUND(IF($D$4=\"С НДС\",L48*(1-$D$3),L48*(1-$D$3)/1.2),0)","v":70738},null,null,58763]
[null,null,"ВМПШ3_180708587_30",null,null,"ВМПШ3","L=1800, S=700, H=850-870, G=300",null,null,null,null,{"$f":"ROUND(P49*(1+'Повышение цен'!$C$12),0)","v":73346},73346,null,null,60930]
[]
[]
[null,null,"Формула расчета цены",null,null,null,null,null,null,null,null,null,null,"Техническое описание"]
[null,"Артикул",null,"Длина,","Глубина,","Высота","Емк.","СП","Доп","Каркас","Доп.","Базовая цена,","Ваша цена,","Нестандартной модели"]
[null,null,null,"мм","мм","мм","Гл, мм","полка","Борт","Разб/Св","колеса","руб","руб",{"$f":"CONCATENATE(\"шлифованная н/ст, толщина столешницы - 1 мм Aisi 304, \",IF(J55=\"СВ\",\" сварная конструкция, \",\" разборная конструкция, \"),IF(I55=\"СП\",\"сплошная полка\",\"без нижней обвязки\"),\", ванна закрыта с трех сторон, каркас нерж. труба 40*40*1,2 мм, Hстолешницы -50 мм,\", IF(OR(OR(OR(OR(OR(OR(C55=\"ВМПШ1\",C55=\"ВМПШЛ1\",C55=\"ВМПШП1\",C55=\"ВМПШ2\",C55=\"ВМПШЛ2\",C55=\"ВМПШП2\",C55=\"ВМПШ3\")))))),\"Hборта - 40 мм, \",\"без борта,\"),\" столешница усилена швеллером,\",IF(G55=300,\"цельнотянутая емкость 500*500*300 мм\",\"\"),IF(G55=250,\"цельнотянутая емкость 400*400*250 мм\",\"\"),IF(OR(OR(OR(OR(C55=\"ВМПШ1\",C55=\"ВМПШЛ1\",C55=\"ВМПШП1\",C55=\"ВМЦШ1\",C55=\"ВМЦШЛП1\")))),\" 1 шт, \",\"\"),IF(OR(OR(OR(OR(C55=\"ВМПШ2\",C55=\"ВМПШП2\",C55=\"ВМПШЛ2\",C55=\"ВМЦШ2\",C55=\"ВМЦШЛП2\")))),\" 2 шт, \",\"\"),IF(OR(C55=\"ВМПШ3\",C55=\"ВМЦШ3\"),\" 3 шт, \",\"\"),IF(I55=\"2БП\",\"ванна моечная угловая, второй борт справа\",\"\"),IF(I55=\"2БЛ\",\"ванна моечная угловая, второй борт слева\",\"\"),IF(I55=\"3Б\",\"ванна моечная с тремя бортами\",\"\"),IF(K55=\"К\",\" 4 колеса(2 с тормозом)\",\", регулируемые ножки(+/-20мм)\"),\", длина \",D55,\"мм\",\", глубина \",E55,\"мм\",\" ,высота \",F55,\"мм, \",\"Объем в упаковке \",ROUND(D55/1000*E55/1000*(F55+150)/1000,2),\"м3\")","v":"шлифованная н/ст, толщина столешницы - 1 мм Aisi 304,  разборная конструкция, без нижней обвязки, ванна закрыта с трех сторон, каркас нерж. труба 40*40*1,2 мм, Hстолешницы -50 мм,Hборта - 40 мм,  столешница усилена швеллером,цельнотянутая емкость 400*400*250 мм 3 шт, , регулируемые ножки(+/-20мм), длина 1500мм, глубина 700мм ,высота 850мм, Объем в упаковке 1,05м3"}]
[null,{"$f":"UPPER(CONCATENATE(C55,\"_\",D55/10,E55/10,IF(AND(F58=850,K55=\"\"),8587,F58/10),\"_\",G55/10,IF(OR(OR(OR(OR(OR(H55=\"СП\",K55=\"К\",J55=\"СВ\",I55=\"2БП\",I55=\"2БЛ\",I55=\"3Б\"))))),\"_\",\"\"),H55,I55,J55,K55))","v":"ВМПШ3_150708587_25"},"ВМПШ3",1500,700,850,250,null,null,null,null,{"$f":"ROUND((L56*IF(OR(OR(OR(OR(OR(OR(C55=\"ВМПШ3\",C55=\"ВМПШ2\",C55=\"ВМПШ1\",C55=\"ВМПШЛ1\",C55=\"ВМПШП1\",C55=\"ВМПШЛ2\",C55=\"ВМПШП2\")))))),1,0.97)*IF(D56>1800,1.05,1)*IF(E56>700,1.05,1)*IF(F56>850,1.05,1)*IF(H55=\"СП\",1.15,1)*IF(OR(I55=\"2БП\",I55=\"2БЛ\"),1.07,1)*IF(I55=\"3Б\",1.15,1)*IF(J55=\"СВ\",1.07,1)+IF(K55=\"К\",6000,0))*1.1,0)*1.07*1.05*1.1*(1+'Повышение цен'!$C$12)","v":67267.344718594526},{"$f":"ROUND(IF($D$4=\"С НДС\",L55*(1-$D$3),L55*(1-$D$3)/1.2),0)","v":67267}]
[null,null,{"$f":"1*MID(C55,\nMATCH(FALSE,ISERROR(1*MID(C55,ROW(INDIRECT(\"A1:A\"&LEN(C55))),1)),0),\n255)","v":3},{"$f":"IF(C56=1,IF(AND(D55>499,D55<1801),D55,\"не производим\"),IF(C56=2,IF(AND(D55>999,D55<2001),D55,\"не производим\"),IF(C56=3,IF(AND(D55>1499,D55<2001),D55,\"не производим\"),\"ошибка\")))","v":1500},{"$f":"IF(AND(E55>599,E55<1001),E55,\"не производим\")","v":700},{"$f":"IF(AND(F58>599,F58<1001),F58,\"не производим\")","v":850},null,null,null,null,null,{"$f":"IF(OR(OR(OR(OR(C55=\"ВМПШ1\",C55=\"ВМПШЛ1\",C55=\"ВМПШП1\",C55=\"ВМЦШ1\",C55=\"ВМЦШЛП1\")))),IF(G55=300,ROUND((((((D56*E56*Техно!Y10*0.00001*1.5*Техно!Z8)*Техно!Z10)+(((D56*300*Техно!Y11*0.00001*1.25*Техно!Z8)+(E56*300*Техно!Y11*0.00001*1.25*Техно!Z8)*2)*Техно!Z11))+(F56*0.001*4*1.2)*Техно!Z19+((D56-600)*E56*0.00001*Техно!Y14*Техно!Z8)*Техно!Z14)*1.18+Техно!Z30+((D56/600)*Техно!Z25*0.45)+(Техно!Z26+Техно!Z27)*5)*1.18/0.68*(0.85+0.6944),0),IF(G55=250,ROUND((((((D56*E56*Техно!Y10*0.00001*1.55*Техно!Z8)*Техно!Z10)+(((D56*300*Техно!Y11*0.00001*1.25*Техно!Z8)+(E56*300*Техно!Y11*0.00001*1.25*Техно!Z8)*2)*Техно!Z11))+(F56*0.001*4*1.2)*Техно!Z19+((D56-600)*E56*0.00001*Техно!Y14*Техно!Z8)*Техно!Z14)*1.18+Техно!Z29*1.35+((D56/600)*Техно!Z25*0.45)+(Техно!Z26+Техно!Z27)*5)*1.18/0.68*(0.85+0.6944),0))),0)+IF(OR(OR(OR(OR(C55=\"ВМПШ2\",C55=\"ВМПШЛ2\",C55=\"ВМПШП2\",C55=\"ВМЦШ2\",C55=\"ВМЦШЛП2\")))),IF(G55=300,ROUND((((((D56*E56*Техно!AA10*0.00001*1.2*Техно!AB8)*Техно!AB10)+(((D56*300*Техно!AA11*0.00001*1.25*Техно!AB8)+(E56*300*Техно!AA11*0.00001*1.25*Техно!AB8)*2)*Техно!AB11))+(F56*0.001*4*1.2)*Техно!AB19+((D56-600)*E56*0.00001*Техно!AA14*Техно!AB8)*Техно!AB14)*1.18+Техно!AB30*1.55+((D56/600)*Техно!AB25*0.45)+(Техно!AB26+Техно!AB27)*5)*1.18/0.7*(0.85+0.6944),0),IF(G55=250,ROUND((((((D56*E56*Техно!AA10*0.00001*1.2*Техно!AB8)*Техно!AB10)+(((D56*300*Техно!AA11*0.00001*1.25*Техно!AB8)+(E56*300*Техно!AA11*0.00001*1.25*Техно!AB8)*2)*Техно!AB11))+(F56*0.001*4*1.2)*Техно!AB19+((D56-600)*E56*0.00001*Техно!AA14*Техно!AB8)*Техно!AB14)*1.18+Техно!AB29*2+((D56/600)*Техно!AB25*0.45)+(Техно!AB26+Техно!AB27)*5)*1.18/0.7*(0.85+0.6944),0))),0)+IF(OR(C55=\"ВМПШ3\",C55=\"ВМЦШ3\"),IF(G55=300,ROUND((((((D56*E56*Техно!AC10*0.00001*2*Техно!AD8)*Техно!AD10)+(((D56*300*Техно!AC11*0.00001*1.25*Техно!AD8)+(E56*300*Техно!AC11*0.00001*1.25*Техно!AD8)*2)*Техно!AD11))+(F56*0.001*4*1.2)*Техно!AD19+((D56-600)*E56*0.00001*Техно!AC14*Техно!AD8)*Техно!AD14)*1.18+Техно!AD30*3+((D56/600)*Техно!AD25*0.45)+(Техно!AD26+Техно!AD27)*6)*1.18/0.7*(0.85+0.6944),0),IF(G55=250,ROUND((((((D56*E56*Техно!AC10*0.00001*3*Техно!AD8)*Техно!AD10)+(((D56*300*Техно!AC11*0.00001*1.25*Техно!AD8)+(E56*300*Техно!AC11*0.00001*1.25*Техно!AD8)*2)*Техно!AD11))+(F56*0.001*4*1.2)*Техно!AD19+((D56-600)*E56*0.00001*Техно!AC14*Техно!AD8)*Техно!AD14)*1.18+Техно!AD29*3+((D56/600)*Техно!AD25*0.45)+(Техно!AD26+Техно!AD27)*7)*1.18/0.65*(0.85+0.6944),0)))*1,0)","v":41105}]
[null,null,null,{"$f":"IF(C56=1,\"500-1800\",IF(C56=2,\"1000-2000\",IF(C56=3,\"1500-2000\",\"ошибка\")))","v":"1500-2000"},"600-800","600-1000",null,null,null,null,"К","Колеса"]
[null,null,null,null,null,{"$f":"IF(F55=870,850,F55)","v":850},null,null,null,"СВ","сварная конструкция"]
[null,null,"ВМПШ1","одна мойка, по центр с бортом",null,null,null,null,"2БП","угловая ванна (два борта сзади и справа)"]
[null,null,"ВМПШЛ1","одна мойка, слева с бортом",null,null,null,null,"2БЛ","угловая ванна (два борта сзади и слева)"]
[null,null,"ВМПШП1","одна мойка, справа с бортом",null,null,null,null,"3Б","Стол с тремя бортами"]
[null,null,"ВМЦШ1","одна мойка, по центр без борта",null,null,null,"СП","Сплошная полка"]
[null,null,"ВМЦШЛП1","одна мойка, сбоку без борта",null,null,250,"Цельнотянутая емкость 400*400*250 мм "]
[null,null,"ВМПШ2","две мойки, по центр с бортом",null,null,300,"Цельнотянутая емкость 500*500*300 мм "]
[null,null,"ВМПШЛ2","две мойки, слева с бортом"]
[null,null,"ВМПШП2","две мойки, справа с бортом"]
[null,null,"ВМЦШ2","две мойки, по центр без борта"]
[null,null,"ВМЦШЛП2","две мойки, сбоку без борта"]
[null,null,"ВМПШ3","три мойки, по центру с бортом"]
[null,null,"ВМЦШ3","три мойки, по центру без борта"]
[]
[]
[]
[]
[]
[]
[]
[null,"Одинарная цельнотянутая ванна ВМЦН S 1/ВМЦЦ S 1"]
[]
[null,"Изображение","Артикул",null,null,"Модель","Характеристика номенклатуры",null,null,null,null,"Базовая цена,","Ваша цена,","Техническое описание","Каркас","Базовая цена,"]
[null,null,null,null,null,null,null,null,null,null,null,"руб","руб",null,null,"руб"]
[null,null,"ВМЦНS1_53538587_25",null,null,"ВМЦНS1","L=530, S=530, H=850-870, G=250",null,null,null,null,{"$f":"ROUND(P82*(1+'Повышение цен'!$C$12),0)","v":20886},{"$f":"ROUND(IF($D$4=\"С НДС\",L82*(1-$D$3),L82*(1-$D$3)/1.2),0)","v":20886},"н/ст, толщина столешницы - 1 мм, разборная конструкция, каркас -уголок 40*40*1,5 мм, Hстолешницы -40 мм, без борта, столешница усилена швеллером; 1 цельнотянутая емкость : 400*400*250 мм при глубине изделия 600 мм; 500*500*300 мм при глубине изделия 630 мм и выше с диаметром сливного отверстия 54 мм, без отверстия для смесителя, регулируемые ножки(+/-20мм)","Нерж. сталь",17350]
[null,null,"ВМЦНS1_60538587_25",null,null,"ВМЦНS1","L=600, S=530, H=850-870, G=250",null,null,null,null,{"$f":"ROUND(P83*(1+'Повышение цен'!$C$12),0)","v":21420},21420,null,null,17794]
[null,null,"ВМЦНS1_63638587_30",null,null,"ВМЦНS1","L=630, S=630, H=850-870, G=300",null,null,null,null,{"$f":"ROUND(P84*(1+'Повышение цен'!$C$12),0)","v":24943},24943,null,null,20721]
[null,null,"ВМЦНS1_70638587_30",null,null,"ВМЦНS1","L=700, S=630, H=850-870, G=300",null,null,null,null,{"$f":"ROUND(P85*(1+'Повышение цен'!$C$12),0)","v":25660},25660,null,null,21316]
[]
[null,null,"ВМЦЦS1_53538587_25",null,null,"ВМЦЦS1","L=530, S=530, H=850-870, G=250",null,null,null,null,{"$f":"ROUND(P87*(1+'Повышение цен'!$C$12),0)","v":19347},{"$f":"ROUND(IF($D$4=\"С НДС\",L87*(1-$D$3),L87*(1-$D$3)/1.2),0)","v":19347},null,"Оцин. сталь",16072]
[null,null,"ВМЦЦS1_60538587_25",null,null,"ВМЦЦS1","L=600, S=530, H=850-870, G=250",null,null,null,null,{"$f":"ROUND(P88*(1+'Повышение цен'!$C$12),0)","v":19826},19826,null,null,16470]
[null,null,"ВМЦЦS1_63638587_30",null,null,"ВМЦЦS1","L=630, S=630, H=850-870, G=300",null,null,null,null,{"$f":"ROUND(P89*(1+'Повышение цен'!$C$12),0)","v":23247},23247,null,null,19312]
[null,null,"ВМЦЦS1_70638587_30",null,null,"ВМЦЦS1","L=700, S=630, H=850-870, G=300",null,null,null,null,{"$f":"ROUND(P90*(1+'Повышение цен'!$C$12),0)","v":23908},23908,null,null,19861]
[]
[]
[null,"Двойная цельнотянутая ванна ВМЦН S 2/ВМЦЦ S 2"]
[]
[null,"Изображение","Артикул",null,null,"Модель","Характеристика номенклатуры",null,null,null,null,"Базовая цена,","Ваша цена,","Техническое описание","Каркас","Базовая цена,"]
[null,null,null,null,null,null,null,null,null,null,null,"руб","руб",null,null,"руб"]
[null,null,"ВМЦНS2_100538587_25",null,null,"ВМЦНS2","L=1000, S=530, H=850-870, G=250",null,null,null,null,{"$f":"ROUND(P97*(1+'Повышение цен'!$C$12),0)","v":30032},{"$f":"ROUND(IF($D$4=\"С НДС\",L97*(1-$D$3),L97*(1-$D$3)/1.2),0)","v":30032}," н/ст, толщина столешницы - 1 мм, разборная конструкция,   каркас - уголк 40*40*1,5 мм, Hстолешницы -40 мм, без борта, 2 цельнотянутые емкости : 400*400*250 мм при глубине изделия 600 мм; 500*500*300 мм при глубине изделия 630 мм и выше, с диаметром сливного отверстия 54 мм, без отверстия для смесителя, регулируемые ножки(+/-20мм)","Нерж. сталь",24948]
[null,null,"ВМЦНS2_105538587_25",null,null,"ВМЦНS2","L=1050, S=530, H=850-870, G=250",null,null,null,null,{"$f":"ROUND(P98*(1+'Повышение цен'!$C$12),0)","v":30430},30430,null,null,25279]
[null,null,"ВМЦНS2_120638587_30",null,null,"ВМЦНS2","L=1200, S=630, H=850-870, G=300",null,null,null,null,{"$f":"ROUND(P99*(1+'Повышение цен'!$C$12),0)","v":38609},{"$f":"ROUND(IF($D$4=\"С НДС\",L99*(1-$D$3),L99*(1-$D$3)/1.2),0)","v":38609},null,null,32073]
[null,null,"ВМЦНS2_125638587_30",null,null,"ВМЦНS2","L=1250, S=630, H=850-870, G=300",null,null,null,null,{"$f":"ROUND(P100*(1+'Повышение цен'!$C$12),0)","v":39051},39051,null,null,32440]
[]
[null,null,"ВМЦЦS2_100538587_25",null,null,"ВМЦЦS2","L=1000, S=530, H=850-870, G=250",null,null,null,null,{"$f":"ROUND(P102*(1+'Повышение цен'!$C$12),0)","v":29033},{"$f":"ROUND(IF($D$4=\"С НДС\",L102*(1-$D$3),L102*(1-$D$3)/1.2),0)","v":29033},null,"Оцин. сталь",24118]
[null,null,"ВМЦЦS2_105538587_25",null,null,"ВМЦЦS2","L=1050, S=530, H=850-870, G=250",null,null,null,null,{"$f":"ROUND(P103*(1+'Повышение цен'!$C$12),0)","v":29422},29422,null,null,24441]
[null,null,"ВМЦЦS2_120638587_30",null,null,"ВМЦЦS2","L=1200, S=630, H=850-870, G=300",null,null,null,null,{"$f":"ROUND(P104*(1+'Повышение цен'!$C$12),0)","v":37428},37428,null,null,31092]
[null,null,"ВМЦЦS2_125638587_30",null,null,"ВМЦЦS2","L=1250, S=630, H=850-870, G=300",null,null,null,null,{"$f":"ROUND(P105*(1+'Повышение цен'!$C$12),0)","v":37870},37870,null,null,31459]
[]
[null,"Тройная цельнотянутая ванна ВМЦН S 3/ВМЦЦ S 3"]
[]
[null,"Изображение","Артикул",null,null,"Модель","Характеристика номенклатуры",null,null,null,null,"Базовая цена,","Ваша цена,","Техническое описание","Каркас","Базовая цена,"]
[null,null,null,null,null,null,null,null,null,null,null,"руб","руб",null,null,"руб"]
[null,null,"ВМЦНS3_150608587_25",null,null,"ВМЦНS3","L=1500, S=530, H=850-870, G=250",null,null,null,null,{"$f":"ROUND(P111*(1+'Повышение цен'!$C$12),0)","v":50030},{"$f":"ROUND(IF($D$4=\"С НДС\",L111*(1-$D$3),L111*(1-$D$3)/1.2),0)","v":50030},"н/ст, толщина столешницы - 1 мм, разборная конструкция, каркас - уголок 40*40*1,5 мм, Hстолешницы -40 мм,   3 цельнотянутые емкости : 400*400*250 мм длине изделия до 1800 мм; 500*500*300 мм при длине изделия 1800 мм и выше, с диаметром сливного отверстия, без отверстий для смесителя, регулируемые ножки(+/-20мм)","Нерж. сталь",41561]
[null,null,"ВМЦНS3_160608587_25",null,null,"ВМЦНS3","L=1600, S=530, H=850-870, G=250",null,null,null,null,{"$f":"ROUND(P112*(1+'Повышение цен'!$C$12),0)","v":51300},51300,null,null,42616]
[null,null,"ВМЦНS3_170608587_30",null,null,"ВМЦНS3","L=1700, S=630, H=850-870, G=300",null,null,null,null,{"$f":"ROUND(P113*(1+'Повышение цен'!$C$12),0)","v":57654},57654,null,null,47894]
[null,null,"ВМЦНS3_180608587_30",null,null,"ВМЦНS3","L=1800, S=630, H=850-870, G=300",null,null,null,null,{"$f":"ROUND(P114*(1+'Повышение цен'!$C$12),0)","v":58541},58541,null,null,48631]
[]
[null,null,"ВМЦЦS3_150608587_25",null,null,"ВМЦЦS3","L=1500, S=530, H=850-870, G=250",null,null,null,null,{"$f":"ROUND(P116*(1+'Повышение цен'!$C$12),0)","v":44933},{"$f":"ROUND(IF($D$4=\"С НДС\",L116*(1-$D$3),L116*(1-$D$3)/1.2),0)","v":44933},null,"Оцин. сталь",37327]
[null,null,"ВМЦЦS3_160608587_25",null,null,"ВМЦЦS3","L=1600, S=530, H=850-870, G=250",null,null,null,null,{"$f":"ROUND(P117*(1+'Повышение цен'!$C$12),0)","v":45936},45936,null,null,38160]
[null,null,"ВМЦЦS3_170608587_30",null,null,"ВМЦЦS3","L=1700, S=630, H=850-870, G=250",null,null,null,null,{"$f":"ROUND(P118*(1+'Повышение цен'!$C$12),0)","v":52091},52091,null,null,43273]
[null,null,"ВМЦЦS3_180608587_30",null,null,"ВМЦЦS3","L=1800, S=630, H=850-870, G=300",null,null,null,null,{"$f":"ROUND(P119*(1+'Повышение цен'!$C$12),0)","v":53079},53079,null,null,44094]
[]
[null,null,"Формула расчета цены",null,null,null,null,null,null,null,null,null,null,"Техническое описание"]
[null,"Артикул",null,"Длина,","Глубина,","Высота","Цельн. Емк.",null,"Сплош",null,"Доп.","Базовая цена,","Ваша цена,","Нестандартной модели"]
[null,null,null,"мм","мм","мм","Глубина, мм",null,"полка",null,"колеса","руб","руб",{"$f":"CONCATENATE(\"шлифованная н/ст, толщина столешницы - 1 мм Aisi 304, \",IF(I124=\"СП\",\"сплошная полка\",\"обвязка\"),\", каркас уголок  40*40*1,5 мм, Hстолешницы -40 мм,\", IF(OR(OR(OR(OR(OR(OR(OR(C124=\"ВМПНS1\",C124=\"ВМПЦS1\",C124=\"ВМПНSЛ1\",C124=\"ВМПНSП1\",C124=\"ВМПНS2\",C124=\"ВМПЦS2\",C124=\"ВМПНS3\",C124=\"ВМПЦS3\"))))))),\"Hборта - 40 мм, \",\"без борта, \"),\" столешница усилена швеллером, \",IF(G124=300,\"цельнотянутая емкость 500*500*300 мм \",\"\"),IF(G124=250,\"цельнотянутая емкость 400*400*250 мм \",\"\"),RIGHT( C124,SUM(LEN(C124 ) - LEN(SUBSTITUTE( C124, {\"0\",\"1\",\"2\",\"3\",\"4\",\"5\",\"6\",\"7\",\"8\",\"9\"},\"\")))),IF(OR(C124=\"ВМПШ3\",C124=\"ВМЦШ3\"),\" 3 шт, \",\"\"),\"шт\",IF(I124=\"2БП\",\"ванна моечная угловая, второй борт справа\",\"\"),IF(K124=\"К\",\" 4 колеса(2 с тормозом)\",\", регулируемые ножки(+/-20мм)\"),\", длина \",D124,\"мм\",\", глубина \",E124,\"мм\",\" ,высота \",F124,\"мм, \",\"Объем в упаковке \",ROUND(D124/1000*E124/1000*(F124+150)/1000,2),\"м3\")","v":"шлифованная н/ст, толщина столешницы - 1 мм Aisi 304, обвязка, каркас уголок  40*40*1,5 мм, Hстолешницы -40 мм,без борта,  столешница усилена швеллером, цельнотянутая емкость 400*400*250 мм 2шт, регулируемые ножки(+/-20мм), длина 630мм, глубина 630мм ,высота 850мм, Объем в упаковке 0,4м3"}]
[null,{"$f":"UPPER(CONCATENATE(C124,\"_\",D124/10,E124/10,IF(AND(F127=850,K124=\"\"),8587,F127/10),\"_\",G124/10,IF(OR(I124=\"СП\",K124=\"К\"),\"_\",\"\"),I124,K124))","v":"ВМПЦSЛ2_636387_25"},"ВМПЦSЛ2",630,630,850,250,null,null,null,null,{"$f":"ROUND((L125*IF(OR(OR(OR(OR(OR(OR(OR(OR(OR(OR(OR(OR(OR(C124=\"ВМПНS3\",C124=\"ВМПНS2\",C124=\"ВМПНS1\",C124=\"ВМПНSЛ1\",C124=\"ВМПНSП1\",C124=\"ВМПНSЛ2\",C124=\"ВМПНSП2\",C124=\"ВМПЦS3\",C124=\"ВМПЦS2\",C124=\"ВМПЦS1\",C124=\"ВМПЦSЛ1\",C124=\"ВМПЦSП1\",C124=\"ВМПЦSЛ2\",C124=\"ВМПЦSП2\"))))))))))))),1.07,1)*IF(D125>1800,1.05,1)*IF(E125>700,1.05,1)*IF(F125>870,1.05,1)*IF(I124=\"СП\",1.15,1)+IF(K124=\"К\",6000,0))*1.05,0)*1.05*1.07*1.1*(1+'Повышение цен'!$C$12)","v":28511.559216469035},{"$f":"ROUND(IF($D$4=\"С НДС\",L124*(1-$D$3),L124*(1-$D$3)/1.2),0)","v":28512}]
[null,null,{"$f":"1*MID(C124,\nMATCH(FALSE,ISERROR(1*MID(C124,ROW(INDIRECT(\"A1:A\"&LEN(C124))),1)),0),\n255)","v":2},{"$f":"IF(AND(D124>529,D124<1801),D124,\"не производим\")","v":630},{"$f":"IF(AND(E124>529,E124<801),E124,\"не производим\")","v":630},{"$f":"IF(AND(F127>599,F127<1001),F127,\"не производим\")","v":870},null,null,null,null,null,{"$f":"IF(OR(OR(OR(OR(C124=\"ВМЦНS1\",C124=\"ВМПНS1\",C124=\"ВМПНSЛ1\",C124=\"ВМПНSП1\",C124=\"ВМЦНSЛП1\")))),IF(G124=300,ROUND((((((D125*E125*Техно!Y10*0.00001*1.75*Техно!Z8)*Техно!Z10))+(((D125+E125)*4+F125*4)*80*0.00001*Техно!Z8*Техно!Y14)*Техно!Z14)*1.18+Техно!Z30+((D125/500)*Техно!Z25*0.55)+(Техно!Z26+Техно!Z27)*3)*1.18/0.69*(0.85+0.6944),0),IF(G124=250,ROUND((((((D125*E125*Техно!Y10*0.00001*1.25*Техно!Z8)*Техно!Z10))+(((D125+E125)*4+F125*4)*80*0.00001*Техно!Z8*Техно!Y14)*Техно!Z14)*1.18+Техно!Z29*1.35+((D125/530)*Техно!Z25*0.45)+(Техно!Z26+Техно!Z27)*2.5)*1.18/0.69*(0.85+0.6944),0))),0)+IF(OR(OR(OR(OR(C124=\"ВМЦЦS1\",C124=\"ВМПЦS1\",C124=\"ВМПЦSЛ1\",C124=\"ВМПЦSП1\",C124=\"ВМЦЦSЛП1\")))),IF(G124=300,ROUND((((((D125*E125*Техно!Y10*0.00001*1.75*Техно!Z8)*Техно!Z10))+(((D125+E125)*4+F125*4)*80*0.00001*Техно!Z8*Техно!Y15)*Техно!Z15)*1.18+Техно!Z30+((D125/500)*Техно!Z25*0.55)+(Техно!Z26+Техно!Z27)*3)*1.18/0.69*(0.85+0.6944),0),IF(G124=250,ROUND((((((D125*E125*Техно!Y10*0.00001*1.25*Техно!Z8)*Техно!Z10))+(((D125+E125)*4+F125*4)*80*0.00001*Техно!Z8*Техно!Y15)*Техно!Z15)*1.18+Техно!Z29*1.35+((D125/530)*Техно!Z25*0.45)+(Техно!Z26+Техно!Z27)*2.5)*1.18/0.69*(0.85+0.6944),0))),0)+IF(OR(OR(OR(OR(C124=\"ВМПНS2\",C124=\"ВМПНSЛ2\",C124=\"ВМПНSП2\",C124=\"ВМЦНS2\",C124=\"ВМЦНSЛП2\")))),IF(G124=300,ROUND((((((D125*E125*Техно!AA10*0.00001*1.2*Техно!AB8)*Техно!AB10))+(((D125+E125)*4+F125*4)*80*0.00001*Техно!AB8*Техно!AA14)*Техно!AB14)*1.18+Техно!AB30*1.8+((D125/500)*Техно!AB25*0.55)+(Техно!AB26+Техно!AB27)*3)*1.18/0.7*(0.85+0.6944),0),IF(G124=250,ROUND((((((D125*E125*Техно!AA10*0.00001*1.5*Техно!AB8)*Техно!AB10))+(((D125+E125)*4+F125*4)*80*0.00001*Техно!AB8*Техно!AA14)*Техно!AB14)*1.18+Техно!AB29*2+((D125/530)*Техно!AB25*0.45)+(Техно!AB26+Техно!AB27)*2.5)*1.18/0.7*(0.85+0.6944),0))),0)+IF(OR(OR(OR(OR(C124=\"ВМПЦS2\",C124=\"ВМПЦSЛ2\",C124=\"ВМПЦSП2\",C124=\"ВМЦЦS2\",C124=\"ВМЦЦSЛП2\")))),IF(G124=300,ROUND((((((D125*E125*Техно!AA10*0.00001*1.55*Техно!AB8)*Техно!AB10))+(((D125+E125)*4+F125*4)*80*0.00001*Техно!AB8*Техно!AA15)*Техно!AB15)*1.18+Техно!AB30*1.8+((D125/500)*Техно!AB25*0.55)+(Техно!AB26+Техно!AB27)*3)*1.18/0.7*(0.85+0.6944),0),IF(G124=250,ROUND((((((D125*E125*Техно!AA10*0.00001*1.75*Техно!AB8)*Техно!AB10))+(((D125+E125)*4+F125*4)*80*0.00001*Техно!AB8*Техно!AA15)*Техно!AB15)*1.18+Техно!AB29*2+((D125/530)*Техно!AB25*0.45)+(Техно!AB26+Техно!AB27)*2.5)*1.18/0.69*(0.85+0.6944),0))),0)+IF(OR(C124=\"ВМПНS3\",C124=\"ВМЦНS3\"),IF(G124=300,ROUND((((((D125*E125*Техно!AC10*0.00001*1.2*Техно!AD8)*Техно!AD10))+(((D125+E125)*4+F125*4)*80*0.00001*Техно!AD8*Техно!AC14)*Техно!AD14)*1.18+Техно!AD30*3+((D125/500)*Техно!AD25*0.55)+(Техно!AD26+Техно!AD27)*3)*1.18/0.7*(0.85+0.6944),0),IF(G124=250,ROUND((((((D125*E125*Техно!AC10*0.00001*4*Техно!AD8)*Техно!AD10))+(((D125+E125)*4+F125*4)*80*0.00001*Техно!AD8*Техно!AC14)*Техно!AD14)*1.18+Техно!AD29*3+((D125/530)*Техно!AD25*0.45)+(Техно!AD26+Техно!AD27)*3)*1.18/0.7*(0.85+0.6944),0))),0)+IF(OR(C124=\"ВМПЦS3\",C124=\"ВМЦЦS3\"),IF(G124=300,ROUND((((((D125*E125*Техно!AC10*0.00001*2*Техно!AD8)*Техно!AD10))+(((D125+E125)*4+F125*4)*80*0.00001*Техно!AD8*Техно!AC15)*Техно!AD15)*1.18+Техно!AD30*2.5+((D125/500)*Техно!AD25*0.55)+(Техно!AD26+Техно!AD27)*3)*1.18/0.7*(0.85+0.6944),0),IF(G124=250,ROUND((((((D125*E125*Техно!AC10*0.00001*3*Техно!AD8)*Техно!AD10))+(((D125+E125)*4+F125*4)*80*0.00001*Техно!AD8*Техно!AC15)*Техно!AD15)*1.18+Техно!AD29*3+((D125/530)*Техно!AD25*0.45)+(Техно!AD26+Техно!AD27)*3)*1.18/0.7*(0.85+0.6944),0))),0)","v":17058}]
[null,null,null,{"$f":"IF(C125=1,\"530-1800\",IF(C125=2,\"1000-1800\",IF(C125=3,\"1500-1800\",\"ошибка\")))","v":"1000-1800"},"530-800","600-1000",250,null,"Цельнотянутая емкость 400*400*250 мм "]
[null,null,"Нерж.карс","Оцин.карс",null,{"$f":"IF(F124=850,870,F124)","v":870},300,null,"Цельнотянутая емкость 500*500*300 мм "]
[null,null,"ВМПНS1","ВМПЦS1","одна мойка, по центр с бортом",null,null,null,"СП",null,"Сплошная полка"]
[null,null,"ВМПНSЛ1","ВМПЦSЛ1","одна мойка, слева с бортом",null,null,null,null,null,"К","Колеса"]
[null,null,"ВМПНSП1","ВМПЦSП1","одна мойка, справа с бортом"]
[null,null,"ВМЦНS1","ВМЦЦS1","одна мойка, по центр без борта"]
[null,null,"ВМЦНSЛП1","ВМЦЦSЛП1","одна мойка, сбоку без борта"]
[null,null,"ВМПНS2","ВМПЦS2","две мойки, по центр с бортом"]
[null,null,"ВМПНSЛ2","ВМПЦSЛ2","две мойки, слева с бортом"]
[null,null,"ВМПНSП2","ВМПЦSП2","две мойки, справа с бортом"]
[null,null,"ВМЦНS2","ВМЦЦS2","две мойки, по центр без борта"]
[null,null,"ВМЦНSЛП2","ВМЦЦSЛП2","две мойки, сбоку без борта"]
[null,null,"ВМПНS3","ВМПЦS3","три мойки, по центру с бортом"]
[null,null,"ВМЦНS3","ВМЦЦS3","три мойки, по центру без борта"]

{"sheet":"Сварные ванны","index":13,"n_rows":83,"n_cols":18,"rows_kept":83,"cut":false,"hidden":false,"merged":[[68,1,82,1],[68,16,82,16],[8,0,9,0],[8,1,9,1],[8,2,9,4],[8,5,9,5],[8,6,9,10],[8,14,9,15],[32,2,32,4],[32,6,32,10],[24,2,24,4],[23,2,23,4],[23,6,23,10],[53,0,53,12],[34,1,34,11],[35,2,35,12],[12,2,12,4],[12,6,12,10],[13,2,13,4],[13,6,13,10],[36,1,37,1],[36,2,37,4],[36,16,37,16],[10,14,20,15],[1,0,1,2],[2,0,2,2],[3,0,3,2],[6,1,6,11],[7,2,7,12],[14,2,14,4],[14,6,14,10],[22,2,22,4],[22,6,22,10],[17,6,17,10],[18,2,18,4],[18,6,18,10],[19,2,19,4],[19,6,19,10],[20,2,20,4],[20,6,20,10],[15,2,15,4],[15,6,15,10],[10,1,32,1],[10,2,10,4],[10,6,10,10],[11,2,11,4],[11,6,11,10],[31,2,31,4],[31,6,31,10],[22,14,32,15],[16,2,16,4],[16,6,16,10],[17,2,17,4],[8,16,9,16],[10,16,20,16],[22,16,32,16],[28,2,28,4],[28,6,28,10],[29,2,29,4],[29,6,29,10],[30,2,30,4],[30,6,30,10],[24,6,24,10],[25,2,25,4],[25,6,25,10],[26,2,26,4],[26,6,26,10],[27,2,27,4],[27,6,27,10],[38,14,44,15],[39,2,39,4],[38,2,38,4],[38,6,38,10],[46,14,52,15],[36,5,37,5],[36,6,37,10],[36,14,37,15],[43,2,43,4],[43,6,43,10],[44,2,44,4],[44,6,44,10],[50,6,50,10],[51,2,51,4],[51,6,51,10],[46,2,46,4],[46,6,46,10],[39,6,39,10],[40,2,40,4],[40,6,40,10],[41,2,41,4],[41,6,41,10],[42,2,42,4],[42,6,42,10],[62,6,62,10],[58,2,58,4],[61,14,62,15],[46,16,52,16],[47,2,47,4],[47,6,47,10],[48,2,48,4],[48,6,48,10],[54,1,54,11],[55,2,55,12],[56,1,57,1],[56,2,57,4],[56,5,57,5],[56,6,57,10],[58,6,58,10],[59,2,59,4],[59,6,59,10],[38,1,52,1],[38,16,44,16],[52,2,52,4],[52,6,52,10],[49,2,49,4],[49,6,49,10],[50,2,50,4],[66,14,67,15],[66,16,67,16],[69,2,69,4],[69,6,69,10],[73,2,73,4],[73,6,73,10],[56,14,57,15],[56,16,57,16],[64,1,64,11],[65,2,65,12],[66,1,67,1],[66,2,67,4],[66,5,67,5],[70,6,70,10],[66,6,67,10],[68,2,68,4],[68,6,68,10],[58,1,62,1],[58,14,59,15],[58,16,59,16],[61,16,62,16],[61,2,61,4],[61,6,61,10],[62,2,62,4],[77,2,77,4],[77,6,77,10],[78,2,78,4],[78,6,78,10],[68,14,82,15],[74,2,74,4],[74,6,74,10],[71,6,71,10],[72,6,72,10],[75,6,75,10],[79,2,79,4],[79,6,79,10],[80,2,80,4],[80,6,80,10],[81,2,81,4],[81,6,81,10],[76,2,76,4],[76,6,76,10],[82,2,82,4],[82,6,82,10],[70,2,70,4],[71,2,71,4],[72,2,72,4],[75,2,75,4]]}
["Нейтральное оборудование/Ванны сварные",null,null,null,null,null,null,null,null,null,null,null,null,null,null,"На главную"]
[]
["Ваша скидка:",null,null,{"$f":"Содержание!C2","v":0}]
["НДС:",null,null,{"$f":"IF(Лист2!A1=TRUE,\"С НДС\",\"БЕЗ НДС\")","v":"С НДС"}]
[]
[]
[null,"Одинарная сварная ванна ВМН Э 1 / ВМЦ Э 1 "]
[]
[null,"Изображение","Артикул",null,null,"Модель","Характеристика номенклатуры",null,null,null,null,"Базовая цена,","Ваша цена,","Сварная ","Техническое описание",null,"Каркас","Базовая цена,"]
[null,null,null,null,null,null,null,null,null,null,null,"руб","руб","емкость, мм",null,null,null,"руб"]
[null,null,"ВМНЭ1_43438587_30",null,null,"ВМНЭ1","L=430, S=430, H=850-870, G=300",null,null,null,null,{"$f":"ROUND(R11*(1+'Повышение цен'!$C$13),0)","v":9403},{"$f":"ROUND(IF($D$4=\"С НДС\",L11*(1-$D$3),L11*(1-$D$3)/1.22),0)","v":9403},"330*330*300","н/ст, толщина ванны - 1 мм, разборная конструкция, каркас - нерж. уголок 40*40*1,5 мм, Hстолешницы -40 мм, 1 сварная емкость, без отверстия для смесителя, регулируемые ножки(+/-20мм), сливное отверстие диаметром 54 мм, широкий борт с отверстием под смеситель и пристенным бортом Hстолешницы -40 мм заказывается отдельно и крепится по месту(опция)",null,"Нержавеющая сталь",7811]
[null,null,"ВМНЭ1_50438587_30",null,null,"ВМНЭ1","L=500, S=430, H=850-870, G=300",null,null,null,null,{"$f":"ROUND(R12*(1+'Повышение цен'!$C$13),0)","v":10008},{"$f":"ROUND(IF($D$4=\"С НДС\",L12*(1-$D$3),L12*(1-$D$3)/1.22),0)","v":10008},"400*330*300",null,null,null,8314]
[null,null,"ВМНЭ1_53538587_30",null,null,"ВМНЭ1","L=530, S=530, H=850-870, G=300",null,null,null,null,{"$f":"ROUND(R13*(1+'Повышение цен'!$C$13),0)","v":11828},11828,"430*430*300",null,null,null,9826]
[null,null,"ВМНЭ1_60538587_30",null,null,"ВМНЭ1","L=600, S=530, H=850-870, G=300",null,null,null,null,{"$f":"ROUND(R14*(1+'Повышение цен'!$C$13),0)","v":12523},12523,"500*430*300",null,null,null,10403]
[null,null,"ВМНЭ1_60638587_40",null,null,"ВМНЭ1","L=600, S=630, H=850-870, G=400",null,null,null,null,{"$f":"ROUND(R15*(1+'Повышение цен'!$C$13),0)","v":14828},14828,"500*530*400",null,null,null,12318]
[null,null,"ВМНЭ1_63638587_40",null,null,"ВМНЭ1","L=630, S=630, H=850-870, G=400",null,null,null,null,{"$f":"ROUND(R16*(1+'Повышение цен'!$C$13),0)","v":15122},15122,"530*530*400",null,null,null,12562]
[null,null,"ВМНЭ1_70638587_40",null,null,"ВМНЭ1","L=700, S=630, H=850-870, G=400",null,null,null,null,{"$f":"ROUND(R17*(1+'Повышение цен'!$C$13),0)","v":15839},15839,"600*530*400",null,null,null,13158]
[null,null,"ВМНЭ1_70708587_45",null,null,"ВМНЭ1","L=700, S=700, H=850-870, G=450",null,null,null,null,{"$f":"ROUND(R18*(1+'Повышение цен'!$C$13),0)","v":17834},17834,"600*600*450",null,null,null,14815]
[null,null,"ВМНЭ1_80808587_45",null,null,"ВМНЭ1","L=800, S=800, H=850-870, G=450",null,null,null,null,{"$f":"ROUND(R19*(1+'Повышение цен'!$C$13),0)","v":20405},20405,"700*700*450",null,null,null,16951]
[null,null,"ВМНЭ1ЛП_101538587_30",null,null,"ВМНЭ1ЛП","L=1010, S=530, H=850-870, G=300",null,null,null,null,{"$f":"ROUND(R20*(1+'Повышение цен'!$C$13),0)","v":16582},16582,"460*430*300",null,null,null,13775]
[null,null,"ВМНЭ1ЛП_121638587_40",null,null,"ВМНЭ1ЛП","L=1210, S=630, H=850-870, G=400",null,null,null,null,{"$f":"ROUND(R21*(1+'Повышение цен'!$C$13),0)","v":22237},22237,"560*530*400",null,null,null,18473]
[]
[null,null,"ВМЦЭ1_43438587_30",null,null,"ВМЦЭ1","L=430, S=430, H=850-870, G=300",null,null,null,null,{"$f":"ROUND(R23*(1+'Повышение цен'!$C$13),0)","v":7118},{"$f":"ROUND(IF($D$4=\"С НДС\",L23*(1-$D$3),L23*(1-$D$3)/1.22),0)","v":7118},"330*330*300","н/ст, толщина ванны - 1 мм, разборная конструкция, каркас - оцин. уголок 40*40*1,5 мм, Hстолешницы -40 мм, 1 сварная емкость, без отверстия для смесителя, регулируемые ножки(+/-20мм), сливное отверстие диаметром 54 мм, широкий борт с отверстием под смеситель и пристенным бортом Hстолешницы -40 мм заказывается отдельно и крепится по месту(опция)",null,"Оцинкованная сталь",5913]
[null,null,"ВМЦЭ1_50438587_30",null,null,"ВМЦЭ1","L=500, S=430, H=850-870, G=300",null,null,null,null,{"$f":"ROUND(R24*(1+'Повышение цен'!$C$13),0)","v":7383},7383,"400*330*300",null,null,null,6133]
[null,null,"ВМЦЭ1_53538587_30",null,null,"ВМЦЭ1","L=530, S=530, H=850-870, G=300",null,null,null,null,{"$f":"ROUND(R25*(1+'Повышение цен'!$C$13),0)","v":9099},9099,"430*430*300",null,null,null,7559]
[null,null,"ВМЦЭ1_60538587_30",null,null,"ВМЦЭ1","L=600, S=530, H=850-870, G=300",null,null,null,null,{"$f":"ROUND(R26*(1+'Повышение цен'!$C$13),0)","v":9430},9430,"500*430*300",null,null,null,7834]
[null,null,"ВМЦЭ1_60638587_40",null,null,"ВМЦЭ1","L=600, S=630, H=850-870, G=400",null,null,null,null,{"$f":"ROUND(R27*(1+'Повышение цен'!$C$13),0)","v":12081},12081,"500*530*400",null,null,null,10036]
[null,null,"ВМЦЭ1_63638587_40",null,null,"ВМЦЭ1","L=630, S=630, H=850-870, G=400",null,null,null,null,{"$f":"ROUND(R28*(1+'Повышение цен'!$C$13),0)","v":12204},12204,"530*530*400",null,null,null,10138]
[null,null,"ВМЦЭ1_70638587_40",null,null,"ВМЦЭ1","L=700, S=630, H=850-870, G=400",null,null,null,null,{"$f":"ROUND(R29*(1+'Повышение цен'!$C$13),0)","v":12512},12512,"600*530*400",null,null,null,10394]
[null,null,"ВМЦЭ1_70708587_45",null,null,"ВМЦЭ1","L=700, S=700, H=850-870, G=450",null,null,null,null,{"$f":"ROUND(R30*(1+'Повышение цен'!$C$13),0)","v":14686},14686,"600*600*450",null,null,null,12200]
[null,null,"ВМЦЭ1_80808587_45",null,null,"ВМЦЭ1","L=800, S=800, H=850-870, G=450",null,null,null,null,{"$f":"ROUND(R31*(1+'Повышение цен'!$C$13),0)","v":16926},16926,"700*700*450",null,null,null,14061]
[null,null,"ВМЦЭ1ЛП_101538587_30",null,null,"ВМЦЭ1ЛП","L=1010, S=530, H=850-870, G=300",null,null,null,null,{"$f":"ROUND(R32*(1+'Повышение цен'!$C$13),0)","v":11549},11549,"460*430*300",null,null,null,9594]
[null,null,"ВМЦЭ1ЛП_121638587_40",null,null,"ВМЦЭ1ЛП","L=1210, S=630, H=850-870, G=400",null,null,null,null,{"$f":"ROUND(R33*(1+'Повышение цен'!$C$13),0)","v":15841},15841,"560*530*400",null,null,null,13159]
[]
[null,"Двойная сварная ванна ВМН Э 2 / ВМЦ Э 2 "]
[]
[null,"Изображение","Артикул",null,null,"Модель","Характеристика номенклатуры",null,null,null,null,"Базовая цена,","Ваша цена,","Две сварные ","Техническое описание",null,"Каркас","Базовая цена,"]
[null,null,null,null,null,null,null,null,null,null,null,"руб","руб","емкости, мм",null,null,null,"руб"]
[null,null,"ВМНЭ2_100538587_30",null,null,"ВМНЭ2","L=1000, S=530, H=850-870, G=300",null,null,null,null,{"$f":"ROUND(R39*(1+'Повышение цен'!$C$13),0)","v":19531},{"$f":"ROUND(IF($D$4=\"С НДС\",L39*(1-$D$3),L39*(1-$D$3)/1.22),0)","v":19531},"405*430*300","н/ст, толщина ванны - 1 мм, разборная конструкция, каркас - нерж. уголок 40*40*1,5 мм, Hстолешницы -40 мм, 2 сварные емкости, без отверстия для смесителя, регулируемые ножки(+/-20мм), сливное отверстие диаметром 54 мм, широкий борт с отверстием под смеситель и пристенным бортом Hстолешницы -40 мм заказывается отдельно и крепится по месту(опция)",null,"Нержавеющая сталь",16225]
[null,null,"ВМНЭ2_105538587_30",null,null,"ВМНЭ2","L=1050, S=530, H=850-870, G=300",null,null,null,null,{"$f":"ROUND(R40*(1+'Повышение цен'!$C$13),0)","v":19969},19969,"430*430*300",null,null,null,16589]
[null,null,"ВМНЭ2_120538587_30",null,null,"ВМНЭ2","L=1200, S=530, H=850-870, G=300",null,null,null,null,{"$f":"ROUND(R41*(1+'Повышение цен'!$C$13),0)","v":21288},21288,"500*430*300",null,null,null,17684]
[null,null,"ВМНЭ2_120638587_40",null,null,"ВМНЭ2","L=1200, S=630, H=850-870, G=400",null,null,null,null,{"$f":"ROUND(R42*(1+'Повышение цен'!$C$13),0)","v":26186},26186,"505*530*400",null,null,null,21753]
[null,null,"ВМНЭ2_125638587_40",null,null,"ВМНЭ2","L=1250, S=630, H=850-870, G=400",null,null,null,null,{"$f":"ROUND(R43*(1+'Повышение цен'!$C$13),0)","v":26637},26637,"530*530*400",null,null,null,22128]
[null,null,"ВМНЭ2_139708587_45",null,null,"ВМНЭ2","L=1390, S=700, H=850-870, G=450",null,null,null,null,{"$f":"ROUND(R44*(1+'Повышение цен'!$C$13),0)","v":32039},32039,"600*600*450",null,null,null,26615]
[null,null,"ВМНЭ2_159808587_45",null,null,"ВМНЭ2","L=1590, S=800, H=850-870, G=450",null,null,null,null,{"$f":"ROUND(R45*(1+'Повышение цен'!$C$13),0)","v":36981},36981,"700*700*450",null,null,null,30721]
[]
[null,null,"ВМЦЭ2_100538587_30",null,null,"ВМЦЭ2","L=1000, S=530, H=850-870, G=300",null,null,null,null,{"$f":"ROUND(R47*(1+'Повышение цен'!$C$13),0)","v":15689},{"$f":"ROUND(IF($D$4=\"С НДС\",L47*(1-$D$3),L47*(1-$D$3)/1.22),0)","v":15689},"405*430*300","н/ст, толщина ванны - 1 мм, разборная конструкция, каркас - оцин. уголок 40*40*1,5 мм, Hстолешницы -40 мм, 2 сварные емкости, без отверстия для смесителя, регулируемые ножки(+/-20мм), сливное отверстие диаметром 54 мм, широкий борт с отверстием под смеситель и пристенным бортом Hстолешницы -40 мм заказывается отдельно и крепится по месту(опция)",null,"Оцинкованная сталь",13033]
[null,null,"ВМЦЭ2_105538587_30",null,null,"ВМЦЭ2","L=1050, S=530, H=850-870, G=300",null,null,null,null,{"$f":"ROUND(R48*(1+'Повышение цен'!$C$13),0)","v":15845},15845,"430*430*300",null,null,null,13163]
[null,null,"ВМЦЭ2_120538587_30",null,null,"ВМЦЭ2","L=1200, S=530, H=850-870, G=300",null,null,null,null,{"$f":"ROUND(R49*(1+'Повышение цен'!$C$13),0)","v":16310},16310,"500*430*300",null,null,null,13549]
[null,null,"ВМЦЭ2_120638587_40",null,null,"ВМЦЭ2","L=1200, S=630, H=850-870, G=400",null,null,null,null,{"$f":"ROUND(R50*(1+'Повышение цен'!$C$13),0)","v":22460},22460,"505*530*400",null,null,null,18658]
[null,null,"ВМЦЭ2_125638587_40",null,null,"ВМЦЭ2","L=1250, S=630, H=850-870, G=400",null,null,null,null,{"$f":"ROUND(R51*(1+'Повышение цен'!$C$13),0)","v":22629},22629,"530*530*400",null,null,null,18798]
[null,null,"ВМЦЭ2_139708587_45",null,null,"ВМЦЭ2","L=1390, S=700, H=850-870, G=450",null,null,null,null,{"$f":"ROUND(R52*(1+'Повышение цен'!$C$13),0)","v":27819},27819,"600*600*450",null,null,null,23110]
[null,null,"ВМЦЭ2_159808587_45",null,null,"ВМЦЭ2","L=1590, S=800, H=850-870, G=450",null,null,null,null,{"$f":"ROUND(R53*(1+'Повышение цен'!$C$13),0)","v":32094},32094,"700*700*450",null,null,null,26661]
[]
[null,"Тройная сварная ванна ВМН Э 3 / ВМЦ Э 3"]
[]
[null,"Изображение","Артикул",null,null,"Модель","Характеристика номенклатуры",null,null,null,null,"Базовая цена,","Ваша цена,","Три сварные ","Техническое описание",null,"Каркас","Базовая цена,"]
[null,null,null,null,null,null,null,null,null,null,null,"руб","руб","емкости, мм",null,null,null,"руб"]
[null,null,"ВМНЭ3_149538587_30",null,null,"ВМНЭ3","L=1490, S=530, H=850-870, G=300",null,null,null,null,{"$f":"ROUND(R59*(1+'Повышение цен'!$C$13),0)","v":30162},{"$f":"ROUND(IF($D$4=\"С НДС\",L59*(1-$D$3),L59*(1-$D$3)/1.22),0)","v":30162},"430*430*300","н/ст, толщина ванны - 1 мм, разборная конструкция, каркас - нерж. уголок 40*40*1,5 мм, Hстолешницы -40 мм, 3 сварные емкости, без отверстия для смесителя, регулируемые ножки(+/-20мм), сливное отверстие диаметром 54 мм, широкий борт с отверстием под смеситель и пристенным бортом Hстолешницы -40 мм заказывается отдельно и крепится по месту(опция)",null,"Нерж. сталь",25056]
[null,null,"ВМНЭ3_189638587_40",null,null,"ВМНЭ3","L=1890, S=630, H=850-870, G=400",null,null,null,null,{"$f":"ROUND(R60*(1+'Повышение цен'!$C$13),0)","v":40902},{"$f":"ROUND(IF($D$4=\"С НДС\",L60*(1-$D$3),L60*(1-$D$3)/1.22),0)","v":40902},"530*530*400",null,null,null,33978]
[]
[null,null,"ВМЦЭ3_149538587_30",null,null,"ВМЦЭ3","L=1490, S=530, H=850-870, G=300",null,null,null,null,{"$f":"ROUND(R62*(1+'Повышение цен'!$C$13),0)","v":25376},{"$f":"ROUND(IF($D$4=\"С НДС\",L62*(1-$D$3),L62*(1-$D$3)/1.22),0)","v":25376},"430*430*300","н/ст, толщина ванны - 1 мм, разборная конструкция, каркас - оцин. уголок 40*40*1,5 мм, Hстолешницы -40 мм, 3 сварные емкости, без отверстия для смесителя, регулируемые ножки(+/-20мм), сливное отверстие диаметром 54 мм, широкий борт с отверстием под смеситель и пристенным бортом Hстолешницы -40 мм заказывается отдельно и крепится по месту(опция)",null,"Оцин. сталь",21080]
[null,null,"ВМЦЭ3_189638587_40",null,null,"ВМЦЭ3","L=1890, S=630, H=850-870, G=400",null,null,null,null,{"$f":"ROUND(R63*(1+'Повышение цен'!$C$13),0)","v":36573},{"$f":"ROUND(IF($D$4=\"С НДС\",L63*(1-$D$3),L63*(1-$D$3)/1.22),0)","v":36573},"530*530*400",null,null,null,30382]
[]
[null,"Опция, борт для сварной ванны"]
[]
[null,"Изображение","Артикул",null,null,"Модель","Характеристика номенклатуры",null,null,null,null,"Базовая цена,","Ваша цена,","отверстие ","Техническое описание",null,"Каркас","Базовая цена,"]
[null,null,null,null,null,null,null,null,null,null,null,"руб","руб","для смесителя",null,null,null,"руб"]
[null,null,"БОРТВМ_430_1ОТВ",null,null,"Борт","L=430, S=70, Нб=40, 1 отв",null,null,null,null,{"$f":"ROUND(R69*(1+'Повышение цен'!$C$13),0)","v":992},{"$f":"ROUND(IF($D$4=\"С НДС\",L69*(1-$D$3),L69*(1-$D$3)/1.22),0)","v":992},"1 отв","н/ст, толщина стали - 1 мм, сварная конструкция, кол-во отверстий под смеситель указано в характеристике, диаметр отверстия 31 мм, Hстолешницы -40 мм , Hборта -40 мм присоединятеся к ванне моечной серии ВМНЭ/ВМЦЭ соответствующей длинный и крепится по месту(опция)",null,"Нержавеющая сталь ",824]
[null,null,"БОРТВМ_500_1ОТВ",null,null,"Борт","L=500, S=70, Нб=40, 1 отв",null,null,null,null,{"$f":"ROUND(R70*(1+'Повышение цен'!$C$13),0)","v":1275},1275,"1 отв",null,null,null,1059]
[null,null,"БОРТВМ_530_1ОТВ",null,null,"Борт","L=530, S=70, Нб=40, 1 отв",null,null,null,null,{"$f":"ROUND(R71*(1+'Повышение цен'!$C$13),0)","v":1347},1347,"1 отв",null,null,null,1119]
[null,null,"БОРТВМ_600_1ОТВ",null,null,"Борт","L=600, S=70, Нб=40, 1 отв",null,null,null,null,{"$f":"ROUND(R72*(1+'Повышение цен'!$C$13),0)","v":1417},1417,"1 отв",null,null,null,1177]
[null,null,"БОРТВМ_630_1ОТВ",null,null,"Борт","L=630, S=70, Нб=40, 1 отв",null,null,null,null,{"$f":"ROUND(R73*(1+'Повышение цен'!$C$13),0)","v":1488},1488,"1 отв",null,null,null,1236]
[null,null,"БОРТВМ_700_1ОТВ",null,null,"Борт","L=700, S=100, Нб=40, 1 отв",null,null,null,null,{"$f":"ROUND(R74*(1+'Повышение цен'!$C$13),0)","v":1984},1984,"1 отв",null,null,null,1648]
[null,null,"БОРТВМ_800_1ОТВ",null,null,"Борт","L=800, S=100, Нб=40, 1 отв",null,null,null,null,{"$f":"ROUND(R75*(1+'Повышение цен'!$C$13),0)","v":2126},2126,"1 отв",null,null,null,1766]
[null,null,"БОРТВМ_1000_1ОТВ",null,null,"Борт","L=1000, S=70, Нб=40, 1 отв",null,null,null,null,{"$f":"ROUND(R76*(1+'Повышение цен'!$C$13),0)","v":2339},2339,"1 отв",null,null,null,1943]
[null,null,"БОРТВМ_1050_1ОТВ",null,null,"Борт","L=1050, S=70, Нб=40, 1 отв",null,null,null,null,{"$f":"ROUND(R77*(1+'Повышение цен'!$C$13),0)","v":2409},2409,"1 отв",null,null,null,2001]
[null,null,"БОРТВМ_1200_1ОТВ",null,null,"Борт","L=1200, S=70, Нб=40, 1 отв",null,null,null,null,{"$f":"ROUND(R78*(1+'Повышение цен'!$C$13),0)","v":2551},2551,"1 отв",null,null,null,2119]
[null,null,"БОРТВМ_1250_1ОТВ",null,null,"Борт","L=1250, S=70, Нб=40, 1 отв",null,null,null,null,{"$f":"ROUND(R79*(1+'Повышение цен'!$C$13),0)","v":2622},2622,"1 отв",null,null,null,2178]
[null,null,"БОРТВМ_1390_1ОТВ",null,null,"Борт","L=1390, S=100, Нб=40, 1 отв",null,null,null,null,{"$f":"ROUND(R80*(1+'Повышение цен'!$C$13),0)","v":2764},2764,"1 отв",null,null,null,2296]
[null,null,"БОРТВМ_1490_2ОТВ",null,null,"Борт","L=1490, S=70, Нб=40, 2 отв",null,null,null,null,{"$f":"ROUND(R81*(1+'Повышение цен'!$C$13),0)","v":3047},3047,"2 отв",null,null,null,2531]
[null,null,"БОРТВМ_1590_1ОТВ",null,null,"Борт","L=1590, S=100, Нб=40, 1 отв",null,null,null,null,{"$f":"ROUND(R82*(1+'Повышение цен'!$C$13),0)","v":3189},3189,"1 отв",null,null,null,2649]
[null,null,"БОРТВМ_1890_1ОТВ",null,null,"Борт","L=1890, S=70, Нб=40, 2 отв",null,null,null,null,{"$f":"ROUND(R83*(1+'Повышение цен'!$C$13),0)","v":3472},3472,"2 отв",null,null,null,2884]

{"sheet":"Рукомойники, Котломоечные","index":14,"n_rows":51,"n_cols":18,"rows_kept":51,"cut":false,"hidden":false,"merged":[[8,13,9,16],[10,13,10,16],[11,13,11,16],[12,13,12,16],[11,2,11,4],[11,6,11,10],[12,2,12,4],[12,6,12,10],[18,13,24,16],[6,1,6,11],[8,1,9,1],[8,2,9,4],[8,5,9,5],[8,6,9,10],[10,1,11,1],[10,2,10,4],[10,6,10,10],[16,1,17,1],[16,2,17,4],[16,5,17,5],[16,6,17,10],[18,1,24,1],[21,2,21,4],[21,6,21,10],[16,13,17,16],[49,2,49,4],[49,6,49,10],[50,2,50,4],[50,6,50,10],[45,16,46,16],[44,2,44,12],[43,1,43,11],[22,2,22,4],[22,6,22,10],[23,2,23,4],[23,6,23,10],[24,2,24,4],[24,6,24,10],[37,14,40,15],[37,16,40,16],[47,1,50,1],[47,2,47,4],[47,6,47,10],[47,14,50,15],[47,16,50,16],[48,2,48,4],[48,6,48,10],[45,1,46,1],[45,2,46,4],[45,5,46,5],[45,6,46,10],[45,14,46,15],[29,2,29,12],[39,2,39,4],[39,6,39,10],[40,2,40,4],[40,6,40,10],[37,2,37,4],[37,6,37,10],[35,2,35,4],[35,6,35,10],[38,2,38,4],[38,6,38,10],[30,16,31,16],[32,1,40,1],[32,14,35,15],[32,16,35,16],[30,0,31,0],[30,1,31,1],[30,2,31,4],[30,5,31,5],[30,6,31,10],[30,14,31,15],[32,2,32,4],[32,6,32,10],[34,2,34,4],[34,6,34,10],[33,2,33,4],[33,6,33,10],[1,0,1,2],[2,0,2,2],[3,0,3,2],[28,1,28,11],[14,1,14,11],[18,2,18,4],[18,6,18,10],[19,2,19,4],[19,6,19,10],[20,2,20,4],[20,6,20,10]]}
["Нейтральное оборудование/Рукомойники,Котломоечные",null,null,null,null,null,null,null,null,null,null,null,null,null,null,"На главную"]
[]
["Ваша скидка:",null,null,{"$f":"Содержание!C2","v":0}]
["НДС:",null,null,{"$f":"IF(Лист2!A1=TRUE,\"С НДС\",\"БЕЗ НДС\")","v":"С НДС"}]
[]
[]
[null,"Рукомойник РНЭ/РНБЭ/ВРПЭ"]
[]
[null,"Изображение","Артикул",null,null,"Модель","Характеристика номенклатуры",null,null,null,null,"Базовая цена,","Ваша цена,","Техническое описание",null,null,null,"Базовая цена,"]
[null,null,null,null,null,null,null,null,null,null,null,"руб","руб",null,null,null,null,"руб"]
[null,null,"РНЭ_403025_14",null,null,"РНЭ","L=400, S=300, H=250, G=140",null,null,null,null,{"$f":"ROUND(R11*(1+'Повышение цен'!$C$21),0)","v":14500},{"$f":"ROUND(IF($D$4=\"С НДС\",L11*(1-$D$3),L11*(1-$D$3)/1.22),0)","v":14500},"Рукомойник настенный. В комплекте:исмеситель с гибкими подводками для холодной и горячей воды.",null,null,null,12045]
[null,null,"РНБЭ_403025_14",null,null,"РНБЭ","L=400, S=300, H=250, G=140",null,null,null,null,{"$f":"ROUND(R12*(1+'Повышение цен'!$C$21),0)","v":21044},{"$f":"ROUND(IF($D$4=\"С НДС\",L12*(1-$D$3),L12*(1-$D$3)/1.22),0)","v":21044},"Рукомойник настенный. В комплекте:излив, узел смешивания, кнопка подачи воды с гибкими подводками для холодной и горячей воды.",null,null,null,17482]
[null,null,"ВРПЭ_505286_25",null,null,"ВРПЭ","L=500, S=520, H=850, G=250",null,null,null,null,{"$f":"ROUND(R13*(1+'Повышение цен'!$C$21),0)","v":29225},{"$f":"ROUND(IF($D$4=\"С НДС\",L13*(1-$D$3),L13*(1-$D$3)/1.22),0)","v":29225},"Рукомойник закрытый напольный. В комплекте:излив, узел смешивания   с гибкими подводками для холодной и горячей воды, распашная дверь, педаль подачи воды",null,null,null,24278]
[]
[null,"Котломоечная цельнотянутая ванна ВКП Ш 1"]
[]
[null,"Изображение","Артикул",null,null,"Модель","Характеристика номенклатуры",null,null,null,null,"Базовая цена,","Ваша цена,","Техническое описание",null,null,null,"Базовая цена,"]
[null,null,null,null,null,null,null,null,null,null,null,"руб","руб",null,null,null,null,"руб"]
[null,null,"ВКПШ1_110708587_36",null,null,"ВКПШ1","L=1100, S=700, H=850-870, G=360",null,null,null,null,{"$f":"ROUND(R19*(1+'Повышение цен'!$C$21),0)","v":65981},{"$f":"ROUND(IF($D$4=\"С НДС\",L19*(1-$D$3),L19*(1-$D$3)/1.22),0)","v":65981},"шлифованная н/ст, толщина столешницы - 1 мм, Aisi 304 разборная конструкция, стол закрыт с трех сторон фартуком,  каркас - труба 40*40*1,2 мм, Hстолешницы -50 мм, Hборта - 40 мм, столешница усилена швеллером; 1 цельнотянутая емкость : 1010*510*360 мм со сливным отверстием диаметром 54 мм, отверстие для смесителя диаметром 31,5 мм, регулируемые ножки(+/-20мм),  ",null,null,null,54812]
[null,null,"ВКПШ1_120708587_36",null,null,"ВКПШ1","L=1200, S=700, H=850-870, G=360",null,null,null,null,{"$f":"ROUND(R20*(1+'Повышение цен'!$C$21),0)","v":67471},67471,null,null,null,null,56049]
[null,null,"ВКПШ1_130708587_36",null,null,"ВКПШ1","L=1300, S=700, H=850-870, G=360",null,null,null,null,{"$f":"ROUND(R21*(1+'Повышение цен'!$C$21),0)","v":68911},68911,null,null,null,null,57246]
[null,null,"ВКПШ1Л_140708587_36",null,null,"ВКПШ1","L=1400, S=700, H=850-870, G=360",null,null,null,null,{"$f":"ROUND(R22*(1+'Повышение цен'!$C$21),0)","v":71973},71973,null,null,null,null,59789]
[null,null,"ВКПШ1П_140708587_36",null,null,"ВКПШ1","L=1400, S=700, H=850-870, G=360",null,null,null,null,{"$f":"ROUND(R23*(1+'Повышение цен'!$C$21),0)","v":71973},71973,null,null,null,null,59789]
[null,null,"ВКПШ1Л_150708587_36",null,null,"ВКПШ1","L=1500, S=700, H=850-870, G=360",null,null,null,null,{"$f":"ROUND(R24*(1+'Повышение цен'!$C$21),0)","v":75310},75310,null,null,null,null,62561]
[null,null,"ВКПШ1П_150708587_36",null,null,"ВКПШ1","L=1500, S=700, H=850-870, G=360",null,null,null,null,{"$f":"ROUND(R25*(1+'Повышение цен'!$C$21),0)","v":75310},75310,null,null,null,null,62561]
[]
[]
[]
[null,"Одинарная сварная котломойка ВКН Э / ВКЦ Э "]
[]
[null,"Изображение","Артикул",null,null,"Модель","Характеристика номенклатуры",null,null,null,null,"Базовая цена,","Ваша цена,","Сварная ","Техническое описание",null,"Каркас","Базовая цена,"]
[null,null,null,null,null,null,null,null,null,null,null,"руб","руб","емкость, мм",null,null,null,"руб"]
[null,null,"ВКНЭ_80538587_30",null,null,"ВКНЭ","L=800, S=530, H=850-870, G=300",null,null,null,null,{"$f":"ROUND(R33*(1+'Повышение цен'!$C$21),0)","v":16332},{"$f":"ROUND(IF($D$4=\"С НДС\",L33*(1-$D$3),L33*(1-$D$3)/1.22),0)","v":16332},"700*430*300","н/ст, толщина ванны - 1 мм, разборная конструкция, каркас - нерж. уголок 40*40*1,5 мм, Hстолешницы -40 мм, сварная емкость, без отверстия для смесителя, регулируемые ножки(+/-20мм), широкий борт с отверстием под смеситель и пристенным бортом Hстолешницы -40 мм заказывается отдельно и крепится по месту(опция)",null,"Нерж. Сталь",13567]
[null,null,"ВКНЭ_100538587_30",null,null,"ВКНЭ","L=1000, S=530, H=850-870, G=300",null,null,null,null,{"$f":"ROUND(R34*(1+'Повышение цен'!$C$21),0)","v":18908},18908,"900*430*300",null,null,null,15707]
[null,null,"ВКНЭ_120638587_40",null,null,"ВКНЭ","L=1200, S=630, H=850-870, G=400",null,null,null,null,{"$f":"ROUND(R35*(1+'Повышение цен'!$C$21),0)","v":27594},27594,"1100*530*400",null,null,null,22923]
[null,null,"ВКНЭ_139708587_45",null,null,"ВКНЭ","L=1390, S=700, H=850-870, G=400",null,null,null,null,{"$f":"ROUND(R36*(1+'Повышение цен'!$C$21),0)","v":34538},34538,"1290*600*450",null,null,null,28691]
[]
[null,null,"ВКЦЭ_80538587_30",null,null,"ВКЦЭ","L=800, S=530, H=850-870, G=300",null,null,null,null,{"$f":"ROUND(R38*(1+'Повышение цен'!$C$21),0)","v":12666},{"$f":"ROUND(IF($D$4=\"С НДС\",L38*(1-$D$3),L38*(1-$D$3)/1.22),0)","v":12666},"700*430*300","н/ст, толщина ванны - 1 мм, разборная конструкция, каркас - оцин. уголок 40*40*1,5 мм, Hстолешницы -40 мм, сварная емкость, без отверстия для смесителя, регулируемые ножки(+/-20мм), широкий борт с отверстием под смеситель и пристенным бортом Hстолешницы -40 мм заказывается отдельно и крепится по месту(опция)",null,"Оцинкованная сталь",10522]
[null,null,"ВКЦЭ_100538587_30",null,null,"ВКЦЭ","L=1000, S=530, H=850-870, G=300",null,null,null,null,{"$f":"ROUND(R39*(1+'Повышение цен'!$C$21),0)","v":14899},14899,"900*430*300",null,null,null,12377]
[null,null,"ВКЦЭ_120638587_40",null,null,"ВКЦЭ","L=1200, S=630, H=850-870, G=400",null,null,null,null,{"$f":"ROUND(R40*(1+'Повышение цен'!$C$21),0)","v":22815},22815,"1100*530*400",null,null,null,18953]
[null,null,"ВКЦЭ_139708587_45",null,null,"ВКЦЭ","L=1390, S=700, H=850-870, G=400",null,null,null,null,{"$f":"ROUND(R41*(1+'Повышение цен'!$C$21),0)","v":29255},29255,"1290*600*450",null,null,null,24303]
[]
[]
[null,"Опция, борт для сварной ванны"]
[]
[null,"Изображение","Артикул",null,null,"Модель","Характеристика номенклатуры",null,null,null,null,"Базовая цена,","Ваша цена,","отверстие ","Техническое описание",null,"Каркас","Базовая цена,"]
[null,null,null,null,null,null,null,null,null,null,null,"руб","руб","для смесителя",null,null,null,"руб"]
[null,null,"БОРТВМ_800_1ОТВ",null,null,"Борт","L=800, S=70, Нб=40, 1 отв",null,null,null,null,{"$f":"ROUND(R48*(1+'Повышение цен'!$C$21),0)","v":2055},{"$f":"ROUND(IF($D$4=\"С НДС\",L48*(1-$D$3),L48*(1-$D$3)/1.22),0)","v":2055},"1 отв","н/ст , толщина стали - 1 мм, сварная конструкция, кол-во отверстий под смеситель указано в характеристике Hстолешницы -40 мм , Hборта -40 мм присоединятеся к ванне моечной серии ВКНЭ/ВКЦЭ соответствующей длинный и крепится по месту(опция)",null,"Нержавеющая сталь ",1707]
[null,null,"БОРТВМ_1000_1ОТВ",null,null,"Борт","L=1000, S=70, Нб=40, 1 отв",null,null,null,null,{"$f":"ROUND(R49*(1+'Повышение цен'!$C$21),0)","v":2339},2339,"1 отв",null,null,null,1943]
[null,null,"БОРТВМ_1200_1ОТВ",null,null,"Борт","L=1200, S=70, Нб=40, 1 отв",null,null,null,null,{"$f":"ROUND(R50*(1+'Повышение цен'!$C$21),0)","v":2551},2551,"1 отв",null,null,null,2119]
[null,null,"БОРТВМ_1390_1ОТВ",null,null,"Борт","L=1390, S=100, Нб=40, 1 отв",null,null,null,null,{"$f":"ROUND(R51*(1+'Повышение цен'!$C$21),0)","v":2764},2764,"1 отв",null,null,null,2296]

{"sheet":"Стеллажи","index":15,"n_rows":210,"n_cols":15,"rows_kept":210,"cut":false,"hidden":false,"merged":[[209,2,209,3],[209,5,209,9],[193,1,193,10],[195,2,196,3],[195,4,196,4],[195,5,196,9],[195,12,196,13],[197,2,197,3],[197,5,197,9],[197,12,209,13],[198,2,198,3],[198,5,198,9],[199,2,199,3],[199,5,199,9],[200,2,200,3],[200,5,200,9],[201,2,201,3],[201,5,201,9],[202,2,202,3],[202,5,202,9],[204,2,204,3],[204,5,204,9],[205,2,205,3],[205,5,205,9],[207,2,207,3],[207,5,207,9],[208,2,208,3],[208,5,208,9],[10,12,24,13],[12,2,12,4],[12,6,12,9],[13,2,13,4],[13,6,13,9],[14,2,14,4],[14,6,14,9],[22,2,22,4],[23,2,23,4],[23,6,23,9],[30,2,30,4],[44,6,44,9],[26,1,26,10],[27,2,27,11],[28,1,29,1],[30,1,44,1],[34,6,34,9],[42,2,42,4],[64,2,64,3],[57,5,58,9],[8,5,9,5],[8,6,9,9],[8,12,9,13],[20,2,20,4],[20,6,20,9],[21,2,21,4],[21,6,21,9],[18,6,18,9],[206,2,206,3],[206,5,206,9],[42,6,42,9],[43,2,43,4],[43,6,43,9],[44,2,44,4],[40,2,40,4],[40,6,40,9],[41,2,41,4],[41,6,41,9],[106,2,106,4],[95,2,95,4],[95,6,95,9],[61,2,61,3],[62,2,62,3],[63,2,63,3],[1,0,1,2],[2,0,2,2],[3,0,3,2],[6,1,6,10],[7,2,7,11],[24,2,24,4],[24,6,24,9],[25,0,25,11],[10,1,24,1],[10,2,10,4],[10,6,10,9],[11,2,11,4],[11,6,11,9],[19,2,19,4],[19,6,19,9],[22,6,22,9],[15,2,15,4],[15,6,15,9],[16,2,16,4],[16,6,16,9],[18,2,18,4],[8,0,9,0],[8,1,9,1],[8,2,9,4],[91,1,91,10],[92,2,92,11],[100,6,100,9],[101,2,101,4],[101,6,101,9],[111,1,111,10],[112,2,112,11],[113,2,114,4],[113,5,114,5],[109,2,109,4],[109,6,109,9],[115,1,129,1],[46,12,46,13],[47,2,48,2],[47,12,47,13],[48,12,53,13],[51,10,51,11],[53,3,53,4],[68,2,68,3],[67,2,67,3],[66,5,66,9],[57,12,58,13],[59,12,71,13],[66,2,66,3],[67,5,67,9],[68,5,68,9],[69,5,69,9],[70,5,70,9],[71,5,71,9],[69,2,69,3],[70,2,70,3],[84,12,86,13],[74,12,74,13],[75,12,77,13],[73,12,73,13],[146,1,160,1],[166,1,180,1],[166,2,166,4],[166,6,166,9],[164,5,165,5],[164,6,165,9],[113,1,114,1],[119,2,119,4],[119,6,119,9],[120,2,120,4],[120,6,120,9],[121,2,121,4],[121,6,121,9],[113,6,114,9],[170,2,170,4],[170,6,170,9],[171,2,171,4],[171,6,171,9],[172,2,172,4],[180,2,180,4],[180,6,180,9],[172,6,172,9],[175,2,175,4],[175,6,175,9],[28,12,29,13],[30,12,44,13],[34,2,34,4],[30,6,30,9],[59,5,59,9],[59,2,59,3],[182,2,182,11],[146,6,146,9],[148,2,148,4],[148,6,148,9],[149,2,149,4],[149,6,149,9],[169,2,169,4],[157,2,157,4],[157,6,157,9],[158,2,158,4],[158,6,158,9],[159,2,159,4],[159,6,159,9],[161,0,161,11],[162,1,162,10],[163,2,163,11],[164,1,165,1],[164,2,165,4],[28,2,29,4],[28,5,29,5],[28,6,29,9],[38,2,38,4],[38,6,38,9],[39,2,39,4],[39,6,39,9],[32,6,32,9],[33,2,33,4],[33,6,33,9],[35,2,35,4],[35,6,35,9],[36,2,36,4],[36,6,36,9],[31,2,31,4],[31,6,31,9],[32,2,32,4],[74,2,75,2],[85,2,85,3],[85,5,85,9],[46,2,46,11],[80,1,80,10],[53,8,53,11],[57,2,58,3],[60,5,60,9],[61,5,61,9],[62,5,62,9],[63,5,63,9],[64,5,64,9],[82,12,83,13],[71,2,71,3],[57,4,58,4],[52,9,52,11],[55,1,55,10],[60,2,60,3],[108,2,108,4],[108,6,108,9],[93,0,94,0],[93,1,94,1],[93,2,94,4],[93,5,94,5],[93,6,94,9],[82,2,83,3],[82,4,83,4],[84,2,84,3],[86,2,86,3],[84,5,84,9],[86,5,86,9],[82,5,83,9],[82,1,83,1],[102,2,102,4],[102,6,102,9],[73,2,73,11],[115,2,115,4],[115,6,115,9],[110,0,110,11],[93,12,94,13],[95,1,109,1],[95,12,109,13],[97,2,97,4],[97,6,97,9],[98,2,98,4],[98,6,98,9],[99,2,99,4],[99,6,99,9],[100,2,100,4],[103,2,103,4],[103,6,103,9],[104,2,104,4],[104,6,104,9],[105,2,105,4],[105,6,105,9],[96,2,96,4],[96,6,96,9],[106,6,106,9],[107,2,107,4],[107,6,107,9],[117,6,117,9],[118,2,118,4],[118,6,118,9],[126,2,126,4],[126,6,126,9],[127,2,127,4],[127,6,127,9],[129,2,129,4],[129,6,129,9],[128,2,128,4],[128,6,128,9],[123,2,123,4],[123,6,123,9],[124,2,124,4],[124,6,124,9],[125,2,125,4],[125,6,125,9],[144,0,145,0],[144,1,145,1],[144,2,145,4],[144,5,145,5],[144,6,145,9],[143,2,143,11],[144,12,145,13],[131,12,131,13],[132,2,133,2],[132,12,132,13],[133,12,138,13],[136,10,136,11],[137,9,137,11],[138,8,138,11],[138,3,138,5],[131,2,131,11],[142,1,142,10],[164,12,165,13],[113,12,114,13],[146,12,160,13],[147,2,147,4],[147,6,147,9],[154,2,154,4],[154,6,154,9],[155,2,155,4],[155,6,155,9],[156,2,156,4],[156,6,156,9],[150,2,150,4],[150,6,150,9],[151,2,151,4],[151,6,151,9],[152,2,152,4],[152,6,152,9],[146,2,146,4],[160,2,160,4],[160,6,160,9],[115,12,129,13],[116,2,116,4],[116,6,116,9],[117,2,117,4],[189,8,189,11],[189,3,189,5],[176,6,176,9],[174,6,174,9],[182,12,182,13],[183,2,184,2],[183,12,183,13],[184,12,189,13],[187,10,187,11],[188,9,188,11],[166,12,180,13],[167,2,167,4],[167,6,167,9],[168,2,168,4],[168,6,168,9],[174,2,174,4],[169,6,169,9],[176,2,176,4],[177,2,177,4],[177,6,177,9],[178,2,178,4],[178,6,178,9],[179,2,179,4],[179,6,179,9]]}
["Нейтральное оборудование/Стеллажи",null,null,null,null,null,null,null,null,null,null,null,null,"На главную"]
[]
["Ваша скидка:",null,null,{"$f":"Содержание!C2","v":0}]
["НДС:",null,null,{"$f":"IF(Лист2!A1=TRUE,\"С НДС\",\"БЕЗ НДС\")","v":"С НДС"}]
[]
[]
[null,"Стеллажи на прямоугольной трубе со сплошной полкой (СК Ш, 4) "]
[]
[null,"Изображение","Артикул",null,null,"Модель","Характеристика номенклатуры",null,null,null,"Базовая цена,","Ваша цена,","Техническое описание",null,"Базовая цена,"]
[null,null,null,null,null,null,null,null,null,null,"руб","руб",null,null,"руб"]
[null,null,"СКШ_4040180_4",null,null,"СКШ","L=400, S=400, H=1800, 4",null,null,null,{"$f":"ROUND(O11*(1+'Повышение цен'!$C$14),0)","v":18991},{"$f":"ROUND(IF($D$4=\"С НДС\",K11*(1-$D$3),K11*(1-$D$3)/1.2),0)","v":18991},"шлифованная н/ст, толщина нержавеющей стали полки  - 1 мм, разборная конструкция, каркас - труба 20*40*1,2 мм, Hполки -35 мм, полка сплошная, 4 шт,  шаг крепления полки 150 мм, регулируемые ножки(+/-20мм),",null,15776]
[null,null,"СКШ_6040180_4",null,null,"СКШ","L=600, S=400, H=1800, 4",null,null,null,{"$f":"ROUND(O12*(1+'Повышение цен'!$C$14),0)","v":21089},{"$f":"ROUND(IF($D$4=\"С НДС\",K12*(1-$D$3),K12*(1-$D$3)/1.2),0)","v":21089},null,null,17519]
[null,null,"СКШ_8040180_4",null,null,"СКШ","L=800, S=400, H=1800, 4",null,null,null,{"$f":"ROUND(O13*(1+'Повышение цен'!$C$14),0)","v":23187},23187,null,null,19262]
[null,null,"СКШ_10040180_4",null,null,"СКШ","L=1000, S=400, H=1800, 4",null,null,null,{"$f":"ROUND(O14*(1+'Повышение цен'!$C$14),0)","v":25287},25287,null,null,21006]
[null,null,"СКШ_12040180_4",null,null,"СКШ","L=1200, S=400, H=1800, 4",null,null,null,{"$f":"ROUND(O15*(1+'Повышение цен'!$C$14),0)","v":27386},27386,null,null,22750]
[null,null,"СКШ_15040180_4",null,null,"СКШ","L=1500, S=400, H=1800, 4",null,null,null,{"$f":"ROUND(O16*(1+'Повышение цен'!$C$14),0)","v":30533},30533,null,null,25364]
[null,null,"СКШ_18040180_4",null,null,"СКШ","L=1800, S=400, H=1800, 4",null,null,null,{"$f":"ROUND(O17*(1+'Повышение цен'!$C$14),0)","v":33679},33679,null,null,27978]
[]
[null,null,"СКШ_4050180_4",null,null,"СКШ","L=400, S=500, H=1800, 4",null,null,null,{"$f":"ROUND(O19*(1+'Повышение цен'!$C$14),0)","v":19904},19904,null,null,16535]
[null,null,"СКШ_6050180_4",null,null,"СКШ","L=600, S=500, H=1800, 4",null,null,null,{"$f":"ROUND(O20*(1+'Повышение цен'!$C$14),0)","v":22461},22461,null,null,18659]
[null,null,"СКШ_8050180_4",null,null,"СКШ","L=800, S=500, H=1800, 4",null,null,null,{"$f":"ROUND(O21*(1+'Повышение цен'!$C$14),0)","v":25015},25015,null,null,20780]
[null,null,"СКШ_10050180_4",null,null,"СКШ","L=1000, S=500, H=1800, 4",null,null,null,{"$f":"ROUND(O22*(1+'Повышение цен'!$C$14),0)","v":27574},27574,null,null,22906]
[null,null,"СКШ_12050180_4",null,null,"СКШ","L=1200, S=500, H=1800, 4",null,null,null,{"$f":"ROUND(O23*(1+'Повышение цен'!$C$14),0)","v":30127},30127,null,null,25027]
[null,null,"СКШ_15050180_4",null,null,"СКШ","L=1500, S=500, H=1800, 4",null,null,null,{"$f":"ROUND(O24*(1+'Повышение цен'!$C$14),0)","v":33960},33960,null,null,28211]
[null,null,"СКШ_18050180_4",null,null,"СКШ","L=1800, S=500, H=1800, 4",null,null,null,{"$f":"ROUND(O25*(1+'Повышение цен'!$C$14),0)","v":37791},37791,null,null,31394]
[]
[null,"Стеллажи  на прямоугольной трубе с перфорированной полкой (СК Ш, 4П) "]
[]
[null,"Изображение","Артикул",null,null,"Модель","Характеристика номенклатуры",null,null,null,"Базовая цена,","Ваша цена,","Техническое описание",null,"Базовая цена,"]
[null,null,null,null,null,null,null,null,null,null,"руб","руб",null,null,"руб"]
[null,null,"СКШ_4040180_4П",null,null,"СКШ","L=400, S=400, H=1800, 4П",null,null,null,{"$f":"ROUND(O31*(1+'Повышение цен'!$C$14),0)","v":21239},{"$f":"ROUND(IF($D$4=\"С НДС\",K31*(1-$D$3),K31*(1-$D$3)/1.2),0)","v":21239},"шлифованная н/ст, толщина нержавеющей стали полки  - 1 мм, разборная конструкция, каркас - труба 20*40*1,2 мм, Hполки -35 мм, полка перфорированная, 4 шт, шаг крепления полки 150 мм, регулируемые ножки(+/-20мм),",null,17644]
[null,null,"СКШ_6040180_4П",null,null,"СКШ","L=600, S=400, H=1800, 4П",null,null,null,{"$f":"ROUND(O32*(1+'Повышение цен'!$C$14),0)","v":23338},23338,null,null,19387]
[null,null,"СКШ_8040180_4П",null,null,"СКШ","L=800, S=400, H=1800, 4П",null,null,null,{"$f":"ROUND(O33*(1+'Повышение цен'!$C$14),0)","v":25436},25436,null,null,21130]
[null,null,"СКШ_10040180_4П",null,null,"СКШ","L=1000, S=400, H=1800, 4П",null,null,null,{"$f":"ROUND(O34*(1+'Повышение цен'!$C$14),0)","v":27533},27533,null,null,22872]
[null,null,"СКШ_12040180_4П",null,null,"СКШ","L=1200, S=400, H=1800, 4П",null,null,null,{"$f":"ROUND(O35*(1+'Повышение цен'!$C$14),0)","v":29632},29632,null,null,24616]
[null,null,"СКШ_15040180_4П",null,null,"СКШ","L=1500, S=400, H=1800, 4П",null,null,null,{"$f":"ROUND(O36*(1+'Повышение цен'!$C$14),0)","v":32778},32778,null,null,27229]
[null,null,"СКШ_18040180_4П",null,null,"СКШ","L=1800, S=400, H=1800, 4П",null,null,null,{"$f":"ROUND(O37*(1+'Повышение цен'!$C$14),0)","v":35924},35924,null,null,29843]
[]
[null,null,"СКШ_4050180_4П",null,null,"СКШ","L=400, S=500, H=1800, 4П",null,null,null,{"$f":"ROUND(O39*(1+'Повышение цен'!$C$14),0)","v":22153},{"$f":"ROUND(IF($D$4=\"С НДС\",K39*(1-$D$3),K39*(1-$D$3)/1.2),0)","v":22153},null,null,18403]
[null,null,"СКШ_6050180_4П",null,null,"СКШ","L=600, S=500, H=1800, 4П",null,null,null,{"$f":"ROUND(O40*(1+'Повышение цен'!$C$14),0)","v":24708},24708,null,null,20525]
[null,null,"СКШ_8050180_4П",null,null,"СКШ","L=800, S=500, H=1800, 4П",null,null,null,{"$f":"ROUND(O41*(1+'Повышение цен'!$C$14),0)","v":27264},27264,null,null,22649]
[null,null,"СКШ_10050180_4П",null,null,"СКШ","L=1000, S=500, H=1800, 4П",null,null,null,{"$f":"ROUND(O42*(1+'Повышение цен'!$C$14),0)","v":29818},29818,null,null,24770]
[null,null,"СКШ_12050180_4П",null,null,"СКШ","L=1200, S=500, H=1800, 4П",null,null,null,{"$f":"ROUND(O43*(1+'Повышение цен'!$C$14),0)","v":32372},32372,null,null,26892]
[null,null,"СКШ_15050180_4П",null,null,"СКШ","L=1500, S=500, H=1800, 4П",null,null,null,{"$f":"ROUND(O44*(1+'Повышение цен'!$C$14),0)","v":36207},36207,null,null,30078]
[null,null,"СКШ_18050180_4П",null,null,"СКШ","L=1800, S=500, H=1800, 4П",null,null,null,{"$f":"ROUND(O45*(1+'Повышение цен'!$C$14),0)","v":40040},40040,null,null,33262]
[]
[null,null,"Формула расчета цены",null,null,null,null,null,null,null,null,null,"Техническое описание"]
[null,"Артикул","Модель","Длина,","Глубина,","Высота","кол-во","Тип","Каркас","Доп.","Базовая цена,","Ваша цена,","Нестандартной модели"]
[null,null,null,"мм","мм","мм","полок","полок","раз/св","колеса","руб","руб",{"$f":"CONCATENATE(\"шлифованная н/ст, толщина стали нержавеющей полки - 1 мм,\",IF(I50=\"СВ\",\"сварная конструкция\",\"разборная конструкция\"),\", каркас - труба 20*40*1,2 мм, Hполки - 35 мм, \",IF(H50=\"\",\" сплошная полка, \",\"\"),IF(H50=\"П\",\" полка перфорированная, \",\"\"),G50,\" шт, \",IF(J50=\"К\",\", 4 колеса(2 с тормозом)\",\"регулируемые ножки(+/-20мм)\"),\", длина \", D50,\"мм\",\", глубина \",E50,\"мм\",\" ,высота \",F50,\"мм\")","v":"шлифованная н/ст, толщина стали нержавеющей полки - 1 мм,разборная конструкция, каркас - труба 20*40*1,2 мм, Hполки - 35 мм,  полка перфорированная, 4 шт, регулируемые ножки(+/-20мм), длина 1500мм, глубина 500мм ,высота 1800мм"}]
[null,{"$f":"UPPER(CONCATENATE(C50,\"_\",D50/10,E50/10,F50/10,\"_\",G50,H50,I50,J50))","v":"СКШ_15050180_4П"},"СКШ",1500,500,1800,4,"П",null,null,{"$f":"ROUND(((K51*IF(D51>1800,1.05,1)*IF(E51>600,1.05,1)*IF(F51>1850,1.05,1)+IF(J50=\"К\",6000,0))*1.12*1.1)*1.05*1.2*(1+'Повышение цен'!$C$14),0)","v":36207},{"$f":"ROUND(IF($D$4=\"С НДС\",K50*(1-$D$3),K50*(1-$D$3)/1.2),0)","v":36207}]
[null,null,null,{"$f":"IF(AND(D50>299,D50<2001),D50,\"не производим\")","v":1500},{"$f":"IF(AND(E50>299,E50<701),E50,\"не производим\")","v":500},{"$f":"IF(AND(F53>999,F53<2501),F53,\"не производим\")","v":1800},{"$f":"IF(I50=\"\",IF(AND(G50>2.99,G50<6.01),G50,\"не производим\"),IF(I50=\"СВ\",IF(AND(G50>2.99,G50<6.01),G50,\"не производим\")))","v":4},null,null,null,{"$f":"IF(H50=\"\",IF(I50=\"\",ROUND((((((D51*E51*Техно!AI10*0.00001*1.25*Техно!AJ8)*Техно!AJ10*G51)+((D51*150*Техно!AI13*0.00001*Техно!AJ8)*Техно!AJ13*G51)+(Техно!AJ18*F51*0.001*1.1*4))*1.18)+(Техно!AJ25*0.4)+((Техно!AJ26+Техно!AJ27)*4*G51/4))*1.18/0.65*(0.85+0.6944),0),IF(I50=\"СВ\",ROUND((((((D51*E51*Техно!AI10*0.00001*1.25*Техно!AJ8)*Техно!AJ10*G51)+((D51*150*Техно!AI13*0.00001*Техно!AJ8)*Техно!AJ13*G51)+(Техно!AJ18*F51*0.001*1.1*4))*1.18)+(Техно!AJ25*(0.4+0.1))+((Техно!AJ26+Техно!AJ27)*(4+0.5)*G51/4))*1.18/0.65*1.035*(0.85+0.6944),0))),IF(H50=\"П\",IF(I50=\"\",ROUND((((((D51*E51*Техно!AK10*0.00001*1.25*Техно!AL8)*Техно!AL10*G51)+((D51*150*Техно!AK13*0.00001*Техно!AL8)*Техно!AL13*G51)+(Техно!AL18*F51*0.001*1.1*4))*1.18)+(Техно!AL25*0.4)+((Техно!AL26+Техно!AL27)*5.5*G51/4))*1.18/0.65*(0.85+0.6944),0),IF(I50=\"СВ\",ROUND((((((D51*E51*Техно!AK10*0.00001*1.25*Техно!AL8)*Техно!AL10*G51)+((D51*150*Техно!AK13*0.00001*Техно!AL8)*Техно!AL13*G51)+(Техно!AL18*F51*0.001*1.1*4))*1.18)+(Техно!AL25*(0.4+0.1))+((Техно!AL26+Техно!AL27)*(5.5+0.5)*G51/4))*1.18/0.65*1.035*(0.85+0.6944),0)))))","v":19376}]
[null,null,null,"300-2000","300-700","1000-2500","3_6",null,null,"К","Колеса"]
[null,null,null,null,null,{"$f":"IF(F50=870,850,F50)","v":1800},null,null,"СВ","Сварная конструкция"]
[null,null,"СКШ","Стеллаж на трубе",null,null,null,"П","Перфорированная полка"]
[]
[null,"Сплошная полка для стеллажа на прямоугольной трубе (СК Ш) "]
[]
[null,"Артикул","Артикул",null,"Модель","Наименование",null,null,null,null,"Базовая цена,","Ваша цена,","Техническое описание",null,"Базовая цена,"]
[null,null,null,null,null,null,null,null,null,null,"руб","руб",null,null,"руб"]
[null,null,"ПЛКСКШ_6040",null,"ПЛКСКШ","L=600, S=400, H=35",null,null,null,null,{"$f":"ROUND(O60*(1+'Повышение цен'!$C$14),0)","v":3088},{"$f":"ROUND(IF($D$4=\"С НДС\",K60*(1-$D$3),K60*(1-$D$3)/1.2),0)","v":3088},"шлифованная н/ст, толщина нержавеющей стали полки  - 1 мм, Hполки -35 мм, полка сплошная, усилена продолным ребром жесткости",null,2565]
[null,null,"ПЛКСКШ_8040",null,"ПЛКСКШ","L=800, S=400, H=35",null,null,null,null,{"$f":"ROUND(O61*(1+'Повышение цен'!$C$14),0)","v":3529},3529,null,null,2932]
[null,null,"ПЛКСКШ_10040",null,"ПЛКСКШ","L=1000, S=400, H=35",null,null,null,null,{"$f":"ROUND(O62*(1+'Повышение цен'!$C$14),0)","v":3970},3970,null,null,3298]
[null,null,"ПЛКСКШ_12040",null,"ПЛКСКШ","L=1200, S=400, H=35",null,null,null,null,{"$f":"ROUND(O63*(1+'Повышение цен'!$C$14),0)","v":4409},4409,null,null,3663]
[null,null,"ПЛКСКШ_15040",null,"ПЛКСКШ","L=1500, S=400, H=35",null,null,null,null,{"$f":"ROUND(O64*(1+'Повышение цен'!$C$14),0)","v":5072},5072,null,null,4213]
[null,null,"ПЛКСКШ_18040",null,"ПЛКСКШ","L=1800, S=400, H=35",null,null,null,null,{"$f":"ROUND(O65*(1+'Повышение цен'!$C$14),0)","v":5734},5734,null,null,4763]
[]
[null,null,"ПЛКСКШ_6050",null,"ПЛКСКШ","L=600, S=500, H=35",null,null,null,null,{"$f":"ROUND(O67*(1+'Повышение цен'!$C$14),0)","v":3380},{"$f":"ROUND(IF($D$4=\"С НДС\",K67*(1-$D$3),K67*(1-$D$3)/1.2),0)","v":3380},null,null,2808]
[null,null,"ПЛКСКШ_8050",null,"ПЛКСКШ","L=800, S=500, H=35",null,null,null,null,{"$f":"ROUND(O68*(1+'Повышение цен'!$C$14),0)","v":3920},3920,null,null,3256]
[null,null,"ПЛКСКШ_10050",null,"ПЛКСКШ","L=1000, S=500, H=35",null,null,null,null,{"$f":"ROUND(O69*(1+'Повышение цен'!$C$14),0)","v":4459},4459,null,null,3704]
[null,null,"ПЛКСКШ_12050",null,"ПЛКСКШ","L=1200, S=500, H=35",null,null,null,null,{"$f":"ROUND(O70*(1+'Повышение цен'!$C$14),0)","v":4997},4997,null,null,4151]
[null,null,"ПЛКСКШ_15050",null,"ПЛКСКШ","L=1500, S=500, H=35",null,null,null,null,{"$f":"ROUND(O71*(1+'Повышение цен'!$C$14),0)","v":5805},5805,null,null,4822]
[null,null,"ПЛКСКШ_18050",null,"ПЛКСКШ","L=1800, S=500, H=35",null,null,null,null,{"$f":"ROUND(O72*(1+'Повышение цен'!$C$14),0)","v":6611},6611,null,null,5492]
[]
[null,null,"Формула расчета цены",null,null,null,null,null,null,null,null,null,"Техническое описание"]
[null,"Наимменование","Название","Длина,","Глубина,","Высота",null,"Тип",null,null,"Базовая цена,","Ваша цена,"]
[null,null,null,"мм","мм","мм",null,"полок",null,null,"руб","руб",{"$f":"CONCATENATE(\"шлифованная н/ст, толщина стали полки - 1 мм,\",\"усилена ребром жесткости,\",IF(H77=\"\",\" сплошная полка,\",\"\"),IF(H77=\"П\",\" полка перфорированная, \",\"\"),\" длина \", D77,\"мм\",\", глубина \",E77,\"мм\",\" ,высота \",F77,\"мм\")","v":"шлифованная н/ст, толщина стали полки - 1 мм,усилена ребром жесткости, сплошная полка, длина 1500мм, глубина 500мм ,высота 35мм"}]
[null,{"$f":"UPPER(CONCATENATE(C77,\"_\",D77/10,E77/10,IF(H77=\"П\",\"_П\",\"\")))","v":"ПЛКСКШ_15050"},"ПЛКСКШ",1500,500,35,null,null,null,null,{"$f":"ROUND((IF(D77>1800,1.05,1)*IF(E77>600,1.05,1)*IF(H77=\"П\",1.15,1)*ROUND(((((((D77*E77*Техно!AI10*0.00001*1.445*Техно!AJ8)*Техно!AJ10)+((D77*150*Техно!AI13*0.00001*Техно!AJ8)*Техно!AJ13)))+(Техно!AJ25*0.1)+((Техно!AJ26+Техно!AJ27)*1)))*1.18/0.65*(0.85+0.6944),0))*1.12*1.1*1.1*(1+'Повышение цен'!$C$14),0)","v":5804},{"$f":"ROUND(IF($D$4=\"С НДС\",K77*(1-$D$3),K77*(1-$D$3)/1.2),0)","v":5804}]
[null,null,null,{"$f":"IF(AND(D77>299,D77<2001),D77,\"не производим\")","v":1500},{"$f":"IF(AND(E77>299,E77<601),E77,\"не производим\")","v":500},{"$f":"IF(AND(#REF!>999,#REF!<2501),#REF!,\"не производим\")","v":{"$error":"#REF!"}},{"$f":"IF(I77=\"\",IF(AND(G77>2.99,G77<4.01),G77,\"не производим\"),IF(I77=\"СВ\",IF(AND(G77>2.99,G77<6.01),G77,\"не производим\")))","v":"не производим"}]
[]
[]
[null,"Стойка для стеллажа на прямоугольной трубе (СК Ш) "]
[]
[null,null,"Артикул",null,"Модель","Наименование",null,null,null,null,"Базовая цена,","Ваша цена,","Техническое описание",null,"Базовая цена,"]
[null,null,null,null,null,null,null,null,null,null,"руб","руб",null,null,"руб"]
[null,null,"СТКСКШ_180",null,"СКТСКШ","L=20, S=40, H=1800",null,null,null,null,{"$f":"ROUND(O85*(1+'Повышение цен'!$C$14),0)","v":2515},{"$f":"ROUND(IF($D$4=\"С НДС\",K85*(1-$D$3),K85*(1-$D$3)/1.2),0)","v":2515},"труба 20*40*1,2 мм, шаг крепления полки 150 мм, регулируемые ножки(+/-20мм),",null,2089]
[null,null,"СТКСКШ_200",null,"СКТСКШ","L=20, S=40, H=2000",null,null,null,null,{"$f":"ROUND(O86*(1+'Повышение цен'!$C$14),0)","v":2865},2865,null,null,2380]
[null,null,"СТКСКШ_220",null,"СКТСКШ","L=20, S=40, H=2200",null,null,null,null,{"$f":"ROUND(O87*(1+'Повышение цен'!$C$14),0)","v":3229},{"$f":"ROUND(IF($D$4=\"С НДС\",K87*(1-$D$3),K87*(1-$D$3)/1.2),0)","v":3229},null,null,2682]
[]
[]
[]
[]
[null,"Стеллажи на нерж уголке со сплошной полкой (СК Э, 4) "]
[]
[null,"Изображение","Артикул",null,null,"Модель","Характеристика номенклатуры",null,null,null,"Базовая цена,","Ваша цена,","Техническое описание",null,"Базовая цена,"]
[null,null,null,null,null,null,null,null,null,null,"руб","руб",null,null,"руб"]
[null,null,"СКЭ_4040180_4",null,null,"СКЭ","L=400, S=400, H=1800, 4",null,null,null,{"$f":"ROUND(O96*(1+'Повышение цен'!$C$15),0)","v":12398},{"$f":"ROUND(IF($D$4=\"С НДС\",K96*(1-$D$3),K96*(1-$D$3)/1.22),0)","v":12398},"н/ст, толщина стали нержавеющей полки  - 0,8 мм, разборная конструкция, каркас - нерж уголок 40*40*1,5 мм, Hполки -35 мм, полка сплошная, 4 шт,  шаг крепления полки 100 мм, регулируемые ножки(+/-20мм),",null,10299]
[null,null,"СКЭ_6040180_4",null,null,"СКЭ","L=600, S=400, H=1800, 4",null,null,null,{"$f":"ROUND(O97*(1+'Повышение цен'!$C$15),0)","v":13668},{"$f":"ROUND(IF($D$4=\"С НДС\",K97*(1-$D$3),K97*(1-$D$3)/1.22),0)","v":13668},null,null,11354]
[null,null,"СКЭ_8040180_4",null,null,"СКЭ","L=800, S=400, H=1800, 4",null,null,null,{"$f":"ROUND(O98*(1+'Повышение цен'!$C$15),0)","v":14941},14941,null,null,12412]
[null,null,"СКЭ_10040180_4",null,null,"СКЭ","L=1000, S=400, H=1800, 4",null,null,null,{"$f":"ROUND(O99*(1+'Повышение цен'!$C$15),0)","v":16211},16211,null,null,13467]
[null,null,"СКЭ_12040180_4",null,null,"СКЭ","L=1200, S=400, H=1800, 4",null,null,null,{"$f":"ROUND(O100*(1+'Повышение цен'!$C$15),0)","v":17482},17482,null,null,14523]
[null,null,"СКЭ_15040180_4",null,null,"СКЭ","L=1500, S=400, H=1800, 4",null,null,null,{"$f":"ROUND(O101*(1+'Повышение цен'!$C$15),0)","v":19389},19389,null,null,16107]
[null,null,"СКЭ_18040180_4",null,null,"СКЭ","L=1800, S=400, H=1800, 4",null,null,null,{"$f":"ROUND(O102*(1+'Повышение цен'!$C$15),0)","v":21296},21296,null,null,17691]
[]
[null,null,"СКЭ_4050180_4",null,null,"СКЭ","L=400, S=500, H=1800, 4",null,null,null,{"$f":"ROUND(O104*(1+'Повышение цен'!$C$15),0)","v":12998},{"$f":"ROUND(IF($D$4=\"С НДС\",K104*(1-$D$3),K104*(1-$D$3)/1.22),0)","v":12998},null,null,10798]
[null,null,"СКЭ_6050180_4",null,null,"СКЭ","L=600, S=500, H=1800, 4",null,null,null,{"$f":"ROUND(O105*(1+'Повышение цен'!$C$15),0)","v":14574},14574,null,null,12107]
[null,null,"СКЭ_8050180_4",null,null,"СКЭ","L=800, S=500, H=1800, 4",null,null,null,{"$f":"ROUND(O106*(1+'Повышение цен'!$C$15),0)","v":16144},16144,null,null,13411]
[null,null,"СКЭ_10050180_4",null,null,"СКЭ","L=1000, S=500, H=1800, 4",null,null,null,{"$f":"ROUND(O107*(1+'Повышение цен'!$C$15),0)","v":17716},17716,null,null,14717]
[null,null,"СКЭ_12050180_4",null,null,"СКЭ","L=1200, S=500, H=1800, 4",null,null,null,{"$f":"ROUND(O108*(1+'Повышение цен'!$C$15),0)","v":19289},19289,null,null,16024]
[null,null,"СКЭ_15050180_4",null,null,"СКЭ","L=1500, S=500, H=1800, 4",null,null,null,{"$f":"ROUND(O109*(1+'Повышение цен'!$C$15),0)","v":21646},21646,null,null,17982]
[null,null,"СКЭ_18050180_4",null,null,"СКЭ","L=1800, S=500, H=1800, 4",null,null,null,{"$f":"ROUND(O110*(1+'Повышение цен'!$C$15),0)","v":24005},24005,null,null,19941]
[]
[null,"Стеллажи  на нерж уголке  с перфорированной полкой (СК Э, 4П) "]
[]
[null,"Изображение","Артикул",null,null,"Модель","Характеристика номенклатуры",null,null,null,"Базовая цена,","Ваша цена,","Техническое описание",null,"Базовая цена,"]
[null,null,null,null,null,null,null,null,null,null,"руб","руб",null,null,"руб"]
[null,null,"СКЭ_4040180_4П",null,null,"СКЭ","L=400, S=400, H=1800, 4П",null,null,null,{"$f":"ROUND(O116*(1+'Повышение цен'!$C$15),0)","v":13863},{"$f":"ROUND(IF($D$4=\"С НДС\",K116*(1-$D$3),K116*(1-$D$3)/1.22),0)","v":13863},"н/ст, толщина стали нержавеющей полки  - 0,8 мм, разборная конструкция, каркас - нерж уголок 40*40*1,5 мм, Hполки -35 мм, полка перфорированная, 4 шт,  шаг крепления полки 100 мм, регулируемые ножки(+/-20мм),",null,11516]
[null,null,"СКЭ_6040180_4П",null,null,"СКЭ","L=600, S=400, H=1800, 4П",null,null,null,{"$f":"ROUND(O117*(1+'Повышение цен'!$C$15),0)","v":15134},15134,null,null,12572]
[null,null,"СКЭ_8040180_4П",null,null,"СКЭ","L=800, S=400, H=1800, 4П",null,null,null,{"$f":"ROUND(O118*(1+'Повышение цен'!$C$15),0)","v":16405},16405,null,null,13628]
[null,null,"СКЭ_10040180_4П",null,null,"СКЭ","L=1000, S=400, H=1800, 4П",null,null,null,{"$f":"ROUND(O119*(1+'Повышение цен'!$C$15),0)","v":17676},17676,null,null,14684]
[null,null,"СКЭ_12040180_4П",null,null,"СКЭ","L=1200, S=400, H=1800, 4П",null,null,null,{"$f":"ROUND(O120*(1+'Повышение цен'!$C$15),0)","v":18949},18949,null,null,15741]
[null,null,"СКЭ_15040180_4П",null,null,"СКЭ","L=1500, S=400, H=1800, 4П",null,null,null,{"$f":"ROUND(O121*(1+'Повышение цен'!$C$15),0)","v":20855},20855,null,null,17325]
[null,null,"СКЭ_18040180_4П",null,null,"СКЭ","L=1800, S=400, H=1800, 4П",null,null,null,{"$f":"ROUND(O122*(1+'Повышение цен'!$C$15),0)","v":22762},22762,null,null,18909]
[]
[null,null,"СКЭ_4050180_4П",null,null,"СКЭ","L=400, S=500, H=1800, 4П",null,null,null,{"$f":"ROUND(O124*(1+'Повышение цен'!$C$15),0)","v":14465},{"$f":"ROUND(IF($D$4=\"С НДС\",K124*(1-$D$3),K124*(1-$D$3)/1.22),0)","v":14465},null,null,12016]
[null,null,"СКЭ_6050180_4П",null,null,"СКЭ","L=600, S=500, H=1800, 4П",null,null,null,{"$f":"ROUND(O125*(1+'Повышение цен'!$C$15),0)","v":16037},16037,null,null,13322]
[null,null,"СКЭ_8050180_4П",null,null,"СКЭ","L=800, S=500, H=1800, 4П",null,null,null,{"$f":"ROUND(O126*(1+'Повышение цен'!$C$15),0)","v":17609},17609,null,null,14628]
[null,null,"СКЭ_10050180_4П",null,null,"СКЭ","L=1000, S=500, H=1800, 4П",null,null,null,{"$f":"ROUND(O127*(1+'Повышение цен'!$C$15),0)","v":19181},19181,null,null,15934]
[null,null,"СКЭ_12050180_4П",null,null,"СКЭ","L=1200, S=500, H=1800, 4П",null,null,null,{"$f":"ROUND(O128*(1+'Повышение цен'!$C$15),0)","v":20753},20753,null,null,17240]
[null,null,"СКЭ_15050180_4П",null,null,"СКЭ","L=1500, S=500, H=1800, 4П",null,null,null,{"$f":"ROUND(O129*(1+'Повышение цен'!$C$15),0)","v":23114},23114,null,null,19201]
[null,null,"СКЭ_18050180_4П",null,null,"СКЭ","L=1800, S=500, H=1800, 4П",null,null,null,{"$f":"ROUND(O130*(1+'Повышение цен'!$C$15),0)","v":25472},25472,null,null,21160]
[]
[null,null,"Формула расчета цены",null,null,null,null,null,null,null,null,null,"Техническое описание"]
[null,"Артикул","Модель","Длина,","Глубина,","Высота","кол-во","Тип","Каркас","Доп.","Базовая цена,","Ваша цена,","Нестандартной модели"]
[null,null,null,"мм","мм","мм","полок","полок","раз/св","колеса","руб","руб",{"$f":"CONCATENATE(\" н/ст, толщина стали нержавеющей полки - 0,8 мм,\",IF(I135=\"СВ\",\"сварная конструкция\",\"разборная конструкция\"),\", каркас - нерж уголок 40*40*1,5 мм, Hполки - 35 мм, \",IF(H135=\"\",\" сплошная полка, \",\"\"),IF(H135=\"П\",\" полка перфорированная, \",\"\"),G135,\" шт, \",IF(J135=\"К\",\", 4 колеса(2 с тормозом)\",\"регулируемые ножки(+/-20мм)\"),\", длина \", D135,\"мм\",\", глубина \",E135,\"мм\",\" ,высота \",F135,\"мм\")","v":" н/ст, толщина стали нержавеющей полки - 0,8 мм,разборная конструкция, каркас - нерж уголок 40*40*1,5 мм, Hполки - 35 мм,  сплошная полка, 4 шт, регулируемые ножки(+/-20мм), длина 400мм, глубина 400мм ,высота 1800мм"}]
[null,{"$f":"UPPER(CONCATENATE(C135,\"_\",D135/10,E135/10,F135/10,\"_\",G135,H135,I135,J135))","v":"СКЭ_4040180_4"},"СКЭ",400,400,1800,4,null,null,null,{"$f":"ROUND((K136*IF(D136>1800,1.05,1)*IF(E136>600,1.05,1)*IF(F136>1850,1.05,1)+IF(J135=\"К\",6000,0))*1.1*1.1*1.1*(1+'Повышение цен'!$C$15),0)","v":12398},{"$f":"ROUND(IF($D$4=\"С НДС\",K135*(1-$D$3),K135*(1-$D$3)/1.22),0)","v":12398}]
[null,null,null,{"$f":"IF(AND(D135>299,D135<2001),D135,\"не производим\")","v":400},{"$f":"IF(AND(E135>299,E135<701),E135,\"не производим\")","v":400},{"$f":"IF(AND(F138>999,F138<2001),F138,\"не производим\")","v":1800},{"$f":"IF(I135=\"\",IF(AND(G135>2.99,G135<6.01),G135,\"не производим\"),IF(I135=\"СВ\",IF(AND(G135>2.99,G135<6.01),G135,\"не производим\")))","v":4},null,null,null,{"$f":"IF(H135=\"\",IF(I135=\"\",ROUND((((((D136*E136*Техно!AI12*0.00001*1.1*Техно!AJ8)*Техно!AJ12*G136)+((D136*20*G136/4*Техно!AI16*0.00001*Техно!AJ8)*Техно!AJ16*G136*G136)+(F136*Техно!AI14*82*Техно!AJ8*0.00001*1.1*Техно!AJ14*4))*1.18)+(Техно!AJ25*0.5)+((Техно!AJ26+Техно!AJ27)*2*G136/4))*1.18/0.57*(0.85+0.6944),0),IF(I135=\"СВ\",ROUND((((((D136*E136*Техно!AI12*0.00001*1.1*Техно!AJ8)*Техно!AJ12*G136)+((D136*20*G136/4*Техно!AI16*0.00001*Техно!AJ8)*Техно!AJ16*G136*G136)+(F136*Техно!AI14*82*Техно!AJ8*0.00001*1.1*Техно!AJ14*4))*1.18)+(Техно!AJ25*(0.5+0.1))+((Техно!AJ26+Техно!AJ27)*(2+0.2)*G136/4))*1.18/0.57*1.035*(0.85+0.6944),0))),IF(H135=\"П\",IF(I135=\"\",ROUND((((((D136*E136*Техно!AK12*0.00001*1.1*Техно!AL8)*Техно!AL12*G136)+((D136*20*G136/4*Техно!AK16*0.00001*Техно!AL8)*Техно!AL16*G136*G136)+(F136*Техно!AK14*82*Техно!AL8*0.00001*1.1*Техно!AL14*4))*1.18)+(Техно!AL25*0.5)+((Техно!AL26+Техно!AL27)*3*G136/4))*1.18/0.57*(0.85+0.6944),0),IF(I135=\"СВ\",ROUND((((((D136*E136*Техно!AK12*0.00001*1.1*Техно!AL8)*Техно!AL12*G136)+((D136*20*G136/4*Техно!AK16*0.00001*Техно!AL8)*Техно!AL16*G136*G136)+(F136*Техно!AK14*82*Техно!AL8*0.00001*1.1*Техно!AL14*4))*1.18)+(Техно!AL25*(0.5+0.1))+((Техно!AL26+Техно!AL27)*(3+0.5)*G136/4))*1.18/0.57*1.035*(0.85+0.6944),0)))))","v":7738}]
[null,null,null,"300-2000","300-700","1000-2000","3_4",null,null,"К","Колеса"]
[null,null,null,null,null,{"$f":"IF(F135=870,850,F135)","v":1800},null,null,"СВ","Сварная конструкция"]
[null,null,"СКЭ","Стеллаж на нерж уголке",null,null,null,"П","Перфорированная полка"]
[]
[]
[]
[null,"Стеллажи на оцин уголке со сплошной полкой (СКЦ Э, 4) "]
[]
[null,"Изображение","Артикул",null,null,"Модель","Характеристика номенклатуры",null,null,null,"Базовая цена,","Ваша цена,","Техническое описание",null,"Базовая цена,"]
[null,null,null,null,null,null,null,null,null,null,"руб","руб",null,null,"руб"]
[null,null,"СКЦ Э_4040180_4",null,null,"СКЦ Э","L=400, S=400, H=1800, 4",null,null,null,{"$f":"ROUND(O147*(1+'Повышение цен'!$C$15),0)","v":9382},{"$f":"ROUND(IF($D$4=\"С НДС\",K147*(1-$D$3),K147*(1-$D$3)/1.22),0)","v":9382},"н/ст, толщина стали нержавеющей полки  - 0,8 мм, разборная конструкция, каркас - оцин уголок 40*40*1,5 мм, Hполки -35 мм, полка сплошная, 4 шт,  шаг крепления полки 100 мм, регулируемые ножки(+/-20мм),",null,7794]
[null,null,"СКЦ Э_6040180_4",null,null,"СКЦ Э","L=600, S=400, H=1800, 4",null,null,null,{"$f":"ROUND(O148*(1+'Повышение цен'!$C$15),0)","v":10531},{"$f":"ROUND(IF($D$4=\"С НДС\",K148*(1-$D$3),K148*(1-$D$3)/1.22),0)","v":10531},null,null,8748]
[null,null,"СКЦ Э_8040180_4",null,null,"СКЦ Э","L=800, S=400, H=1800, 4",null,null,null,{"$f":"ROUND(O149*(1+'Повышение цен'!$C$15),0)","v":11677},11677,null,null,9700]
[null,null,"СКЦ Э_10040180_4",null,null,"СКЦ Э","L=1000, S=400, H=1800, 4",null,null,null,{"$f":"ROUND(O150*(1+'Повышение цен'!$C$15),0)","v":12825},12825,null,null,10654]
[null,null,"СКЦ Э_12040180_4",null,null,"СКЦ Э","L=1200, S=400, H=1800, 4",null,null,null,{"$f":"ROUND(O151*(1+'Повышение цен'!$C$15),0)","v":13973},13973,null,null,11608]
[null,null,"СКЦ Э_15040180_4",null,null,"СКЦ Э","L=1500, S=400, H=1800, 4",null,null,null,{"$f":"ROUND(O152*(1+'Повышение цен'!$C$15),0)","v":15696},15696,null,null,13039]
[null,null,"СКЦ Э_18040180_4",null,null,"СКЦ Э","L=1800, S=400, H=1800, 4",null,null,null,{"$f":"ROUND(O153*(1+'Повышение цен'!$C$15),0)","v":17417},17417,null,null,14469]
[]
[null,null,"СКЦ Э_4050180_4",null,null,"СКЦ Э","L=400, S=500, H=1800, 4",null,null,null,{"$f":"ROUND(O155*(1+'Повышение цен'!$C$15),0)","v":9926},{"$f":"ROUND(IF($D$4=\"С НДС\",K155*(1-$D$3),K155*(1-$D$3)/1.22),0)","v":9926},null,null,8246]
[null,null,"СКЦ Э_6050180_4",null,null,"СКЦ Э","L=600, S=500, H=1800, 4",null,null,null,{"$f":"ROUND(O156*(1+'Повышение цен'!$C$15),0)","v":11344},11344,null,null,9424]
[null,null,"СКЦ Э_8050180_4",null,null,"СКЦ Э","L=800, S=500, H=1800, 4",null,null,null,{"$f":"ROUND(O157*(1+'Повышение цен'!$C$15),0)","v":12764},12764,null,null,10603]
[null,null,"СКЦ Э_10050180_4",null,null,"СКЦ Э","L=1000, S=500, H=1800, 4",null,null,null,{"$f":"ROUND(O158*(1+'Повышение цен'!$C$15),0)","v":14185},14185,null,null,11784]
[null,null,"СКЦ Э_12050180_4",null,null,"СКЦ Э","L=1200, S=500, H=1800, 4",null,null,null,{"$f":"ROUND(O159*(1+'Повышение цен'!$C$15),0)","v":15605},15605,null,null,12963]
[null,null,"СКЦ Э_15050180_4",null,null,"СКЦ Э","L=1500, S=500, H=1800, 4",null,null,null,{"$f":"ROUND(O160*(1+'Повышение цен'!$C$15),0)","v":17735},17735,null,null,14733]
[null,null,"СКЦ Э_18050180_4",null,null,"СКЦ Э","L=1800, S=500, H=1800, 4",null,null,null,{"$f":"ROUND(O161*(1+'Повышение цен'!$C$15),0)","v":19861},19861,null,null,16499]
[]
[null,"Стеллажи  на оцин уголке  с перфорированной полкой (СКЦ Э, 4П) "]
[]
[null,"Изображение","Артикул",null,null,"Модель","Характеристика номенклатуры",null,null,null,"Базовая цена,","Ваша цена,","Техническое описание",null,"Базовая цена,"]
[null,null,null,null,null,null,null,null,null,null,"руб","руб",null,null,"руб"]
[null,null,"СКЦ Э_4040180_4П",null,null,"СКЦ Э","L=400, S=400, H=1800, 4П",null,null,null,{"$f":"ROUND(O167*(1+'Повышение цен'!$C$15),0)","v":10308},{"$f":"ROUND(IF($D$4=\"С НДС\",K167*(1-$D$3),K167*(1-$D$3)/1.22),0)","v":10308},"н/ст, толщина стали нержавеющей полки  - 0,8 мм, разборная конструкция, каркас - оцин уголок 40*40*1,5 мм, Hполки -35 мм, полка перфорированная, 4 шт,  шаг крепления полки 100 мм, регулируемые ножки(+/-20мм),",null,8563]
[null,null,"СКЦ Э_6040180_4П",null,null,"СКЦ Э","L=600, S=400, H=1800, 4П",null,null,null,{"$f":"ROUND(O168*(1+'Повышение цен'!$C$15),0)","v":11455},11455,null,null,9516]
[null,null,"СКЦ Э_8040180_4П",null,null,"СКЦ Э","L=800, S=400, H=1800, 4П",null,null,null,{"$f":"ROUND(O169*(1+'Повышение цен'!$C$15),0)","v":12604},12604,null,null,10470]
[null,null,"СКЦ Э_10040180_4П",null,null,"СКЦ Э","L=1000, S=400, H=1800, 4П",null,null,null,{"$f":"ROUND(O170*(1+'Повышение цен'!$C$15),0)","v":13751},13751,null,null,11423]
[null,null,"СКЦ Э_12040180_4П",null,null,"СКЦ Э","L=1200, S=400, H=1800, 4П",null,null,null,{"$f":"ROUND(O171*(1+'Повышение цен'!$C$15),0)","v":14898},14898,null,null,12376]
[null,null,"СКЦ Э_15040180_4П",null,null,"СКЦ Э","L=1500, S=400, H=1800, 4П",null,null,null,{"$f":"ROUND(O172*(1+'Повышение цен'!$C$15),0)","v":16622},16622,null,null,13808]
[null,null,"СКЦ Э_18040180_4П",null,null,"СКЦ Э","L=1800, S=400, H=1800, 4П",null,null,null,{"$f":"ROUND(O173*(1+'Повышение цен'!$C$15),0)","v":18344},18344,null,null,15239]
[]
[null,null,"СКЦ Э_4050180_4П",null,null,"СКЦ Э","L=400, S=500, H=1800, 4П",null,null,null,{"$f":"ROUND(O175*(1+'Повышение цен'!$C$15),0)","v":10852},{"$f":"ROUND(IF($D$4=\"С НДС\",K175*(1-$D$3),K175*(1-$D$3)/1.22),0)","v":10852},null,null,9015]
[null,null,"СКЦ Э_6050180_4П",null,null,"СКЦ Э","L=600, S=500, H=1800, 4П",null,null,null,{"$f":"ROUND(O176*(1+'Повышение цен'!$C$15),0)","v":12271},12271,null,null,10194]
[null,null,"СКЦ Э_8050180_4П",null,null,"СКЦ Э","L=800, S=500, H=1800, 4П",null,null,null,{"$f":"ROUND(O177*(1+'Повышение цен'!$C$15),0)","v":13689},13689,null,null,11372]
[null,null,"СКЦ Э_10050180_4П",null,null,"СКЦ Э","L=1000, S=500, H=1800, 4П",null,null,null,{"$f":"ROUND(O178*(1+'Повышение цен'!$C$15),0)","v":15110},15110,null,null,12552]
[null,null,"СКЦ Э_12050180_4П",null,null,"СКЦ Э","L=1200, S=500, H=1800, 4П",null,null,null,{"$f":"ROUND(O179*(1+'Повышение цен'!$C$15),0)","v":16530},16530,null,null,13732]
[null,null,"СКЦ Э_15050180_4П",null,null,"СКЦ Э","L=1500, S=500, H=1800, 4П",null,null,null,{"$f":"ROUND(O180*(1+'Повышение цен'!$C$15),0)","v":18660},18660,null,null,15501]
[null,null,"СКЦ Э_18050180_4П",null,null,"СКЦ Э","L=1800, S=500, H=1800, 4П",null,null,null,{"$f":"ROUND(O181*(1+'Повышение цен'!$C$15),0)","v":20787},20787,null,null,17268]
[]
[null,null,"Формула расчета цены",null,null,null,null,null,null,null,null,null,"Техническое описание"]
[null,"Артикул","Модель","Длина,","Глубина,","Высота","кол-во","Тип","Доп","Доп.","Базовая цена,","Ваша цена,","Нестандартной модели"]
[null,null,null,"мм","мм","мм","полок","полок","опция","колеса","руб","руб",{"$f":"CONCATENATE(\" н/ст, толщина стали нержавеющей полки - 0,8 мм,\",IF(I186=\"СВ\",\"сварная конструкция\",\"разборная конструкция\"),\", каркас - оцинк уголок 40*40*1,5 мм, Hполки - 35 мм, \",IF(H186=\"\",\" сплошная полка, \",\"\"),IF(H186=\"П\",\" полка перфорированная, \",\"\"),G186,\" шт, \",IF(J186=\"К\",\", 4 колеса(2 с тормозом)\",\"регулируемые ножки(+/-20мм)\"),\", длина \", D186,\"мм\",\", глубина \",E186,\"мм\",\" ,высота \",F186,\"мм\")","v":" н/ст, толщина стали нержавеющей полки - 0,8 мм,разборная конструкция, каркас - оцинк уголок 40*40*1,5 мм, Hполки - 35 мм,  сплошная полка, 4 шт, регулируемые ножки(+/-20мм), длина 1500мм, глубина 700мм ,высота 1800мм"}]
[null,{"$f":"UPPER(CONCATENATE(C186,\"_\",D186/10,E186/10,F186/10,\"_\",G186,H186,I186,J186))","v":"СКЦ Э_15070180_4"},"СКЦ Э",1500,700,1800,4,null,null,null,{"$f":"ROUND((K187*IF(D187>1800,1.05,1)*IF(E187>600,1.05,1)*IF(F187>1850,1.05,1)+IF(J186=\"К\",6000,0))*1.05*1.1*1.15*(1+'Повышение цен'!$C$15),0)","v":22900},{"$f":"ROUND(IF($D$4=\"С НДС\",K186*(1-$D$3),K186*(1-$D$3)/1.22),0)","v":22900}]
[null,null,null,{"$f":"IF(AND(D186>299,D186<2001),D186,\"не производим\")","v":1500},{"$f":"IF(AND(E186>299,E186<701),E186,\"не производим\")","v":700},{"$f":"IF(AND(F189>999,F189<2001),F189,\"не производим\")","v":1800},{"$f":"IF(I186=\"\",IF(AND(G186>2.99,G186<6.01),G186,\"не производим\"),IF(I186=\"СВ\",IF(AND(G186>2.99,G186<6.01),G186,\"не производим\")))","v":4},null,null,null,{"$f":"IF(H186=\"\",ROUND((((((D187*E187*Техно!AI12*0.00001*1.1*Техно!AJ8)*Техно!AJ12*G187)+((D187*20*G187/4*Техно!AI16*0.00001*Техно!AJ8)*Техно!AJ16*G187*G187)+(F187*Техно!AI15*82*Техно!AJ8*0.00001*1.1*Техно!AJ15*4))*1.18)+(Техно!AJ25*0.5)+((Техно!AJ26+Техно!AJ27)*2*G187/4))*1.18/0.63*(0.85+0.6944),0),IF(H186=\"П\",ROUND((((((D187*E187*Техно!AK12*0.00001*1.1*Техно!AL8)*Техно!AL12*G187)+((D187*20*G187/4*Техно!AK16*0.00001*Техно!AL8)*Техно!AL16*G187*G187)+(F187*Техно!AK15*82*Техно!AL8*0.00001*1.1*Техно!AL15*4))*1.18)+(Техно!AL25*0.5)+((Техно!AL26+Техно!AL27)*2.7*G187/4))*1.18/0.63*(0.85+0.6944),0)))","v":13640}]
[null,null,null,"300-2000","300-700","1000-2000","3_6",null,null,"К","Колеса"]
[null,null,null,null,null,{"$f":"IF(F186=870,850,F186)","v":1800}]
[null,null,"СКЦ Э","Стеллаж на оцин уголке",null,null,null,"П","Перфорированная полка"]
[]
[]
[]
[null,"Сплошная полка для стеллажа на уголке (СК Э/СКЦ Э) "]
[]
[null,"Артикул","Артикул",null,"Модель","Наименование",null,null,null,null,"Базовая цена,","Ваша цена,","Техническое описание",null,"Базовая цена,"]
[null,null,null,null,null,null,null,null,null,null,"руб","руб",null,null,"руб"]
[null,null,"ПЛКСК_6040",null,"ПЛКСК","L=600, S=400, H=35",null,null,null,null,{"$f":"ROUND(O198*(1+'Повышение цен'!$C$15),0)","v":2427},{"$f":"ROUND(IF($D$4=\"С НДС\",K198*(1-$D$3),K198*(1-$D$3)/1.22),0)","v":2427},"н/ст, толщина нержавеющей стали полки  - 0,8 мм, Hполки -35 мм, полка сплошная, усилена продолным ребром жесткости",null,2016]
[null,null,"ПЛКСК_8040",null,"ПЛКСК","L=800, S=400, H=35",null,null,null,null,{"$f":"ROUND(O199*(1+'Повышение цен'!$C$15),0)","v":2771},2771,null,null,2302]
[null,null,"ПЛКСК_10040",null,"ПЛКСК","L=1000, S=400, H=35",null,null,null,null,{"$f":"ROUND(O200*(1+'Повышение цен'!$C$15),0)","v":3119},3119,null,null,2591]
[null,null,"ПЛКСК_12040",null,"ПЛКСК","L=1200, S=400, H=35",null,null,null,null,{"$f":"ROUND(O201*(1+'Повышение цен'!$C$15),0)","v":3466},3466,null,null,2879]
[null,null,"ПЛКСК_15040",null,"ПЛКСК","L=1500, S=400, H=35",null,null,null,null,{"$f":"ROUND(O202*(1+'Повышение цен'!$C$15),0)","v":3986},3986,null,null,3311]
[null,null,"ПЛКСК_18040",null,"ПЛКСК","L=1800, S=400, H=35",null,null,null,null,{"$f":"ROUND(O203*(1+'Повышение цен'!$C$15),0)","v":4503},4503,null,null,3741]
[]
[null,null,"ПЛКСК_6050",null,"ПЛКСК","L=600, S=500, H=35",null,null,null,null,{"$f":"ROUND(O205*(1+'Повышение цен'!$C$15),0)","v":2656},{"$f":"ROUND(IF($D$4=\"С НДС\",K205*(1-$D$3),K205*(1-$D$3)/1.22),0)","v":2656},null,null,2206]
[null,null,"ПЛКСК_8050",null,"ПЛКСК","L=800, S=500, H=35",null,null,null,null,{"$f":"ROUND(O206*(1+'Повышение цен'!$C$15),0)","v":3082},3082,null,null,2560]
[null,null,"ПЛКСК_10050",null,"ПЛКСК","L=1000, S=500, H=35",null,null,null,null,{"$f":"ROUND(O207*(1+'Повышение цен'!$C$15),0)","v":3504},3504,null,null,2911]
[null,null,"ПЛКСК_12050",null,"ПЛКСК","L=1200, S=500, H=35",null,null,null,null,{"$f":"ROUND(O208*(1+'Повышение цен'!$C$15),0)","v":3927},3927,null,null,3262]
[null,null,"ПЛКСК_15050",null,"ПЛКСК","L=1500, S=500, H=35",null,null,null,null,{"$f":"ROUND(O209*(1+'Повышение цен'!$C$15),0)","v":4560},4560,null,null,3788]
[null,null,"ПЛКСК_18050",null,"ПЛКСК","L=1800, S=500, H=35",null,null,null,null,{"$f":"ROUND(O210*(1+'Повышение цен'!$C$15),0)","v":5196},5196,null,null,4316]

{"sheet":"Полки настольные","index":16,"n_rows":33,"n_cols":15,"rows_kept":33,"cut":false,"hidden":true,"merged":[[33,3,33,7],[33,8,33,11],[25,2,25,11],[25,12,25,13],[26,2,27,2],[26,7,26,8],[26,12,26,13],[27,7,27,8],[27,12,33,13],[28,7,28,8],[29,7,29,8],[30,10,30,11],[31,10,31,11],[32,3,32,7],[32,8,32,11],[22,2,22,4],[22,6,22,9],[23,0,23,11],[10,1,22,1],[10,2,10,4],[10,6,10,9],[19,6,19,9],[20,2,20,4],[20,6,20,9],[21,2,21,4],[21,6,21,9],[10,12,22,13],[11,2,11,4],[11,6,11,9],[12,2,12,4],[12,6,12,9],[13,2,13,4],[13,6,13,9],[14,2,14,4],[14,6,14,9],[15,2,15,4],[15,6,15,9],[17,2,17,4],[17,6,17,9],[18,2,18,4],[18,6,18,9],[19,2,19,4],[8,12,9,13],[1,0,1,2],[2,0,2,2],[3,0,3,2],[3,4,3,8],[6,1,6,10],[7,2,7,11],[8,0,9,0],[8,1,9,1],[8,2,9,4],[8,5,9,5],[8,6,9,9]]}
["Нейтральное оборудование/Полки настольные",null,null,null,null,null,null,null,null,null,null,null,null,"На главную"]
[]
["Ваша скидка:",null,null,{"$f":"Содержание!C2","v":0}]
["НДС:",null,null,{"$f":"IF(Лист2!A1=TRUE,\"С НДС\",\"БЕЗ НДС\")","v":"С НДС"},"Складская программа"]
[]
[]
[null,"Полки кухонные настольные со сплошной полкой  (ПН Ш)"]
[]
[null,"Изображение","Артикул",null,null,"Модель","Характеристика номенклатуры",null,null,null,"Базовая цена,","Ваша цена,","Техническое описание",null,"Базовая цена,"]
[null,null,null,null,null,null,null,null,null,null,"руб","руб",null,null,"руб"]
[null,null,"ПНШ_403030",null,null,"ПНШ","L=400, S=300, H=400",null,null,null,{"$f":"ROUND(O11*(1+'Повышение цен'!$C$18),0)","v":5129},{"$f":"ROUND(IF($D$4=\"С НДС\",K11*(1-$D$3),K11*(1-$D$3)/1.2),0)","v":5129},"шлифованная н/ст, толщина 0,8 мм, сварная конструкция, полка сплошная, каркас из нержавеющей трубы 20*40*1,2 мм, крепление к столешнице в комплекте.",null,4261]
[null,null,"ПНШ_603030",null,null,"ПНШ","L=600, S=300, H=400",null,null,null,{"$f":"ROUND(O12*(1+'Повышение цен'!$C$18),0)","v":5535},5535,null,null,4598]
[null,null,"ПНШ_803030",null,null,"ПНШ","L=800, S=300, H=400",null,null,null,{"$f":"ROUND(O13*(1+'Повышение цен'!$C$18),0)","v":5937},5937,null,null,4932]
[null,null,"ПНШ_1003030",null,null,"ПНШ","L=1000, S=300, H=400",null,null,null,{"$f":"ROUND(O14*(1+'Повышение цен'!$C$18),0)","v":6342},6342,null,null,5268]
[null,null,"ПНШ_1203030",null,null,"ПНШ","L=1200, S=300, H=400",null,null,null,{"$f":"ROUND(O15*(1+'Повышение цен'!$C$18),0)","v":6746},6746,null,null,5604]
[null,null,"ПНШ_1503030",null,null,"ПНШ","L=1500, S=300, H=400",null,null,null,{"$f":"ROUND(O16*(1+'Повышение цен'!$C$18),0)","v":7351},7351,null,null,6107]
[]
[null,null,"ПНШ_404030",null,null,"ПНШ","L=400, S=400, H=400",null,null,null,{"$f":"ROUND(O18*(1+'Повышение цен'!$C$18),0)","v":5398},5398,null,null,4484]
[null,null,"ПНШ_604030",null,null,"ПНШ","L=600, S=400, H=400",null,null,null,{"$f":"ROUND(O19*(1+'Повышение цен'!$C$18),0)","v":5937},5937,null,null,4932]
[null,null,"ПНШ_804030",null,null,"ПНШ","L=800, S=400, H=400",null,null,null,{"$f":"ROUND(O20*(1+'Повышение цен'!$C$18),0)","v":6475},6475,null,null,5379]
[null,null,"ПНШ_1004030",null,null,"ПНШ","L=1000, S=400, H=400",null,null,null,{"$f":"ROUND(O21*(1+'Повышение цен'!$C$18),0)","v":7016},7016,null,null,5828]
[null,null,"ПНШ_1204030",null,null,"ПНШ","L=1200, S=400, H=400",null,null,null,{"$f":"ROUND(O22*(1+'Повышение цен'!$C$18),0)","v":7555},7555,null,null,6276]
[null,null,"ПНШ_1504030",null,null,"ПНШ","L=1500, S=400, H=400",null,null,null,{"$f":"ROUND(O23*(1+'Повышение цен'!$C$18),0)","v":8361},8361,null,null,6946]
[]
[]
[null,null,"Формула расчета цены",null,null,null,null,null,null,null,null,null,"Техническое описание"]
[null,"Артикул","Модель","Кол-во,","Длина,","Глубина,","Высота",null,null,null,"Базовая цена,","Ваша цена,","Нестандартной модели"]
[null,null,null,"полок","мм","мм","мм",null,null,null,"руб","руб",{"$f":"CONCATENATE(\"шлифованная н/ст, толщина 0,8 мм,сварная конструкция сплошная полка, \",D32, \" шт\",\", каркас из нержавеющей трубы 20*40*1,2 мм, крепление к столешнице в комплекте\", \", длина \", E29,\"мм\",\", глубина \",F29,\"мм\",\" ,высота \",G29,\"мм\")","v":"шлифованная н/ст, толщина 0,8 мм,сварная конструкция сплошная полка, 1 шт, каркас из нержавеющей трубы 20*40*1,2 мм, крепление к столешнице в комплекте, длина 1500мм, глубина 400мм ,высота 400мм"}]
[null,{"$f":"UPPER(CONCATENATE(C29,IF(D29=1,\"\",D29),\"_\",E29/10,F29/10,G29/10,IF(H29=\"У\",\"_\",\"\"),H29))","v":"ПНШ_1504040"},"ПНШ",null,1500,400,400,null,null,null,{"$f":"ROUND((K30*IF(E29>1500,1.05,1))*1.1*1.07*1.15*(1+'Повышение цен'!$C$18),0)","v":8362},{"$f":"ROUND(IF($D$4=\"С НДС\",K29*(1-$D$3),K29*(1-$D$3)/1.2),0)","v":8362}]
[null,null,null,{"$f":"IF(AND(D32>0.99,D32<2.01),D32,\"не производим\")","v":1},{"$f":"IF(AND(E29>399,E29<2001),E29,\"не производим\")","v":1500},{"$f":"IF(AND(F29>299,F29<501),F29,\"не производим\")","v":400},{"$f":"IF(D30=1,IF(AND(G29>249,G29<401),G29,\"не производим\"),IF(D30=2,IF(AND(G29>499,G29<801),G29,\"не производим\")))","v":400},null,null,null,{"$f":"ROUND(((((((E30*F30*Техно!AO10*Техно!AP8*0.00001)*1.3*Техно!AP10*D30)+(G30*4*0.001*Техно!AP18*1.1))*1.18)+Техно!AP25*0.2*D30+(Техно!AP26+Техно!AP27)*0.85*D30)*1.18/0.5*(0.85+0.6944)),0)","v":5132}]
[null,null,null,"1_2","400-2000","300-600",{"$f":"IF(D32=1,\"250-400\",IF(D32=2,\"500-800\",\"ошибка\"))","v":"250-400"}]
[null,null,null,{"$f":"IF(D29=\"\",1,D29)","v":1}]
[null,null,"ПНШ","полка со сплошной полкой"]

{"sheet":"Полки навесные открытые","index":17,"n_rows":98,"n_cols":15,"rows_kept":98,"cut":false,"hidden":false,"merged":[[89,2,89,11],[83,2,83,4],[83,6,83,9],[84,2,84,4],[84,6,84,9],[85,2,85,4],[85,6,85,9],[89,12,89,13],[90,2,91,2],[90,7,90,8],[90,12,90,13],[91,7,91,8],[91,12,97,13],[92,7,92,8],[93,7,93,8],[94,10,94,11],[95,10,95,11],[96,3,96,7],[96,8,96,11],[97,3,97,7],[97,8,97,11],[73,12,74,13],[75,2,75,4],[75,6,75,9],[75,12,87,13],[76,2,76,4],[76,6,76,9],[77,2,77,4],[77,6,77,9],[78,2,78,4],[78,6,78,9],[79,2,79,4],[79,6,79,9],[80,2,80,4],[80,6,80,9],[82,2,82,4],[82,6,82,9],[86,2,86,4],[86,6,86,9],[87,2,87,4],[87,6,87,9],[70,0,70,11],[71,1,71,10],[73,1,74,1],[73,2,74,4],[73,5,74,5],[73,6,74,9],[67,2,67,4],[67,6,67,9],[68,2,68,4],[68,6,68,9],[69,2,69,4],[69,6,69,9],[64,6,64,9],[65,2,65,4],[65,6,65,9],[66,2,66,4],[66,6,66,9],[55,12,56,13],[57,1,69,1],[57,2,57,4],[57,6,57,9],[57,12,69,13],[58,2,58,4],[58,6,58,9],[59,2,59,4],[59,6,59,9],[60,2,60,4],[60,6,60,9],[61,2,61,4],[61,6,61,9],[62,2,62,4],[62,6,62,9],[64,2,64,4],[53,1,53,10],[54,2,54,11],[55,0,56,0],[55,1,56,1],[55,2,56,4],[55,5,56,5],[55,6,56,9],[40,6,40,9],[42,2,42,11],[43,7,43,8],[44,7,44,8],[50,3,50,7],[42,12,42,13],[43,2,44,2],[43,12,43,13],[44,12,50,13],[37,2,37,4],[37,6,37,9],[38,2,38,4],[38,6,38,9],[39,2,39,4],[39,6,39,9],[47,10,47,11],[48,10,48,11],[49,8,49,11],[50,8,50,11],[40,2,40,4],[49,3,49,7],[45,7,45,8],[46,7,46,8],[28,2,28,4],[28,6,28,9],[28,12,40,13],[29,2,29,4],[29,6,29,9],[33,2,33,4],[33,6,33,9],[35,2,35,4],[35,6,35,9],[36,2,36,4],[36,6,36,9],[30,2,30,4],[30,6,30,9],[31,2,31,4],[31,6,31,9],[32,2,32,4],[32,6,32,9],[26,1,27,1],[26,2,27,4],[26,5,27,5],[26,6,27,9],[26,12,27,13],[24,1,24,10],[18,2,18,4],[18,6,18,9],[19,2,19,4],[19,6,19,9],[20,2,20,4],[20,6,20,9],[10,1,22,1],[23,0,23,11],[8,12,9,13],[14,2,14,4],[14,6,14,9],[15,2,15,4],[15,6,15,9],[10,2,10,4],[10,6,10,9],[10,12,22,13],[11,2,11,4],[11,6,11,9],[12,2,12,4],[12,6,12,9],[13,2,13,4],[13,6,13,9],[17,2,17,4],[17,6,17,9],[21,2,21,4],[21,6,21,9],[22,2,22,4],[22,6,22,9],[1,0,1,2],[2,0,2,2],[3,0,3,2],[6,1,6,10],[7,2,7,11],[8,0,9,0],[8,1,9,1],[8,2,9,4],[8,5,9,5],[8,6,9,9]]}
["Нейтральное оборудование/Полки навесные открытые",null,null,null,null,null,null,null,null,null,null,null,null,"На главную"]
[]
["Ваша скидка:",null,null,{"$f":"Содержание!C2","v":0}]
["НДС:",null,null,{"$f":"IF(Лист2!A1=TRUE,\"С НДС\",\"БЕЗ НДС\")","v":"С НДС"}]
[]
[]
[null,"Полки кухонные навесные со сплошной полкой  (ПК Ш)"]
[]
[null,"Изображение","Артикул",null,null,"Модель","Характеристика номенклатуры",null,null,null,"Базовая цена,","Ваша цена,","Техническое описание",null,"Базовая цена,"]
[null,null,null,null,null,null,null,null,null,null,"руб","руб",null,null,"руб"]
[null,null,"ПКШ_403030",null,null,"ПКШ","L=400, S=300, H=300",null,null,null,{"$f":"ROUND(O11*(1+'Повышение цен'!$C$16),0)","v":2564},{"$f":"ROUND(IF($D$4=\"С НДС\",K11*(1-$D$3),K11*(1-$D$3)/1.22),0)","v":2564},"шлифованная н/ст, толщина 0,8 мм, разборная конструкция,полка сплошная,кронштейны типа\"косынка\",настенное крепление",null,2130]
[null,null,"ПКШ_603030",null,null,"ПКШ","L=600, S=300, H=300",null,null,null,{"$f":"ROUND(O12*(1+'Повышение цен'!$C$16),0)","v":2905},{"$f":"ROUND(IF($D$4=\"С НДС\",K12*(1-$D$3),K12*(1-$D$3)/1.22),0)","v":2905},null,null,2413]
[null,null,"ПКШ_803030",null,null,"ПКШ","L=800, S=300, H=300",null,null,null,{"$f":"ROUND(O13*(1+'Повышение цен'!$C$16),0)","v":3243},3243,null,null,2694]
[null,null,"ПКШ_1003030",null,null,"ПКШ","L=1000, S=300, H=300",null,null,null,{"$f":"ROUND(O14*(1+'Повышение цен'!$C$16),0)","v":3584},3584,null,null,2977]
[null,null,"ПКШ_1203030",null,null,"ПКШ","L=1200, S=300, H=300",null,null,null,{"$f":"ROUND(O15*(1+'Повышение цен'!$C$16),0)","v":3924},3924,null,null,3260]
[null,null,"ПКШ_1503030",null,null,"ПКШ","L=1500, S=300, H=300",null,null,null,{"$f":"ROUND(O16*(1+'Повышение цен'!$C$16),0)","v":4435},4435,null,null,3684]
[]
[null,null,"ПКШ_404030",null,null,"ПКШ","L=400, S=400, H=300",null,null,null,{"$f":"ROUND(O18*(1+'Повышение цен'!$C$16),0)","v":3074},{"$f":"ROUND(IF($D$4=\"С НДС\",K18*(1-$D$3),K18*(1-$D$3)/1.22),0)","v":3074},null,null,2554]
[null,null,"ПКШ_604030",null,null,"ПКШ","L=600, S=400, H=300",null,null,null,{"$f":"ROUND(O19*(1+'Повышение цен'!$C$16),0)","v":3529},3529,null,null,2932]
[null,null,"ПКШ_804030",null,null,"ПКШ","L=800, S=400, H=300",null,null,null,{"$f":"ROUND(O20*(1+'Повышение цен'!$C$16),0)","v":3983},3983,null,null,3309]
[null,null,"ПКШ_1004030",null,null,"ПКШ","L=1000, S=400, H=300",null,null,null,{"$f":"ROUND(O21*(1+'Повышение цен'!$C$16),0)","v":4436},4436,null,null,3685]
[null,null,"ПКШ_1204030",null,null,"ПКШ","L=1200, S=400, H=300",null,null,null,{"$f":"ROUND(O22*(1+'Повышение цен'!$C$16),0)","v":4890},4890,null,null,4062]
[null,null,"ПКШ_1504030",null,null,"ПКШ","L=1500, S=400, H=300",null,null,null,{"$f":"ROUND(O23*(1+'Повышение цен'!$C$16),0)","v":5571},5571,null,null,4628]
[]
[null,"Полки кухонные навесные с перфорированной полкой  (ПКП Ш)"]
[]
[null,"Изображение","Артикул",null,null,"Модель","Характеристика номенклатуры",null,null,null,"Базовая цена,","Ваша цена,","Техническое описание",null,"Базовая цена,"]
[null,null,null,null,null,null,null,null,null,null,"руб","руб",null,null,"руб"]
[null,null,"ПКПШ_403030",null,null,"ПКПШ","L=400, S=300, H=300",null,null,null,{"$f":"ROUND(O29*(1+'Повышение цен'!$C$16),0)","v":3147},{"$f":"ROUND(IF($D$4=\"С НДС\",K29*(1-$D$3),K29*(1-$D$3)/1.22),0)","v":3147},"шлифованная н/ст, толщина 0,8 мм, разборная конструкция,полка перфорированная,кронштейны типа\"косынка\",настенное крепление",null,2614]
[null,null,"ПКПШ_603030",null,null,"ПКПШ","L=600, S=300, H=300",null,null,null,{"$f":"ROUND(O30*(1+'Повышение цен'!$C$16),0)","v":3473},3473,null,null,2885]
[null,null,"ПКПШ_803030",null,null,"ПКПШ","L=800, S=300, H=300",null,null,null,{"$f":"ROUND(O31*(1+'Повышение цен'!$C$16),0)","v":3799},3799,null,null,3156]
[null,null,"ПКПШ_1003030",null,null,"ПКПШ","L=1000, S=300, H=300",null,null,null,{"$f":"ROUND(O32*(1+'Повышение цен'!$C$16),0)","v":4125},4125,null,null,3427]
[null,null,"ПКПШ_1203030",null,null,"ПКПШ","L=1200, S=300, H=300",null,null,null,{"$f":"ROUND(O33*(1+'Повышение цен'!$C$16),0)","v":4450},4450,null,null,3697]
[null,null,"ПКПШ_1503030",null,null,"ПКПШ","L=1500, S=300, H=300",null,null,null,{"$f":"ROUND(O34*(1+'Повышение цен'!$C$16),0)","v":4939},4939,null,null,4103]
[]
[null,null,"ПКПШ_404030",null,null,"ПКПШ","L=400, S=400, H=300",null,null,null,{"$f":"ROUND(O36*(1+'Повышение цен'!$C$16),0)","v":3638},{"$f":"ROUND(IF($D$4=\"С НДС\",K36*(1-$D$3),K36*(1-$D$3)/1.22),0)","v":3638},null,null,3022]
[null,null,"ПКПШ_604030",null,null,"ПКПШ","L=600, S=400, H=300",null,null,null,{"$f":"ROUND(O37*(1+'Повышение цен'!$C$16),0)","v":4072},4072,null,null,3383]
[null,null,"ПКПШ_804030",null,null,"ПКПШ","L=800, S=400, H=300",null,null,null,{"$f":"ROUND(O38*(1+'Повышение цен'!$C$16),0)","v":4506},4506,null,null,3743]
[null,null,"ПКПШ_1004030",null,null,"ПКПШ","L=1000, S=400, H=300",null,null,null,{"$f":"ROUND(O39*(1+'Повышение цен'!$C$16),0)","v":4940},4940,null,null,4104]
[null,null,"ПКПШ_1204030",null,null,"ПКПШ","L=1200, S=400, H=300",null,null,null,{"$f":"ROUND(O40*(1+'Повышение цен'!$C$16),0)","v":5376},5376,null,null,4466]
[null,null,"ПКПШ_1504030",null,null,"ПКПШ","L=1500, S=400, H=300",null,null,null,{"$f":"ROUND(O41*(1+'Повышение цен'!$C$16),0)","v":6026},6026,null,null,5006]
[]
[null,null,"Формула расчета цены",null,null,null,null,null,null,null,null,null,"Техническое описание"]
[null,"Артикул","Модель","Кол-во,","Длина,","Глубина,","Высота","Усиленная",null,null,"Базовая цена,","Ваша цена,","Нестандартной модели"]
[null,null,null,"полок","мм","мм","мм","кострукция",null,null,"руб","руб",{"$f":"CONCATENATE(\"шлифованная н/ст, толщина 0,8 мм,разборная конструкция, \",IF(C46=\"ПКШ\",\"сплошная полка \",\"\"),IF(C46=\"ПКПШ\",\"перфорированная полка \",\"\"),D47, \"шт\",IF(H46=\"У\",\"усиленная конструкция\",\"\"), \", длина \", E46,\"мм\",\", глубина \",F46,\"мм\",\" ,высота \",G46,\"мм\")","v":"шлифованная н/ст, толщина 0,8 мм,разборная конструкция, перфорированная полка 1шт, длина 1500мм, глубина 400мм ,высота 300мм"}]
[null,{"$f":"UPPER(CONCATENATE(C46,IF(D46=1,\"\",D46),\"_\",E46/10,F46/10,G46/10,IF(H46=\"У\",\"_\",\"\"),H46))","v":"ПКПШ_1504030"},"ПКПШ",null,1500,400,300,null,null,null,{"$f":"ROUND((K47*IF(E47>1500,1.05,1)*IF(F47>400,1.05,1)*IF(G47>300,1.05,1))*1.05*1.07*1.1*(1+'Повышение цен'!$C$16),0)","v":6027},{"$f":"ROUND(IF($D$4=\"С НДС\",K46*(1-$D$3),K46*(1-$D$3)/1.2),0)","v":6027}]
[null,null,null,{"$f":"IF(AND(D49>0.99,D49<2.01),D49,\"не производим\")","v":1},{"$f":"IF(AND(E46>399,E46<2001),E46,\"не производим\")","v":1500},{"$f":"IF(AND(F46>299,F46<601),F46,\"не производим\")","v":400},{"$f":"IF(D47=1,IF(AND(G46>159,G46<301),G46,\"не производим\"),IF(D47=2,IF(AND(G46>499,G46<601),G46,\"не производим\")))","v":300},null,null,null,{"$f":"IF(C46=\"ПКШ\",IF(H46=\"\",ROUND(((((((E47*F47*Техно!AM11*Техно!AN8*0.00001)*1.25)+((F47*G47*Техно!AM11*Техно!AN8*0.00001)*2.1))*1.18*Техно!AN11*D47)+Техно!AN25*0.05+(Техно!AN26+Техно!AN27)*0.7*0.6*1/D47/D47)*1.18/0.45*(0.85+0.6944)),0),IF(H46=\"У\",ROUND(((((((E47*F47*Техно!AM11*Техно!AN8*0.00001)*1.5)+((F47*G47*Техно!AM11*Техно!AN8*0.00001)*2.5))*1.18*Техно!AN11*D47)+Техно!AN25*0.05+(Техно!AN26+Техно!AN27)*0.7*2.5*0.6*1/D47/D47)*1.18/0.45*(0.85+0.6944)),0))),IF(C46=\"ПКПШ\",IF(H46=\"\",ROUND(((((((E47*F47*Техно!AM11*Техно!AN8*0.00001)*1.25)+((F47*G47*Техно!AM11*Техно!AN8*0.00001)*2.1))*1.18*Техно!AN11*D47)+Техно!AN25*0.05+(Техно!AN26+Техно!AN27)*0.7*0.6*2)*1.18/0.47*(0.85+0.6944)),0),IF(H46=\"У\",ROUND(((((((E47*F47*Техно!AM11*Техно!AN8*0.00001)*1.5)+((F47*G47*Техно!AM11*Техно!AN8*0.00001)*2.5))*1.18*Техно!AN11*D47)+Техно!AN25*0.05+(Техно!AN26+Техно!AN27)*0.7*0.6*2)*1.18/0.47*(0.85+0.6944)),0)))))","v":4051}]
[null,null,null,"1_2","400-2000","300-600",{"$f":"IF(D49=1,\"250-300\",IF(D49=2,\"500-600\",\"ошибка\"))","v":"250-300"}]
[null,null,null,{"$f":"IF(D46=\"\",1,D46)","v":1}]
[null,null,"ПКШ","полка со сплошной полкой"]
[null,null,"ПКПШ","полка с перфорированной полкой"]
[]
[]
[null,"Полки кухонные навесные со сплошной полкой  (ПК Э)"]
[]
[null,"Изображение","Артикул",null,null,"Модель","Характеристика номенклатуры",null,null,null,"Базовая цена,","Ваша цена,","Техническое описание",null,"Базовая цена,"]
[null,null,null,null,null,null,null,null,null,null,"руб","руб",null,null,"руб"]
[null,null,"ПКЭ_403030",null,null,"ПКЭ","L=400, S=300, H=300",null,null,null,{"$f":"ROUND(O58*(1+'Повышение цен'!$C$16),0)","v":2374},{"$f":"ROUND(IF($D$4=\"С НДС\",K58*(1-$D$3),K58*(1-$D$3)/1.22),0)","v":2374},"н/ст, толщина 0,8 мм, разборная конструкция,полка сплошная,кронштейны типа\"косынка\",настенное крепление",null,1972]
[null,null,"ПКЭ_603030",null,null,"ПКЭ","L=600, S=300, H=300",null,null,null,{"$f":"ROUND(O59*(1+'Повышение цен'!$C$16),0)","v":2559},2559,null,null,2126]
[null,null,"ПКЭ_803030",null,null,"ПКЭ","L=800, S=300, H=300",null,null,null,{"$f":"ROUND(O60*(1+'Повышение цен'!$C$16),0)","v":2746},2746,null,null,2281]
[null,null,"ПКЭ_1003030",null,null,"ПКЭ","L=1000, S=300, H=300",null,null,null,{"$f":"ROUND(O61*(1+'Повышение цен'!$C$16),0)","v":2931},2931,null,null,2435]
[null,null,"ПКЭ_1203030",null,null,"ПКЭ","L=1200, S=300, H=300",null,null,null,{"$f":"ROUND(O62*(1+'Повышение цен'!$C$16),0)","v":3117},3117,null,null,2589]
[null,null,"ПКЭ_1503030",null,null,"ПКЭ","L=1500, S=300, H=300",null,null,null,{"$f":"ROUND(O63*(1+'Повышение цен'!$C$16),0)","v":3397},3397,null,null,2822]
[]
[null,null,"ПКЭ_404030",null,null,"ПКЭ","L=400, S=400, H=300",null,null,null,{"$f":"ROUND(O65*(1+'Повышение цен'!$C$16),0)","v":2692},{"$f":"ROUND(IF($D$4=\"С НДС\",K65*(1-$D$3),K65*(1-$D$3)/1.22),0)","v":2692},null,null,2236]
[null,null,"ПКЭ_604030",null,null,"ПКЭ","L=600, S=400, H=300",null,null,null,{"$f":"ROUND(O66*(1+'Повышение цен'!$C$16),0)","v":2940},2940,null,null,2442]
[null,null,"ПКЭ_804030",null,null,"ПКЭ","L=800, S=400, H=300",null,null,null,{"$f":"ROUND(O67*(1+'Повышение цен'!$C$16),0)","v":3185},3185,null,null,2646]
[null,null,"ПКЭ_1004030",null,null,"ПКЭ","L=1000, S=400, H=300",null,null,null,{"$f":"ROUND(O68*(1+'Повышение цен'!$C$16),0)","v":3432},3432,null,null,2851]
[null,null,"ПКЭ_1204030",null,null,"ПКЭ","L=1200, S=400, H=300",null,null,null,{"$f":"ROUND(O69*(1+'Повышение цен'!$C$16),0)","v":3681},3681,null,null,3058]
[null,null,"ПКЭ_1504030",null,null,"ПКЭ","L=1500, S=400, H=300",null,null,null,{"$f":"ROUND(O70*(1+'Повышение цен'!$C$16),0)","v":4051},4051,null,null,3365]
[]
[null,"Полки кухонные навесные с перфорированной полкой  (ПКП Э)"]
[]
[null,"Изображение","Артикул",null,null,"Модель","Характеристика номенклатуры",null,null,null,"Базовая цена,","Ваша цена,","Техническое описание",null,"Базовая цена,"]
[null,null,null,null,null,null,null,null,null,null,"руб","руб",null,null,"руб"]
[null,null,"ПКПЭ_403030",null,null,"ПКПЭ","L=400, S=300, H=300",null,null,null,{"$f":"ROUND(O76*(1+'Повышение цен'!$C$16),0)","v":3198},{"$f":"ROUND(IF($D$4=\"С НДС\",K76*(1-$D$3),K76*(1-$D$3)/1.22),0)","v":3198},"н/ст, толщина 0,8 мм, разборная конструкция,полка перфорированная,кронштейны типа\"косынка\",настенное крепление",null,2657]
[null,null,"ПКПЭ_603030",null,null,"ПКПЭ","L=600, S=300, H=300",null,null,null,{"$f":"ROUND(O77*(1+'Повышение цен'!$C$16),0)","v":3384},3384,null,null,2811]
[null,null,"ПКПЭ_803030",null,null,"ПКПЭ","L=800, S=300, H=300",null,null,null,{"$f":"ROUND(O78*(1+'Повышение цен'!$C$16),0)","v":3567},3567,null,null,2963]
[null,null,"ПКПЭ_1003030",null,null,"ПКПЭ","L=1000, S=300, H=300",null,null,null,{"$f":"ROUND(O79*(1+'Повышение цен'!$C$16),0)","v":3752},3752,null,null,3117]
[null,null,"ПКПЭ_1203030",null,null,"ПКПЭ","L=1200, S=300, H=300",null,null,null,{"$f":"ROUND(O80*(1+'Повышение цен'!$C$16),0)","v":3942},3942,null,null,3275]
[null,null,"ПКПЭ_1503030",null,null,"ПКПЭ","L=1500, S=300, H=300",null,null,null,{"$f":"ROUND(O81*(1+'Повышение цен'!$C$16),0)","v":4219},4219,null,null,3505]
[]
[null,null,"ПКПЭ_404030",null,null,"ПКПЭ","L=400, S=400, H=300",null,null,null,{"$f":"ROUND(O83*(1+'Повышение цен'!$C$16),0)","v":3513},{"$f":"ROUND(IF($D$4=\"С НДС\",K83*(1-$D$3),K83*(1-$D$3)/1.22),0)","v":3513},null,null,2918]
[null,null,"ПКПЭ_604030",null,null,"ПКПЭ","L=600, S=400, H=300",null,null,null,{"$f":"ROUND(O84*(1+'Повышение цен'!$C$16),0)","v":3761},3761,null,null,3124]
[null,null,"ПКПЭ_804030",null,null,"ПКПЭ","L=800, S=400, H=300",null,null,null,{"$f":"ROUND(O85*(1+'Повышение цен'!$C$16),0)","v":4007},4007,null,null,3329]
[null,null,"ПКПЭ_1004030",null,null,"ПКПЭ","L=1000, S=400, H=300",null,null,null,{"$f":"ROUND(O86*(1+'Повышение цен'!$C$16),0)","v":4253},4253,null,null,3533]
[null,null,"ПКПЭ_1204030",null,null,"ПКПЭ","L=1200, S=400, H=300",null,null,null,{"$f":"ROUND(O87*(1+'Повышение цен'!$C$16),0)","v":4502},4502,null,null,3740]
[null,null,"ПКПЭ_1504030",null,null,"ПКПЭ","L=1500, S=400, H=300",null,null,null,{"$f":"ROUND(O88*(1+'Повышение цен'!$C$16),0)","v":4874},4874,null,null,4049]
[]
[null,null,"Формула расчета цены",null,null,null,null,null,null,null,null,null,"Техническое описание"]
[null,"Артикул","Модель","Кол-во,","Длина,","Глубина,","Высота","Усиленная",null,null,"Базовая цена,","Ваша цена,","Нестандартной модели"]
[null,null,null,"полок","мм","мм","мм","конструкция",null,null,"руб","руб",{"$f":"CONCATENATE(\"н/ст, толщина 0,8 мм,разборная конструкция, \",IF(C93=\"ПКЭ\",\"сплошная полка \",\"\"),IF(C93=\"ПКПЭ\",\"перфорированная полка \",\"\"),D94, \"шт \",IF(H93=\"У\",\"усиленная конструкция\",\"\"), \", длина \", E93,\"мм\",\", глубина \",F93,\"мм\",\" ,высота \",G93,\"мм\")","v":"н/ст, толщина 0,8 мм,разборная конструкция, перфорированная полка 1шт , длина 600мм, глубина 300мм ,высота 300мм"}]
[null,{"$f":"UPPER(CONCATENATE(C93,IF(D93=1,\"\",D93),\"_\",E93/10,F93/10,G93/10,IF(H93=\"У\",\"_\",\"\"),H93))","v":"ПКПЭ_603030"},"ПКПЭ",null,600,300,300,null,null,null,{"$f":"ROUND((K94*IF(E94>1500,1.05,1)*IF(F94>400,1.05,1)*IF(G94>300,1.05,1))*1.1*1.07*1.1*(1+'Повышение цен'!$C$16),0)","v":3384},{"$f":"ROUND(IF($D$4=\"С НДС\",K93*(1-$D$3),K93*(1-$D$3)/1.22),0)","v":3384}]
[null,null,null,{"$f":"IF(AND(D96>0.99,D96<2.01),D96,\"не производим\")","v":1},{"$f":"IF(AND(E93>399,E93<2001),E93,\"не производим\")","v":600},{"$f":"IF(AND(F93>299,F93<601),F93,\"не производим\")","v":300},{"$f":"IF(D94=1,IF(AND(G93>159,G93<301),G93,\"не производим\"),IF(D94=2,IF(AND(G93>499,G93<601),G93,\"не производим\")))","v":300},null,null,null,{"$f":"IF(C93=\"ПКЭ\",IF(H93=\"\",ROUND(ROUND(ROUND(((2.7*75/0.3*F94/1000+(5.2*75)/0.36*E94*F94/1000000+25)*D94*1.18+70*G94/300+70*7*D94),0)*0.99,0)*1.5676,0),IF(H93=\"У\",ROUND(ROUND(ROUND(((2.7*75/0.3*F94/1000+(5.2*75)/0.36*E94*F94/1000000+25)*D94*1.18+70*G94/300+70*7*D94),0)*1.24*0.99,0)*1.5676,0))),IF(C93=\"ПКПЭ\",IF(H93=\"\",ROUND(ROUND(ROUND(((2.7*75/0.3*F94/1000+(5.2*75)/0.36*E94*F94/1000000+25)*D94*1.18+90*G94/300+90*9*D94),0)*0.99,0)*1.5676,0),IF(H93=\"У\",ROUND(ROUND(ROUND(((2.7*75/0.3*F94/1000+(5.2*75)/0.36*E94*F94/1000000+25)*D94*1.18+90*G94/300+90*9*D94),0)*0.99*1.24,0)*1.5676,0)))))","v":2171}]
[null,null,null,"1_2","400-2000","300-600",{"$f":"IF(D96=1,\"250-300\",IF(D96=2,\"500-600\",\"ошибка\"))","v":"250-300"}]
[null,null,null,{"$f":"IF(D93=\"\",1,D93)","v":1}]
[null,null,"ПКЭ","полка со сплошной полкой"]
[null,null,"ПКПЭ","полка с перфорированной полкой"]

{"sheet":"Полки, шкафы закрытые","index":18,"n_rows":80,"n_cols":15,"rows_kept":80,"cut":false,"hidden":false,"merged":[[8,12,9,13],[1,0,1,2],[2,0,2,2],[3,0,3,2],[6,1,6,10],[7,2,7,11],[10,1,18,1],[10,2,10,4],[10,6,10,9],[11,2,11,4],[11,6,11,9],[8,0,9,0],[8,1,9,1],[8,2,9,4],[8,5,9,5],[8,6,9,9],[20,12,20,13],[21,2,22,2],[21,12,21,13],[22,12,30,13],[25,10,25,11],[26,10,26,11],[17,2,17,4],[17,6,17,9],[18,2,18,4],[18,6,18,9],[20,2,20,11],[10,12,18,13],[15,2,15,4],[15,6,15,9],[16,2,16,4],[16,6,16,9],[12,2,12,4],[12,6,12,9],[13,2,13,4],[13,6,13,9],[33,2,33,11],[34,0,35,0],[34,1,35,1],[34,2,35,4],[34,5,35,5],[34,6,35,9],[27,3,27,7],[27,8,27,11],[30,3,30,7],[30,8,30,11],[32,1,32,10],[28,3,28,7],[29,3,29,7],[40,6,40,9],[43,2,43,4],[43,6,43,9],[44,2,44,4],[44,6,44,9],[45,2,45,4],[45,6,45,9],[34,12,35,13],[36,1,46,1],[36,2,36,4],[36,6,36,9],[36,12,46,13],[38,2,38,4],[38,6,38,9],[39,2,39,4],[39,6,39,9],[40,2,40,4],[59,0,60,0],[59,1,60,1],[59,2,60,4],[59,5,60,5],[59,6,60,9],[59,12,60,13],[37,2,37,4],[37,6,37,9],[42,2,42,4],[42,6,42,9],[57,1,57,10],[58,2,58,11],[55,3,55,7],[55,8,55,11],[46,2,46,4],[46,6,46,9],[47,0,47,11],[48,2,48,11],[48,12,48,13],[49,2,50,2],[49,12,49,13],[50,12,55,13],[53,10,53,11],[54,10,54,11],[61,1,69,1],[61,2,61,4],[61,6,61,9],[62,2,62,4],[62,6,62,9],[63,2,63,4],[63,6,63,9],[64,2,64,4],[64,6,64,9],[78,3,78,7],[78,8,78,11],[79,3,79,7],[79,8,79,11],[69,2,69,4],[69,6,69,9],[71,2,71,11],[71,12,71,13],[72,2,73,2],[72,12,72,13],[73,12,79,13],[76,10,76,11],[77,10,77,11],[61,12,69,13],[66,2,66,4],[66,6,66,9],[67,2,67,4],[67,6,67,9],[68,2,68,4],[68,6,68,9]]}
["Нейтральное оборудование/Полки и шкафы закрытые",null,null,null,null,null,null,null,null,null,null,null,null,"На главную"]
[]
["Ваша скидка:",null,null,{"$f":"Содержание!C2","v":0}]
["НДС:",null,null,{"$f":"IF(Лист2!A1=TRUE,\"С НДС\",\"БЕЗ НДС\")","v":"С НДС"}]
[]
[]
[null,"Полки кухонные закрытые двери купе (ПКЗ Э) "]
[]
[null,"Изображение","Артикул",null,null,"Модель","Характеристика номенклатуры",null,null,null,"Базовая цена,","Ваша цена,","Техническое описание",null,"Базовая цена,"]
[null,null,null,null,null,null,null,null,null,null,"руб","руб",null,null,"руб"]
[null,null,"ПКЗЭ_803060",null,null,"ПКЗЭ","L=800, S=300, H=600",null,null,null,{"$f":"ROUND(O11*(1+'Повышение цен'!$C$17),0)","v":17876},{"$f":"ROUND(IF($D$4=\"С НДС\",K11*(1-$D$3),K11*(1-$D$3)/1.22),0)","v":17876},"шлифованная н/ст, толщина 0,8 мм, сварная конструкция, полка сплошная плюс дно, двери купе, настенное крепление.",null,14850]
[null,null,"ПКЗЭ_1003060",null,null,"ПКЗЭ","L=1000, S=300, H=600",null,null,null,{"$f":"ROUND(O12*(1+'Повышение цен'!$C$17),0)","v":19258},{"$f":"ROUND(IF($D$4=\"С НДС\",K12*(1-$D$3),K12*(1-$D$3)/1.22),0)","v":19258},null,null,15998]
[null,null,"ПКЗЭ_1203060",null,null,"ПКЗЭ","L=1200, S=300, H=600",null,null,null,{"$f":"ROUND(O13*(1+'Повышение цен'!$C$17),0)","v":20638},20638,null,null,17144]
[null,null,"ПКЗЭ_1503060",null,null,"ПКЗЭ","L=1500, S=300, H=600",null,null,null,{"$f":"ROUND(O14*(1+'Повышение цен'!$C$17),0)","v":22706},22706,null,null,18862]
[]
[null,null,"ПКЗЭ_804060",null,null,"ПКЗЭ","L=800, S=400, H=600",null,null,null,{"$f":"ROUND(O16*(1+'Повышение цен'!$C$17),0)","v":19059},{"$f":"ROUND(IF($D$4=\"С НДС\",K16*(1-$D$3),K16*(1-$D$3)/1.22),0)","v":19059},null,null,15833]
[null,null,"ПКЗЭ_1004060",null,null,"ПКЗЭ","L=1000, S=400, H=600",null,null,null,{"$f":"ROUND(O17*(1+'Повышение цен'!$C$17),0)","v":20638},20638,null,null,17144]
[null,null,"ПКЗЭ_1204060",null,null,"ПКЗЭ","L=1200, S=400, H=600",null,null,null,{"$f":"ROUND(O18*(1+'Повышение цен'!$C$17),0)","v":22215},22215,null,null,18454]
[null,null,"ПКЗЭ_1504060",null,null,"ПКЗЭ","L=1500, S=400, H=600",null,null,null,{"$f":"ROUND(O19*(1+'Повышение цен'!$C$17),0)","v":24576},24576,null,null,20416]
[]
[null,null,"Формула расчета цены",null,null,null,null,null,null,null,null,null,"Техническое описание"]
[null,"Артикул","Модель","Длина,","Глубина,","Высота",null,null,null,null,"Базовая цена,","Ваша цена,","Нестандартной модели"]
[null,null,null,"мм","мм","мм",null,null,null,null,"руб","руб",{"$f":"CONCATENATE(\"шлифованная н/ст, толщина 0,8 мм,сварная конструкция сплошная полка плюс дно, \",IF(C24=\"ПКЗЭ\",\"двери купе, \",\"\"),IF(C24=\"ПКРЭ\",\"распашные двери,\",\"\"),\"настенное крепление,\",\" длина \",D24,\"мм\",\", глубина \",E24,\"мм\",\" ,высота \",F24,\"мм, \",\"Объем в упаковке \",ROUND(D24/1000*E24/1000*(F24+150)/1000,2),\" м3\")","v":"шлифованная н/ст, толщина 0,8 мм,сварная конструкция сплошная полка плюс дно, двери купе, настенное крепление, длина 1200мм, глубина 400мм ,высота 600мм, Объем в упаковке 0,36 м3"}]
[null,{"$f":"UPPER(CONCATENATE(C24,\"_\",D24/10,E24/10,F24/10))","v":"ПКЗЭ_1204060"},"ПКЗЭ",1200,400,600,null,null,null,null,{"$f":"ROUND((K25*IF(D25>1500,1.05,1)*IF(E25>400,1.05,1)*IF(F25>600,1.05,1)*IF(C24=\"ПКЗШ\",1.25,1))*1.1*1.07*1.15*(1+'Повышение цен'!$C$17),0)","v":22215},{"$f":"ROUND(IF($D$4=\"С НДС\",K24*(1-$D$3),K24*(1-$D$3)/1.22),0)","v":22215}]
[null,null,null,{"$f":"IF(OR(C24=\"ПКЗЭ\",C24=\"ПКЗШ\"),IF(AND(D24>599,D24<1501),D24,\"не производим\"),IF(OR(C24=\"ПКРЭ\",C24=\"ПКРШ\"),IF(AND(D24>499,D24<1201),D24,\"не производим\")))","v":1200},{"$f":"IF(AND(E24>299,E24<501),E24,\"не производим\")","v":400},{"$f":"IF(AND(F24>499,F24<701),F24,\"не производим\")","v":600},{"$f":"IF(D25=1,IF(AND(G24>249,G24<401),G24,\"не производим\"),IF(D25=2,IF(AND(G24>499,G24<801),G24,\"не производим\")))","v":false},null,null,null,{"$f":"IF(OR(C24=\"ПКЗЭ\",C24=\"ПКЗШ\"),ROUND(ROUND(ROUND(((14.9*(D25*E$25*3/1000000+$D25*600*2/1000000+E$25*600*2/1000000)*F25/600*1.18)*75+200*1.18+850*F25/600+850*4),0)*0.99,0)*(0.85+0.6944),0),IF(OR(C24=\"ПКРЭ\",C24=\"ПКРШ\"),ROUND(ROUND(ROUND(((13.7*(D25*E$25*3/1000000+$D25*600*2/1000000+E$25*600*2/1000000)*F25/600*1.18)*75+200*1.18+650*F25/600+850*4),0)*0.99,0)*(0.85+0.6944),0)))","v":13634}]
[null,null,null,{"$f":"IF(OR(C24=\"ПКЗЭ\",C24=\"ПКЗШ\"),\"600-2000\",IF(OR(C24=\"ПКРЭ\",C24=\"ПКРШ\"),\"500-1500\",\"ошибка\"))","v":"600-2000"},"300-500","500-700"]
[null,null,null,{"$f":"IF(D24=\"\",1,D24)","v":1200}]
[null,null,"ПКЗЭ","полка с дверями купе"]
[null,null,"ПКЗШ","полка с дверями купе"]
[null,null,"ПКРЭ","полка с распашными дверями"]
[null,null,"ПКРШ","полка с распашными дверями"]
[]
[null,"Полки кухонные закрытые без дверей (ПКПО Э) "]
[]
[null,"Изображение","Артикул",null,null,"Модель","Характеристика номенклатуры",null,null,null,"Базовая цена,","Ваша цена,","Техническое описание",null,"Базовая цена,"]
[null,null,null,null,null,null,null,null,null,null,"руб","руб",null,null,"руб"]
[null,null,"ПКПОЭ_603060",null,null,"ПКПОЭ","L=600, S=300, H=600",null,null,null,{"$f":"ROUND(O37*(1+'Повышение цен'!$C$17),0)","v":13819},{"$f":"ROUND(IF($D$4=\"С НДС\",K37*(1-$D$3),K37*(1-$D$3)/1.22),0)","v":13819},"шлифованная н/ст, толщина 0,8 мм, сварная конструкция, полка сплошная плюс дно, без дверей, настенное крепление.",null,11480]
[null,null,"ПКПОЭ_803060",null,null,"ПКПОЭ","L=800, S=300, H=600",null,null,null,{"$f":"ROUND(O38*(1+'Повышение цен'!$C$17),0)","v":14746},14746,null,null,12250]
[null,null,"ПКПОЭ_1003060",null,null,"ПКПОЭ","L=1000, S=300, H=600",null,null,null,{"$f":"ROUND(O39*(1+'Повышение цен'!$C$17),0)","v":15673},15673,null,null,13020]
[null,null,"ПКПОЭ_1203060",null,null,"ПКПОЭ","L=1200, S=300, H=600",null,null,null,{"$f":"ROUND(O40*(1+'Повышение цен'!$C$17),0)","v":16595},16595,null,null,13786]
[null,null,"ПКПОЭ_1503060",null,null,"ПКПОЭ","L=1500, S=300, H=600",null,null,null,{"$f":"ROUND(O41*(1+'Повышение цен'!$C$17),0)","v":17987},17987,null,null,14942]
[]
[null,null,"ПКПОЭ_604060",null,null,"ПКПОЭ","L=600, S=400, H=600",null,null,null,{"$f":"ROUND(O43*(1+'Повышение цен'!$C$17),0)","v":14746},{"$f":"ROUND(IF($D$4=\"С НДС\",K43*(1-$D$3),K43*(1-$D$3)/1.22),0)","v":14746},null,null,12250]
[null,null,"ПКПОЭ_804060",null,null,"ПКПОЭ","L=800, S=400, H=600",null,null,null,{"$f":"ROUND(O44*(1+'Повышение цен'!$C$17),0)","v":15855},15855,null,null,13171]
[null,null,"ПКПОЭ_1004060",null,null,"ПКПОЭ","L=1000, S=400, H=600",null,null,null,{"$f":"ROUND(O45*(1+'Повышение цен'!$C$17),0)","v":16968},16968,null,null,14096]
[null,null,"ПКПОЭ_1204060",null,null,"ПКПОЭ","L=1200, S=400, H=600",null,null,null,{"$f":"ROUND(O46*(1+'Повышение цен'!$C$17),0)","v":18078},18078,null,null,15018]
[null,null,"ПКПОЭ_1504060",null,null,"ПКПОЭ","L=1500, S=400, H=600",null,null,null,{"$f":"ROUND(O47*(1+'Повышение цен'!$C$17),0)","v":19747},19747,null,null,16404]
[]
[null,null,"Формула расчета цены",null,null,null,null,null,null,null,null,null,"Техническое описание"]
[null,"Артикул","Модель","Длина,","Глубина,","Высота",null,null,null,null,"Базовая цена,","Ваша цена,","Нестандартной модели"]
[null,null,null,"мм","мм","мм",null,null,null,null,"руб","руб",{"$f":"CONCATENATE(\"шлифованная н/ст, толщина 0,8 мм,сварная конструкция сплошная полка плюс дно, без дверей, настенное крепление\",\", длина \",D52,\"мм\",\", глубина \",E52,\"мм\",\", высота \",F52,\"мм \",\"Объем в упаковке \", ROUND(D53/1000*E53/1000*(F53+150)/1000,2),\" м3\")","v":"шлифованная н/ст, толщина 0,8 мм,сварная конструкция сплошная полка плюс дно, без дверей, настенное крепление, длина 1500мм, глубина 300мм, высота 600мм Объем в упаковке 0,34 м3"}]
[null,{"$f":"UPPER(CONCATENATE(C52,\"_\",D52/10,E52/10,F52/10))","v":"ПКПОЭ_1503060"},"ПКПОЭ",1500,300,600,null,null,null,null,{"$f":"ROUND((K53*IF(D52>1500,1.05,1))*1.05*1.06755*1.05*1.15*(1+'Повышение цен'!$C$17),0)","v":17986},{"$f":"ROUND(IF($D$4=\"С НДС\",K52*(1-$D$3),K52*(1-$D$3)/1.22),0)","v":17986}]
[null,null,null,{"$f":"IF(AND(D52>399,D52<2001),D52,\"не производим\")","v":1500},{"$f":"IF(AND(E52>299,E52<501),E52,\"не производим\")","v":300},{"$f":"IF(AND(F52>499,F52<701),F52,\"не производим\")","v":600},{"$f":"IF(D53=1,IF(AND(G52>249,G52<401),G52,\"не производим\"),IF(D53=2,IF(AND(G52>499,G52<801),G52,\"не производим\")))","v":false},null,null,null,{"$f":"IF(C52=\"ПКПОЭ\",ROUND(ROUND(ROUND(((14*(D53*E$53*3/1000000+$D53*600*1/1000000+E$53*600*2/1000000)*F53/600*1.18)*75+200*1.18+750*F53/600+750*4),0)*0.99,0)*(0.85+0.6944),0),)","v":11039}]
[null,null,null,"400-2000","300-500","500-700"]
[null,null,null,{"$f":"IF(D52=\"\",1,D52)","v":1500}]
[null,null,"ПКПОЭ","полка без дверей"]
[]
[null,"Шкафы кухонные закрытые двери купе (ШЗК Э) "]
[]
[null,"Изображение","Артикул",null,null,"Модель","Характеристика номенклатуры",null,null,null,"Базовая цена,","Ваша цена,","Техническое описание",null,"Базовая цена,"]
[null,null,null,null,null,null,null,null,null,null,"руб","руб",null,null,"руб"]
[null,null,"ШЗКЭ_8050175",null,null,"ШЗКЭ","L=800, S=500, H=1750",null,null,null,{"$f":"ROUND(O62*(1+'Повышение цен'!$C$19),0)","v":45868},{"$f":"ROUND(IF($D$4=\"С НДС\",K62*(1-$D$3),K62*(1-$D$3)/1.22),0)","v":45868},"шлифованная н/ст, толщина 1,0 мм, сварная конструкция, 3 полки сплошные плюс дно, двери купе, каркас - труба 40*40*1,2 мм,  регулируемые ножки(+/-20мм)",null,38103]
[null,null,"ШЗКЭ_10050175",null,null,"ШЗКЭ","L=1000, S=500, H=1750",null,null,null,{"$f":"ROUND(O63*(1+'Повышение цен'!$C$19),0)","v":53525},53525,null,null,44464]
[null,null,"ШЗКЭ_12050175",null,null,"ШЗКЭ","L=1200, S=500, H=1750",null,null,null,{"$f":"ROUND(O64*(1+'Повышение цен'!$C$19),0)","v":61867},61867,null,null,51394]
[null,null,"ШЗКЭ_15050175",null,null,"ШЗКЭ","L=1500, S=500, H=1750",null,null,null,{"$f":"ROUND(O65*(1+'Повышение цен'!$C$19),0)","v":75662},75662,null,null,62854]
[]
[null,null,"ШЗКЭ_8060175",null,null,"ШЗКЭ","L=800, S=600, H=1750",null,null,null,{"$f":"ROUND(O67*(1+'Повышение цен'!$C$19),0)","v":55909},{"$f":"ROUND(IF($D$4=\"С НДС\",K67*(1-$D$3),K67*(1-$D$3)/1.22),0)","v":55909},null,null,46445]
[null,null,"ШЗКЭ_10060175",null,null,"ШЗКЭ","L=1000, S=600, H=1750",null,null,null,{"$f":"ROUND(O68*(1+'Повышение цен'!$C$19),0)","v":66558},66558,null,null,55291]
[null,null,"ШЗКЭ_12060175",null,null,"ШЗКЭ","L=1200, S=600, H=1750",null,null,null,{"$f":"ROUND(O69*(1+'Повышение цен'!$C$19),0)","v":78190},78190,null,null,64954]
[null,null,"ШЗКЭ_15060175",null,null,"ШЗКЭ","L=1500, S=600, H=1750",null,null,null,{"$f":"ROUND(O70*(1+'Повышение цен'!$C$19),0)","v":97483},97483,null,null,80981]
[]
[null,null,"Формула расчета цены",null,null,null,null,null,null,null,null,null,"Техническое описание"]
[null,"Артикул","Модель","Длина,","Глубина,","Высота",null,null,null,null,"Базовая цена,","Ваша цена,","Нестандартной модели"]
[null,null,null,"мм","мм","мм",null,null,null,null,"руб","руб",{"$f":"CONCATENATE(\"шлифованная н/ст, толщина 1,0 мм,сварная конструкция, 3 сплошные полки плюс дно, \",IF(C75=\"ШЗКЭ\",\"двери купе,\",\"\"),IF(C75=\"ШЗРЭ\",\"распашные двери,\",\"\"),\"каркас - труба 40*40*1,2 мм, регулируемые ножки(+/-20мм)\", \", длина \", D75,\"мм\",\", глубина \",E75,\"мм\",\" ,высота \",F75,\"мм \", \"Объем в упаковке \", ROUND(D75/1000*E75/1000*(F75+150)/1000,2),\" м3\")","v":"шлифованная н/ст, толщина 1,0 мм,сварная конструкция, 3 сплошные полки плюс дно, двери купе,каркас - труба 40*40*1,2 мм, регулируемые ножки(+/-20мм), длина 1200мм, глубина 600мм ,высота 1750мм Объем в упаковке 1,37 м3"}]
[null,{"$f":"UPPER(CONCATENATE(C75,\"_\",D75/10,E75/10,F75/10))","v":"ШЗКЭ_12060175"},"ШЗКЭ",1200,600,1750,null,null,null,null,{"$f":"ROUND(K76*1.1*1.05*1.1,0)*1.15*(1+'Повышение цен'!$C$19)","v":78189.169545192417},{"$f":"ROUND(IF($D$4=\"С НДС\",K75*(1-$D$3),K75*(1-$D$3)/1.22),0)","v":78189}]
[null,null,null,{"$f":"IF(C75=\"ШЗКЭ\",IF(AND(D75>699,D75<1501),D75,\"не производим\"),IF(C75=\"ШЗРЭ\",IF(AND(D75>499,D75<1201),D75,\"не производим\")))","v":1200},{"$f":"IF(AND(E75>399,E75<601),E75,\"не производим\")","v":600},{"$f":"IF(AND(F75>1599,F75<2001),F75,\"не производим\")","v":1750},{"$f":"IF(D76=1,IF(AND(G75>249,G75<401),G75,\"не производим\"),IF(D76=2,IF(AND(G75>499,G75<801),G75,\"не производим\")))","v":false},null,null,null,{"$f":"IF(C75=\"ШЗКЭ\",ROUND(ROUND(ROUND((((8300/4.05)*(D76*E76*2.5/1000000*E76/500+E76*F76*2.5/1000000*E76/500+E76*2310/1000000)*D76/950*1.18+1730/1.75*F76/1000*E76/500*1.18+400*1.18)+3000+2700),0)*0.99,0)*(0.85+0.6944),0),IF(C75=\"ШЗРЭ\",ROUND(ROUND(ROUND((((8300/4.05)*(D76*E76*2.5/1000000*E76/500+E76*F76*2.5/1000000*E76/500+E76*2310/1000000)*D76/950*1.18+1730/1.75*F76/1000*E76/500*1.18+400*1.18)+1800+2700),0)*0.99,0)*(0.85+0.6944),0)))","v":44456}]
[null,null,null,{"$f":"IF(C75=\"ШЗКЭ\",\"700-1500\",IF(C75=\"ШЗРЭ\",\"500-1200\",\"ошибка\"))","v":"700-1500"},"400-600","1600-2000"]
[null,null,null,{"$f":"IF(D75=\"\",1,D75)","v":1200}]
[null,null,"ШЗКЭ","Шкаф с дверями купе"]
[null,null,"ШЗРЭ","Шкаф с распашными дверями"]

{"sheet":"Стеллажи для инвентаря","index":19,"n_rows":23,"n_cols":15,"rows_kept":23,"cut":false,"hidden":false,"merged":[[20,6,20,9],[8,13,9,13],[14,12,20,12],[14,13,16,13],[10,13,12,13],[18,13,20,13],[15,2,15,4],[15,6,15,9],[18,2,18,4],[18,6,18,9],[8,12,9,12],[10,12,12,12],[19,2,19,4],[19,6,19,9],[20,2,20,4],[10,1,22,1],[10,2,10,4],[10,6,10,9],[11,2,11,4],[11,6,11,9],[12,2,12,4],[12,6,12,9],[16,6,16,9],[16,2,16,4],[22,2,22,4],[22,6,22,9],[14,2,14,4],[14,6,14,9],[8,0,9,0],[8,1,9,1],[8,2,9,4],[8,5,9,5],[8,6,9,9],[7,2,7,11],[1,0,1,2],[2,0,2,2],[3,0,3,2],[6,1,6,10]]}
["Нейтральное оборудование/Стеллажи и полки для инвентаря",null,null,null,null,null,null,null,null,null,null,null,null,"На главную"]
[]
["Ваша скидка:",null,null,{"$f":"Содержание!C2","v":0}]
["НДС:",null,null,{"$f":"IF(Лист2!A1=TRUE,\"С НДС\",\"БЕЗ НДС\")","v":"С НДС"}]
[]
[]
[null,"Стеллаж передвижной, шпилька СПГ; СПП; СППД"]
[]
[null,"Изображение","Артикул",null,null,"Модель","Характеристика номенклатуры",null,null,null,"Базовая цена,","Ваша цена,","Техническое описание","Загрузка","Базовая цена,"]
[null,null,null,null,null,null,null,null,null,null,"руб","руб",null,null,"руб"]
[null,null,"СПГЭ_4054180_GN1/1_12",null,null,"СПГЭ","L=400, S=540, H=1800,GN1/1, 12",null,null,null,{"$f":"ROUND(O11*(1+'Повышение цен'!$C$23),0)","v":23723},{"$f":"ROUND(IF($D$4=\"С НДС\",K11*(1-$D$3),K11*(1-$D$3)/1.22),0)","v":23723},"н/ст Aisi 430, разб. конструкция, каркас из нерж. трубы 25*25*1,2 мм,направляющие для гастроемкостей GN 1/1, все поворотные колеса, два из них с тормозом, диаметр колес - 100 мм","по узкой стороне",19707]
[null,null,"СПГЭ_4054180_GN1/1_15",null,null,"СПГЭ","L=400, S=540, H=1800,GN1/1, 15",null,null,null,{"$f":"ROUND(O12*(1+'Повышение цен'!$C$23),0)","v":23974},{"$f":"ROUND(IF($D$4=\"С НДС\",K12*(1-$D$3),K12*(1-$D$3)/1.22),0)","v":23974},null,null,19916]
[null,null,"СПГЭ_4054180_GN1/1_18",null,null,"СПГЭ","L=400, S=540, H=1800,GN1/1, 18",null,null,null,{"$f":"ROUND(O13*(1+'Повышение цен'!$C$23),0)","v":24378},{"$f":"ROUND(IF($D$4=\"С НДС\",K13*(1-$D$3),K13*(1-$D$3)/1.22),0)","v":24378},null,null,20251]
[]
[null,null,"СПП Э_4661180_12",null,null,"СПП Э","L=460, S=610, H=1800, 12",null,null,null,{"$f":"ROUND(O15*(1+'Повышение цен'!$C$23),0)","v":27926},{"$f":"ROUND(IF($D$4=\"С НДС\",K15*(1-$D$3),K15*(1-$D$3)/1.22),0)","v":27926},"н/ст Aisi 430, разб. конструкция, каркас из нерж. трубы 25*25*1,2 мм,направляющие для противней 600*400, все поворотные колеса, два из них с тормозом, диаметр колес - 100 мм","по узкой стороне",23199]
[null,null,"СПП Э_4661180_15",null,null,"СПП Э","L=460, S=610, H=1800, 15",null,null,null,{"$f":"ROUND(O16*(1+'Повышение цен'!$C$23),0)","v":28314},{"$f":"ROUND(IF($D$4=\"С НДС\",K16*(1-$D$3),K16*(1-$D$3)/1.22),0)","v":28314},null,null,23521]
[null,null,"СПП Э_4661180_18",null,null,"СПП Э","L=460, S=610, H=1800, 18",null,null,null,{"$f":"ROUND(O17*(1+'Повышение цен'!$C$23),0)","v":28769},{"$f":"ROUND(IF($D$4=\"С НДС\",K17*(1-$D$3),K17*(1-$D$3)/1.22),0)","v":28769},null,null,23899]
[]
[null,null,"СПП Э_6741180_12",null,null,"СПП Э","L=670, S=410, H=1800, 12",null,null,null,{"$f":"ROUND(O19*(1+'Повышение цен'!$C$23),0)","v":25405},{"$f":"ROUND(IF($D$4=\"С НДС\",K19*(1-$D$3),K19*(1-$D$3)/1.22),0)","v":25405},null,"по широкой стороне",21104]
[null,null,"СПП Э_6741180_15",null,null,"СПП Э","L=670, S=410, H=1800, 15",null,null,null,{"$f":"ROUND(O20*(1+'Повышение цен'!$C$23),0)","v":25740},{"$f":"ROUND(IF($D$4=\"С НДС\",K20*(1-$D$3),K20*(1-$D$3)/1.22),0)","v":25740},null,null,21383]
[null,null,"СПП Э_6741180_18",null,null,"СПП Э","L=670, S=410, H=1800, 18",null,null,null,{"$f":"ROUND(O21*(1+'Повышение цен'!$C$23),0)","v":26076},{"$f":"ROUND(IF($D$4=\"С НДС\",K21*(1-$D$3),K21*(1-$D$3)/1.22),0)","v":26076},null,null,21662]
[]
[null,null,"СППДЭ_4252180_12",null,null,"СПП ДЭ","L=420, S=520, H=1800, 12",null,null,null,{"$f":"ROUND(O23*(1+'Повышение цен'!$C$23),0)","v":24727},{"$f":"ROUND(IF($D$4=\"С НДС\",K23*(1-$D$3),K23*(1-$D$3)/1.22),0)","v":24727},"н/ст Aisi 430, разб. конструкция, каркас из нерж. трубы 25*25*1,2 мм, направляющие для подносов, все поворотные колеса, два из них с тормозом, диаметр колес - 100 мм","По узкой стороне",20541]

{"sheet":"Зонты пристенные","index":20,"n_rows":149,"n_cols":15,"rows_kept":149,"cut":false,"hidden":false,"merged":[[8,0,9,0],[1,0,1,3],[2,0,2,3],[3,0,3,3],[6,1,6,11],[7,3,7,12],[29,3,29,4],[29,9,29,10],[28,3,28,4],[28,9,28,10],[10,9,10,10],[11,9,11,10],[10,1,24,4],[10,5,24,6],[8,1,9,4],[26,1,27,1],[26,2,27,2],[8,5,9,6],[49,1,50,1],[44,3,44,4],[44,9,44,10],[40,3,40,4],[40,9,40,10],[32,3,32,4],[32,9,32,10],[33,3,33,4],[33,9,33,10],[37,3,37,4],[37,9,37,10],[38,3,38,4],[38,9,38,10],[39,3,39,4],[39,9,39,10],[34,3,34,4],[34,9,34,10],[35,3,35,4],[35,9,35,10],[36,3,36,4],[36,9,36,10],[45,3,45,4],[45,9,45,10],[46,3,46,4],[30,3,30,4],[30,9,30,10],[31,3,31,4],[31,9,31,10],[18,9,18,10],[19,9,19,10],[20,9,20,10],[8,7,9,7],[8,8,9,8],[8,9,9,10],[12,9,12,10],[13,9,13,10],[14,9,14,10],[15,9,15,10],[16,9,16,10],[17,9,17,10],[26,3,27,4],[26,7,27,7],[26,8,27,8],[26,9,27,10],[21,9,21,10],[22,9,22,10],[23,9,23,10],[24,9,24,10],[46,9,46,10],[47,3,47,4],[47,9,47,10],[41,3,41,4],[41,9,41,10],[42,3,42,4],[42,9,42,10],[43,3,43,4],[43,9,43,10],[52,3,52,4],[52,9,52,10],[53,3,53,4],[53,9,53,10],[54,3,54,4],[54,9,54,10],[49,2,50,2],[49,3,50,4],[49,7,50,7],[49,8,50,8],[49,9,50,10],[51,3,51,4],[51,9,51,10],[58,3,58,4],[58,9,58,10],[59,3,59,4],[59,9,59,10],[60,3,60,4],[60,9,60,10],[55,3,55,4],[55,9,55,10],[56,3,56,4],[56,9,56,10],[57,3,57,4],[57,9,57,10],[64,3,64,4],[64,9,64,10],[65,3,65,4],[65,9,65,10],[66,3,66,4],[66,9,66,10],[61,3,61,4],[61,9,61,10],[62,3,62,4],[62,9,62,10],[63,3,63,4],[63,9,63,10],[67,3,67,4],[67,9,67,10],[68,3,68,4],[68,9,68,10],[73,1,74,1],[73,2,74,2],[73,3,74,4],[73,7,74,7],[73,8,74,8],[73,9,74,10],[78,3,78,4],[78,9,78,10],[79,3,79,4],[79,9,79,10],[80,3,80,4],[80,9,80,10],[75,3,75,4],[75,9,75,10],[76,3,76,4],[76,9,76,10],[77,3,77,4],[77,9,77,10],[84,3,84,4],[84,9,84,10],[85,3,85,4],[85,9,85,10],[86,3,86,4],[86,9,86,10],[81,3,81,4],[81,9,81,10],[82,3,82,4],[82,9,82,10],[83,3,83,4],[83,9,83,10],[90,3,90,4],[90,9,90,10],[91,3,91,4],[91,9,91,10],[92,3,92,4],[92,9,92,10],[87,3,87,4],[87,9,87,10],[88,3,88,4],[88,9,88,10],[89,3,89,4],[89,9,89,10],[96,3,96,4],[96,9,96,10],[97,3,97,4],[97,9,97,10],[98,3,98,4],[98,9,98,10],[94,1,95,1],[94,2,95,2],[94,3,95,4],[94,7,95,7],[94,8,95,8],[94,9,95,10],[102,9,102,10],[103,3,103,4],[103,9,103,10],[104,3,104,4],[104,9,104,10],[99,3,99,4],[99,9,99,10],[100,3,100,4],[100,9,100,10],[101,3,101,4],[101,9,101,10],[102,3,102,4],[115,1,115,11],[126,1,127,1],[126,2,127,2],[111,3,111,4],[111,9,111,10],[112,3,112,4],[112,9,112,10],[113,3,113,4],[113,9,113,10],[124,1,124,11],[117,3,117,8],[118,3,118,8],[119,3,119,8],[120,3,120,8],[121,3,121,8],[122,3,122,8],[108,3,108,4],[108,9,108,10],[109,3,109,4],[109,9,109,10],[110,3,110,4],[110,9,110,10],[105,3,105,4],[105,9,105,10],[106,3,106,4],[106,9,106,10],[107,3,107,4],[107,9,107,10],[147,3,147,8],[148,3,148,8],[134,3,134,8],[126,3,127,8],[128,3,128,8],[129,3,129,8],[130,3,130,8],[131,3,131,8],[132,3,132,8],[133,3,133,8],[135,3,135,8],[136,3,136,8],[137,3,137,8],[138,3,138,8],[139,3,139,8],[140,3,140,8],[141,3,141,8],[142,3,142,8],[143,3,143,8],[144,3,144,8],[145,3,145,8],[146,3,146,8]]}
["Нейтральное оборудование/Зонты пристеные",null,null,null,null,null,null,null,null,null,null,null,"На главную"]
[]
["Ваша скидка:",null,null,null,{"$f":"Содержание!C2","v":0}]
["НДС:",null,null,null,{"$f":"IF(Лист2!A1=TRUE,\"С НДС\",\"БЕЗ НДС\")","v":"С НДС"}]
[]
[]
[null,"Зонты вытяжные пристенные ЗВП Ш"]
[]
[null,"Изображение",null,null,null,"Техническое описание",null,"Артикул","Модель","Характеристика номенклатуры",null,"Базовая цена,","Ваша цена,",null,"Базовая цена,"]
[null,null,null,null,null,null,null,null,null,null,null,"руб","руб",null,"руб"]
[null,null,null,null,null,"шлифованная н/ст Aisi 430, сварная конструкция, без отверстия под воздуховод. Комплектация: комплект жироулавливающих фильтров двух типоразмеров, основной типоразмер - 200*380 мм и дополнительный 100*380 ( при длинне, кратной- 100), два сливных крана, планка крепления к стене. Подсветка приобретается отдельно",null,"ЗВПШ_606035","ЗВПШ","L=600, S=600, H=350",null,{"$f":"ROUND(O11*(1+'Повышение цен'!$C$20),0)","v":20851},{"$f":"ROUND(IF($E$4=\"С НДС\",L11*(1-$E$3),L11*(1-$E$3)/1.22),0)","v":20851},null,17321]
[null,null,null,null,null,null,null,"ЗВПШ_706035","ЗВПШ","L=700, S=600, H=350",null,{"$f":"ROUND(O12*(1+'Повышение цен'!$C$20),0)","v":20960},{"$f":"ROUND(IF($E$4=\"С НДС\",L12*(1-$E$3),L12*(1-$E$3)/1.22),0)","v":20960},null,17412]
[null,null,null,null,null,null,null,"ЗВПШ_806035","ЗВПШ","L=800, S=600, H=350",null,{"$f":"ROUND(O13*(1+'Повышение цен'!$C$20),0)","v":21069},21069,null,17502]
[null,null,null,null,null,null,null,"ЗВПШ_906035","ЗВПШ","L=900, S=600, H=350",null,{"$f":"ROUND(O14*(1+'Повышение цен'!$C$20),0)","v":21288},21288,null,17684]
[null,null,null,null,null,null,null,"ЗВПШ_1006035","ЗВПШ","L=1000, S=600, H=350",null,{"$f":"ROUND(O15*(1+'Повышение цен'!$C$20),0)","v":21531},21531,null,17886]
[null,null,null,null,null,null,null,"ЗВПШ_1106035","ЗВПШ","L=1100, S=600, H=350",null,{"$f":"ROUND(O16*(1+'Повышение цен'!$C$20),0)","v":23732},23732,null,19715]
[null,null,null,null,null,null,null,"ЗВПШ_1206035","ЗВПШ","L=1200, S=600, H=350",null,{"$f":"ROUND(O17*(1+'Повышение цен'!$C$20),0)","v":25060},25060,null,20818]
[null,null,null,null,null,null,null,"ЗВПШ_1306035","ЗВПШ","L=1300, S=600, H=350",null,{"$f":"ROUND(O18*(1+'Повышение цен'!$C$20),0)","v":26719},26719,null,22196]
[null,null,null,null,null,null,null,"ЗВПШ_1406035","ЗВПШ","L=1400, S=600, H=350",null,{"$f":"ROUND(O19*(1+'Повышение цен'!$C$20),0)","v":27582},27582,null,22913]
[null,null,null,null,null,null,null,"ЗВПШ_1506035","ЗВПШ","L=1500, S=600, H=350",null,{"$f":"ROUND(O20*(1+'Повышение цен'!$C$20),0)","v":30865},30865,null,25640]
[null,null,null,null,null,null,null,"ЗВПШ_1606035","ЗВПШ","L=1600, S=600, H=350",null,{"$f":"ROUND(O21*(1+'Повышение цен'!$C$20),0)","v":31398},31398,null,26083]
[null,null,null,null,null,null,null,"ЗВПШ_1706035","ЗВПШ","L=1700, S=600, H=350",null,{"$f":"ROUND(O22*(1+'Повышение цен'!$C$20),0)","v":32350},32350,null,26874]
[null,null,null,null,null,null,null,"ЗВПШ_1806035","ЗВПШ","L=1800, S=600, H=350",null,{"$f":"ROUND(O23*(1+'Повышение цен'!$C$20),0)","v":33650},33650,null,27954]
[null,null,null,null,null,null,null,"ЗВПШ_1906035","ЗВПШ","L=1900, S=600, H=350",null,{"$f":"ROUND(O24*(1+'Повышение цен'!$C$20),0)","v":34908},34908,null,28999]
[null,null,null,null,null,null,null,"ЗВПШ_2006035","ЗВПШ","L=2000, S=600, H=350",null,{"$f":"ROUND(O25*(1+'Повышение цен'!$C$20),0)","v":35885},35885,null,29810]
[]
[null,"Артикул","Модель","Характеристика номенклатуры",null,"Базовая цена,","Ваша цена,","Артикул","Модель","Характеристика номенклатуры",null,"Базовая цена,","Ваша цена,","Базовая цена,","Базовая цена,"]
[null,null,null,null,null,"руб","руб",null,null,null,null,"руб","руб","руб","руб"]
[null,"ЗВПШ_607035","ЗВПШ","L=600, S=700, H=350",null,{"$f":"ROUND(N29*(1+'Повышение цен'!$C$20),0)","v":21028},{"$f":"ROUND(IF($E$4=\"С НДС\",F29*(1-$E$3),F29*(1-$E$3)/1.2),0)","v":21028},"ЗВПШ_608035","ЗВПШ","L=600, S=800, H=350",null,{"$f":"ROUND(O29*(1+'Повышение цен'!$C$20),0)","v":21382},{"$f":"ROUND(IF($E$4=\"С НДС\",L29*(1-$E$3),L29*(1-$E$3)/1.22),0)","v":21382},17468,17762]
[null,"ЗВПШ_707035","ЗВПШ","L=700, S=700, H=350",null,{"$f":"ROUND(N30*(1+'Повышение цен'!$C$20),0)","v":21144},{"$f":"ROUND(IF($E$4=\"С НДС\",F30*(1-$E$3),F30*(1-$E$3)/1.2),0)","v":21144},"ЗВПШ_708035","ЗВПШ","L=700, S=800, H=350",null,{"$f":"ROUND(O30*(1+'Повышение цен'!$C$20),0)","v":21516},21516,17565,17874]
[null,"ЗВПШ_807035","ЗВПШ","L=800, S=700, H=350",null,{"$f":"ROUND(N31*(1+'Повышение цен'!$C$20),0)","v":21264},{"$f":"ROUND(IF($E$4=\"С НДС\",F31*(1-$E$3),F31*(1-$E$3)/1.2),0)","v":21264},"ЗВПШ_808035","ЗВПШ","L=800, S=800, H=350",null,{"$f":"ROUND(O31*(1+'Повышение цен'!$C$20),0)","v":21650},21650,17664,17985]
[null,"ЗВПШ_907035","ЗВПШ","L=900, S=700, H=350",null,{"$f":"ROUND(N32*(1+'Повышение цен'!$C$20),0)","v":21499},21499,"ЗВПШ_908035","ЗВПШ","L=900, S=800, H=350",null,{"$f":"ROUND(O32*(1+'Повышение цен'!$C$20),0)","v":21922},21922,17860,18211]
[null,"ЗВПШ_1007035","ЗВПШ","L=1000, S=700, H=350",null,{"$f":"ROUND(N33*(1+'Повышение цен'!$C$20),0)","v":21873},21873,"ЗВПШ_1008035","ЗВПШ","L=1000, S=800, H=350",null,{"$f":"ROUND(O33*(1+'Повышение цен'!$C$20),0)","v":22554},22554,18170,18736]
[null,"ЗВПШ_1107035","ЗВПШ","L=1100, S=700, H=350",null,{"$f":"ROUND(N34*(1+'Повышение цен'!$C$20),0)","v":23757},23757,"ЗВПШ_1108035","ЗВПШ","L=1100, S=800, H=350",null,{"$f":"ROUND(O34*(1+'Повышение цен'!$C$20),0)","v":23802},23802,19735,19773]
[null,"ЗВПШ_1207035","ЗВПШ","L=1200, S=700, H=350",null,{"$f":"ROUND(N35*(1+'Повышение цен'!$C$20),0)","v":25638},25638,"ЗВПШ_1208035","ЗВПШ","L=1200, S=800, H=350",null,{"$f":"ROUND(O35*(1+'Повышение цен'!$C$20),0)","v":26802},26802,21298,22265]
[null,"ЗВПШ_1307035","ЗВПШ","L=1300, S=700, H=350",null,{"$f":"ROUND(N36*(1+'Повышение цен'!$C$20),0)","v":27187},27187,"ЗВПШ_1308035","ЗВПШ","L=1300, S=800, H=350",null,{"$f":"ROUND(O36*(1+'Повышение цен'!$C$20),0)","v":28125},28125,22585,23364]
[null,"ЗВПШ_1407035","ЗВПШ","L=1400, S=700, H=350",null,{"$f":"ROUND(N37*(1+'Повышение цен'!$C$20),0)","v":28209},28209,"ЗВПШ_1408035","ЗВПШ","L=1400, S=800, H=350",null,{"$f":"ROUND(O37*(1+'Повышение цен'!$C$20),0)","v":29470},29470,23434,24481]
[null,"ЗВПШ_1507035","ЗВПШ","L=1500, S=700, H=350",null,{"$f":"ROUND(N38*(1+'Повышение цен'!$C$20),0)","v":30850},30850,"ЗВПШ_1508035","ЗВПШ","L=1500, S=800, H=350",null,{"$f":"ROUND(O38*(1+'Повышение цен'!$C$20),0)","v":30817},30817,25628,25600]
[null,"ЗВПШ_1607035","ЗВПШ","L=1600, S=700, H=350",null,{"$f":"ROUND(N39*(1+'Повышение цен'!$C$20),0)","v":32006},32006,"ЗВПШ_1608035","ЗВПШ","L=1600, S=800, H=350",null,{"$f":"ROUND(O39*(1+'Повышение цен'!$C$20),0)","v":33217},33217,26588,27594]
[null,"ЗВПШ_1707035","ЗВПШ","L=1700, S=700, H=350",null,{"$f":"ROUND(N40*(1+'Повышение цен'!$C$20),0)","v":33093},33093,"ЗВПШ_1708035","ЗВПШ","L=1700, S=800, H=350",null,{"$f":"ROUND(O40*(1+'Повышение цен'!$C$20),0)","v":34581},34581,27491,28727]
[null,"ЗВПШ_1807035","ЗВПШ","L=1800, S=700, H=350",null,{"$f":"ROUND(N41*(1+'Повышение цен'!$C$20),0)","v":34429},34429,"ЗВПШ_1808035","ЗВПШ","L=1800, S=800, H=350",null,{"$f":"ROUND(O41*(1+'Повышение цен'!$C$20),0)","v":35986},35986,28601,29894]
[null,"ЗВПШ_1907035","ЗВПШ","L=1900, S=700, H=350",null,{"$f":"ROUND(N42*(1+'Повышение цен'!$C$20),0)","v":35726},35726,"ЗВПШ_1908035","ЗВПШ","L=1900, S=800, H=350",null,{"$f":"ROUND(O42*(1+'Повышение цен'!$C$20),0)","v":37358},37358,29678,31034]
[null,"ЗВПШ_2007035","ЗВПШ","L=2000, S=700, H=350",null,{"$f":"ROUND(N43*(1+'Повышение цен'!$C$20),0)","v":36848},36848,"ЗВПШ_2008035","ЗВПШ","L=2000, S=800, H=350",null,{"$f":"ROUND(O43*(1+'Повышение цен'!$C$20),0)","v":38775},38775,30610,32211]
[null,"ЗВПШ_2107035","ЗВПШ","L=2100, S=700, H=350",null,{"$f":"ROUND(N44*(1+'Повышение цен'!$C$20),0)","v":38348},38348,"ЗВПШ_2108035","ЗВПШ","L=2100, S=800, H=350",null,{"$f":"ROUND(O44*(1+'Повышение цен'!$C$20),0)","v":40139},40139,31856,33344]
[null,"ЗВПШ_2207035","ЗВПШ","L=2200, S=700, H=350",null,{"$f":"ROUND(N45*(1+'Повышение цен'!$C$20),0)","v":39628},39628,"ЗВПШ_2208035","ЗВПШ","L=2200, S=800, H=350",null,{"$f":"ROUND(O45*(1+'Повышение цен'!$C$20),0)","v":41500},41500,32920,34475]
[null,"ЗВПШ_2307035","ЗВПШ","L=2300, S=700, H=350",null,{"$f":"ROUND(N46*(1+'Повышение цен'!$C$20),0)","v":40959},40959,"ЗВПШ_2308035","ЗВПШ","L=2300, S=800, H=350",null,{"$f":"ROUND(O46*(1+'Повышение цен'!$C$20),0)","v":42907},42907,34025,35644]
[null,"ЗВПШ_2407035","ЗВПШ","L=2400, S=700, H=350",null,{"$f":"ROUND(N47*(1+'Повышение цен'!$C$20),0)","v":40959},40959,"ЗВПШ_2408035","ЗВПШ","L=2400, S=800, H=350",null,{"$f":"ROUND(O47*(1+'Повышение цен'!$C$20),0)","v":44270},44270,34025,36776]
[null,"ЗВПШ_2507035","ЗВПШ","L=2500, S=700, H=350",null,{"$f":"ROUND(N48*(1+'Повышение цен'!$C$20),0)","v":42277},42277,"ЗВПШ_2508035","ЗВПШ","L=2500, S=800, H=350",null,{"$f":"ROUND(O48*(1+'Повышение цен'!$C$20),0)","v":45697},45697,35120,37961]
[]
[null,"Артикул","Модель","Характеристика номенклатуры",null,"Базовая цена,","Ваша цена,","Артикул","Модель","Характеристика номенклатуры",null,"Базовая цена,","Ваша цена,","Базовая цена,","Базовая цена,"]
[null,null,null,null,null,"руб","руб",null,null,null,null,"руб","руб","руб","руб"]
[null,"ЗВПШ_809035","ЗВПШ","L=800, S=900, H=350",null,{"$f":"ROUND(N52*(1+'Повышение цен'!$C$20),0)","v":22918},{"$f":"ROUND(IF($E$4=\"С НДС\",F52*(1-$E$3),F52*(1-$E$3)/1.2),0)","v":22918},"ЗВПШ_8010035","ЗВПШ","L=800, S=1000, H=350",null,{"$f":"ROUND(O52*(1+'Повышение цен'!$C$20),0)","v":24655},{"$f":"ROUND(IF($E$4=\"С НДС\",L52*(1-$E$3),L52*(1-$E$3)/1.22),0)","v":24655},19038,20481]
[null,"ЗВПШ_909035","ЗВПШ","L=900, S=900, H=350",null,{"$f":"ROUND(N53*(1+'Повышение цен'!$C$20),0)","v":23168},23168,"ЗВПШ_9010035","ЗВПШ","L=900, S=1000, H=350",null,{"$f":"ROUND(O53*(1+'Повышение цен'!$C$20),0)","v":25041},25041,19246,20802]
[null,"ЗВПШ_1009035","ЗВПШ","L=1000, S=900, H=350",null,{"$f":"ROUND(N54*(1+'Повышение цен'!$C$20),0)","v":23438},23438,"ЗВПШ_10010035","ЗВПШ","L=1000, S=1000, H=350",null,{"$f":"ROUND(O54*(1+'Повышение цен'!$C$20),0)","v":25318},25318,19470,21032]
[null,"ЗВПШ_1109035","ЗВПШ","L=1100, S=900, H=350",null,{"$f":"ROUND(N55*(1+'Повышение цен'!$C$20),0)","v":25609},25609,"ЗВПШ_11010035","ЗВПШ","L=1100, S=1000, H=350",null,{"$f":"ROUND(O55*(1+'Повышение цен'!$C$20),0)","v":26742},26742,21274,22215]
[null,"ЗВПШ_1209035","ЗВПШ","L=1200, S=900, H=350",null,{"$f":"ROUND(N56*(1+'Повышение цен'!$C$20),0)","v":27003},27003,"ЗВПШ_12010035","ЗВПШ","L=1200, S=1000, H=350",null,{"$f":"ROUND(O56*(1+'Повышение цен'!$C$20),0)","v":28192},28192,22432,23420]
[null,"ЗВПШ_1309035","ЗВПШ","L=1300, S=900, H=350",null,{"$f":"ROUND(N57*(1+'Повышение цен'!$C$20),0)","v":29304},29304,"ЗВПШ_13010035","ЗВПШ","L=1300, S=1000, H=350",null,{"$f":"ROUND(O57*(1+'Повышение цен'!$C$20),0)","v":29611},29611,24343,24598]
[null,"ЗВПШ_1409035","ЗВПШ","L=1400, S=900, H=350",null,{"$f":"ROUND(N58*(1+'Повышение цен'!$C$20),0)","v":30725},30725,"ЗВПШ_14010035","ЗВПШ","L=1400, S=1000, H=350",null,{"$f":"ROUND(O58*(1+'Повышение цен'!$C$20),0)","v":33126},33126,25524,27518]
[null,"ЗВПШ_1509035","ЗВПШ","L=1500, S=900, H=350",null,{"$f":"ROUND(N59*(1+'Повышение цен'!$C$20),0)","v":33194},33194,"ЗВПШ_15010035","ЗВПШ","L=1500, S=1000, H=350",null,{"$f":"ROUND(O59*(1+'Повышение цен'!$C$20),0)","v":34669},34669,27575,28800]
[null,"ЗВПШ_1609035","ЗВПШ","L=1600, S=900, H=350",null,{"$f":"ROUND(N60*(1+'Повышение цен'!$C$20),0)","v":34680},34680,"ЗВПШ_16010035","ЗВПШ","L=1600, S=1000, H=350",null,{"$f":"ROUND(O60*(1+'Повышение цен'!$C$20),0)","v":36211},36211,28809,30081]
[null,"ЗВПШ_1709035","ЗВПШ","L=1700, S=900, H=350",null,{"$f":"ROUND(N61*(1+'Повышение цен'!$C$20),0)","v":36133},36133,"ЗВПШ_17010035","ЗВПШ","L=1700, S=1000, H=350",null,{"$f":"ROUND(O61*(1+'Повышение цен'!$C$20),0)","v":40061},40061,30016,33279]
[null,"ЗВПШ_1809035","ЗВПШ","L=1800, S=900, H=350",null,{"$f":"ROUND(N62*(1+'Повышение цен'!$C$20),0)","v":37613},37613,"ЗВПШ_18010035","ЗВПШ","L=1800, S=1000, H=350",null,{"$f":"ROUND(O62*(1+'Повышение цен'!$C$20),0)","v":41727},41727,31246,34663]
[null,"ЗВПШ_1909035","ЗВПШ","L=1900, S=900, H=350",null,{"$f":"ROUND(N63*(1+'Повышение цен'!$C$20),0)","v":39065},39065,"ЗВПШ_19010035","ЗВПШ","L=1900, S=1000, H=350",null,{"$f":"ROUND(O63*(1+'Повышение цен'!$C$20),0)","v":43347},43347,32452,36009]
[null,"ЗВПШ_2009035","ЗВПШ","L=2000, S=900, H=350",null,{"$f":"ROUND(N64*(1+'Повышение цен'!$C$20),0)","v":40567},40567,"ЗВПШ_20010035","ЗВПШ","L=2000, S=1000, H=350",null,{"$f":"ROUND(O64*(1+'Повышение цен'!$C$20),0)","v":45705},45705,33700,37968]
[null,"ЗВПШ_2109035","ЗВПШ","L=2100, S=900, H=350",null,{"$f":"ROUND(N65*(1+'Повышение цен'!$C$20),0)","v":42014},42014,"ЗВПШ_21010035","ЗВПШ","L=2100, S=1000, H=350",null,{"$f":"ROUND(O65*(1+'Повышение цен'!$C$20),0)","v":47313},47313,34902,39304]
[null,"ЗВПШ_2209035","ЗВПШ","L=2200, S=900, H=350",null,{"$f":"ROUND(N66*(1+'Повышение цен'!$C$20),0)","v":43459},43459,"ЗВПШ_22010035","ЗВПШ","L=2200, S=1000, H=350",null,{"$f":"ROUND(O66*(1+'Повышение цен'!$C$20),0)","v":50360},50360,36102,41835]
[null,"ЗВПШ_2309035","ЗВПШ","L=2300, S=900, H=350",null,{"$f":"ROUND(N67*(1+'Повышение цен'!$C$20),0)","v":44951},44951,"ЗВПШ_23010035","ЗВПШ","L=2300, S=1000, H=350",null,{"$f":"ROUND(O67*(1+'Повышение цен'!$C$20),0)","v":53540},53540,37342,44477]
[null,"ЗВПШ_2409035","ЗВПШ","L=2400, S=900, H=350",null,{"$f":"ROUND(N68*(1+'Повышение цен'!$C$20),0)","v":47849},47849,"ЗВПШ_24010035","ЗВПШ","L=2400, S=1000, H=350",null,{"$f":"ROUND(O68*(1+'Повышение цен'!$C$20),0)","v":55239},55239,39749,45888]
[null,"ЗВПШ_2509035","ЗВПШ","L=2500, S=900, H=350",null,{"$f":"ROUND(N69*(1+'Повышение цен'!$C$20),0)","v":49395},49395,"ЗВПШ_25010035","ЗВПШ","L=2500, S=1000, H=350",null,{"$f":"ROUND(O69*(1+'Повышение цен'!$C$20),0)","v":57013},57013,41033,47362]
[]
[]
[]
[]
[null,"Артикул","Модель","Характеристика номенклатуры",null,"Базовая цена,","Ваша цена,","Артикул","Модель","Характеристика номенклатуры",null,"Базовая цена,","Ваша цена,","Базовая цена,","Базовая цена,"]
[null,null,null,null,null,"руб","руб",null,null,null,null,"руб","руб","руб","руб"]
[null,"ЗВПШ_8011035","ЗВПШ","L=800, S=1100, H=350",null,{"$f":"ROUND(N76*(1+'Повышение цен'!$C$20),0)","v":25632},{"$f":"ROUND(IF($E$4=\"С НДС\",F76*(1-$E$3),F76*(1-$E$3)/1.2),0)","v":25632},"ЗВПШ_8012035","ЗВПШ","L=800, S=1200, H=350",null,{"$f":"ROUND(O76*(1+'Повышение цен'!$C$20),0)","v":27046},{"$f":"ROUND(IF($E$4=\"С НДС\",L76*(1-$E$3),L76*(1-$E$3)/1.22),0)","v":27046},21293,22468]
[null,"ЗВПШ_9011035","ЗВПШ","L=900, S=1100, H=350",null,{"$f":"ROUND(N77*(1+'Повышение цен'!$C$20),0)","v":25843},25843,"ЗВПШ_9012035","ЗВПШ","L=900, S=1200, H=350",null,{"$f":"ROUND(O77*(1+'Повышение цен'!$C$20),0)","v":27369},27369,21468,22736]
[null,"ЗВПШ_10011035","ЗВПШ","L=1000, S=1100, H=350",null,{"$f":"ROUND(N78*(1+'Повышение цен'!$C$20),0)","v":26246},26246,"ЗВПШ_10012035","ЗВПШ","L=1000, S=1200, H=350",null,{"$f":"ROUND(O78*(1+'Повышение цен'!$C$20),0)","v":27953},27953,21803,23221]
[null,"ЗВПШ_11011035","ЗВПШ","L=1100, S=1100, H=350",null,{"$f":"ROUND(N79*(1+'Повышение цен'!$C$20),0)","v":27792},27792,"ЗВПШ_11012035","ЗВПШ","L=1100, S=1200, H=350",null,{"$f":"ROUND(O79*(1+'Повышение цен'!$C$20),0)","v":30596},30596,23087,25417]
[null,"ЗВПШ_12011035","ЗВПШ","L=1200, S=1100, H=350",null,{"$f":"ROUND(N80*(1+'Повышение цен'!$C$20),0)","v":29353},29353,"ЗВПШ_12012035","ЗВПШ","L=1200, S=1200, H=350",null,{"$f":"ROUND(O80*(1+'Повышение цен'!$C$20),0)","v":32353},32353,24384,26876]
[null,"ЗВПШ_13011035","ЗВПШ","L=1300, S=1100, H=350",null,{"$f":"ROUND(N81*(1+'Повышение цен'!$C$20),0)","v":30891},30891,"ЗВПШ_13012035","ЗВПШ","L=1300, S=1200, H=350",null,{"$f":"ROUND(O81*(1+'Повышение цен'!$C$20),0)","v":35147},35147,25662,29197]
[null,"ЗВПШ_14011035","ЗВПШ","L=1400, S=1100, H=350",null,{"$f":"ROUND(N82*(1+'Повышение цен'!$C$20),0)","v":34609},34609,"ЗВПШ_14012035","ЗВПШ","L=1400, S=1200, H=350",null,{"$f":"ROUND(O82*(1+'Повышение цен'!$C$20),0)","v":36949},36949,28750,30694]
[null,"ЗВПШ_15011035","ЗВПШ","L=1500, S=1100, H=350",null,{"$f":"ROUND(N83*(1+'Повышение цен'!$C$20),0)","v":36282},36282,"ЗВПШ_15012035","ЗВПШ","L=1500, S=1200, H=350",null,{"$f":"ROUND(O83*(1+'Повышение цен'!$C$20),0)","v":38760},38760,30140,32199]
[null,"ЗВПШ_16011035","ЗВПШ","L=1600, S=1100, H=350",null,{"$f":"ROUND(N84*(1+'Повышение цен'!$C$20),0)","v":37952},37952,"ЗВПШ_16012035","ЗВПШ","L=1600, S=1200, H=350",null,{"$f":"ROUND(O84*(1+'Повышение цен'!$C$20),0)","v":40577},40577,31527,33708]
[null,"ЗВПШ_17011035","ЗВПШ","L=1700, S=1100, H=350",null,{"$f":"ROUND(N85*(1+'Повышение цен'!$C$20),0)","v":42062},42062,"ЗВПШ_17012035","ЗВПШ","L=1700, S=1200, H=350",null,{"$f":"ROUND(O85*(1+'Повышение цен'!$C$20),0)","v":43648},43648,34942,36259]
[null,"ЗВПШ_18011035","ЗВПШ","L=1800, S=1100, H=350",null,{"$f":"ROUND(N86*(1+'Повышение цен'!$C$20),0)","v":43845},43845,"ЗВПШ_18012035","ЗВПШ","L=1800, S=1200, H=350",null,{"$f":"ROUND(O86*(1+'Повышение цен'!$C$20),0)","v":45518},45518,36423,37813]
[null,"ЗВПШ_19011035","ЗВПШ","L=1900, S=1100, H=350",null,{"$f":"ROUND(N87*(1+'Повышение цен'!$C$20),0)","v":45593},45593,"ЗВПШ_19012035","ЗВПШ","L=1900, S=1200, H=350",null,{"$f":"ROUND(O87*(1+'Повышение цен'!$C$20),0)","v":47365},47365,37875,39347]
[null,"ЗВПШ_20011035","ЗВПШ","L=2000, S=1100, H=350",null,{"$f":"ROUND(N88*(1+'Повышение цен'!$C$20),0)","v":47383},47383,"ЗВПШ_20012035","ЗВПШ","L=2000, S=1200, H=350",null,{"$f":"ROUND(O88*(1+'Повышение цен'!$C$20),0)","v":50696},50696,39362,42114]
[null,"ЗВПШ_21011035","ЗВПШ","L=2100, S=1100, H=350",null,{"$f":"ROUND(N89*(1+'Повышение цен'!$C$20),0)","v":49127},49127,"ЗВПШ_21012035","ЗВПШ","L=2100, S=1200, H=350",null,{"$f":"ROUND(O89*(1+'Повышение цен'!$C$20),0)","v":52589},52589,40811,43687]
[null,"ЗВПШ_22011035","ЗВПШ","L=2200, S=1100, H=350",null,{"$f":"ROUND(N90*(1+'Повышение цен'!$C$20),0)","v":52356},52356,"ЗВПШ_22012035","ЗВПШ","L=2200, S=1200, H=350",null,{"$f":"ROUND(O90*(1+'Повышение цен'!$C$20),0)","v":54475},54475,43493,45253]
[null,"ЗВПШ_23011035","ЗВПШ","L=2300, S=1100, H=350",null,{"$f":"ROUND(N91*(1+'Повышение цен'!$C$20),0)","v":55737},55737,"ЗВПШ_23012035","ЗВПШ","L=2300, S=1200, H=350",null,{"$f":"ROUND(O91*(1+'Повышение цен'!$C$20),0)","v":58025},58025,46302,48202]
[null,"ЗВПШ_24011035","ЗВПШ","L=2400, S=1100, H=350",null,{"$f":"ROUND(N92*(1+'Повышение цен'!$C$20),0)","v":57574},57574,"ЗВПШ_24012035","ЗВПШ","L=2400, S=1200, H=350",null,{"$f":"ROUND(O92*(1+'Повышение цен'!$C$20),0)","v":59960},59960,47828,49810]
[null,"ЗВПШ_25011035","ЗВПШ","L=2500, S=1100, H=350",null,{"$f":"ROUND(N93*(1+'Повышение цен'!$C$20),0)","v":59486},59486,"ЗВПШ_25012035","ЗВПШ","L=2500, S=1200, H=350",null,{"$f":"ROUND(O93*(1+'Повышение цен'!$C$20),0)","v":61974},61974,49416,51483]
[null,null,null,null,null,null,null,null,null,null,null,null,0]
[null,"Артикул","Модель","Характеристика номенклатуры",null,"Базовая цена,","Ваша цена,","Артикул","Модель","Характеристика номенклатуры",null,"Базовая цена,",{"$error":"#VALUE!"},"Базовая цена,","Базовая цена,"]
[null,null,null,null,null,"руб","руб",null,null,null,null,"руб",{"$error":"#VALUE!"},"руб","руб"]
[null,"ЗВПШ_8013035","ЗВПШ","L=800, S=1300, H=350",null,{"$f":"ROUND(N97*(1+'Повышение цен'!$C$20),0)","v":29592},{"$f":"ROUND(IF($E$4=\"С НДС\",F97*(1-$E$3),F97*(1-$E$3)/1.2),0)","v":29592},"ЗВПШ_8014035","ЗВПШ","L=800, S=1400, H=350",null,{"$f":"ROUND(O97*(1+'Повышение цен'!$C$20),0)","v":31552},31552,24583,26211]
[null,"ЗВПШ_9013035","ЗВПШ","L=900, S=1300, H=350",null,{"$f":"ROUND(N98*(1+'Повышение цен'!$C$20),0)","v":30200},30200,"ЗВПШ_9014035","ЗВПШ","L=900, S=1400, H=350",null,{"$f":"ROUND(O98*(1+'Повышение цен'!$C$20),0)","v":32020},32020,25088,26600]
[null,"ЗВПШ_10013035","ЗВПШ","L=1000, S=1300, H=350",null,{"$f":"ROUND(N99*(1+'Повышение цен'!$C$20),0)","v":30436},30436,"ЗВПШ_10014035","ЗВПШ","L=1000, S=1400, H=350",null,{"$f":"ROUND(O99*(1+'Повышение цен'!$C$20),0)","v":32467},32467,25284,26971]
[null,"ЗВПШ_11013035","ЗВПШ","L=1100, S=1300, H=350",null,{"$f":"ROUND(N100*(1+'Повышение цен'!$C$20),0)","v":33312},33312,"ЗВПШ_11014035","ЗВПШ","L=1100, S=1400, H=350",null,{"$f":"ROUND(O100*(1+'Повышение цен'!$C$20),0)","v":35580},35580,27673,29557]
[null,"ЗВПШ_12013035","ЗВПШ","L=1200, S=1300, H=350",null,{"$f":"ROUND(N101*(1+'Повышение цен'!$C$20),0)","v":36413},36413,"ЗВПШ_12014035","ЗВПШ","L=1200, S=1400, H=350",null,{"$f":"ROUND(O101*(1+'Повышение цен'!$C$20),0)","v":37704},37704,30249,31321]
[null,"ЗВПШ_13013035","ЗВПШ","L=1300, S=1300, H=350",null,{"$f":"ROUND(N102*(1+'Повышение цен'!$C$20),0)","v":39406},39406,"ЗВПШ_13014035","ЗВПШ","L=1300, S=1400, H=350",null,{"$f":"ROUND(O102*(1+'Повышение цен'!$C$20),0)","v":40991},40991,32735,34052]
[null,"ЗВПШ_14013035","ЗВПШ","L=1400, S=1300, H=350",null,{"$f":"ROUND(N103*(1+'Повышение цен'!$C$20),0)","v":40558},40558,"ЗВПШ_14014035","ЗВПШ","L=1400, S=1400, H=350",null,{"$f":"ROUND(O103*(1+'Повышение цен'!$C$20),0)","v":43172},43172,33692,35864]
[null,"ЗВПШ_15013035","ЗВПШ","L=1500, S=1300, H=350",null,{"$f":"ROUND(N104*(1+'Повышение цен'!$C$20),0)","v":41244},41244,"ЗВПШ_15014035","ЗВПШ","L=1500, S=1400, H=350",null,{"$f":"ROUND(O104*(1+'Повышение цен'!$C$20),0)","v":44330},44330,34262,36826]
[null,"ЗВПШ_16013035","ЗВПШ","L=1600, S=1300, H=350",null,{"$f":"ROUND(N105*(1+'Повышение цен'!$C$20),0)","v":44607},44607,"ЗВПШ_16014035","ЗВПШ","L=1600, S=1400, H=350",null,{"$f":"ROUND(O105*(1+'Повышение цен'!$C$20),0)","v":46480},46480,37056,38612]
[null,"ЗВПШ_17013035","ЗВПШ","L=1700, S=1300, H=350",null,{"$f":"ROUND(N106*(1+'Повышение цен'!$C$20),0)","v":46602},46602,"ЗВПШ_17014035","ЗВПШ","L=1700, S=1400, H=350",null,{"$f":"ROUND(O106*(1+'Повышение цен'!$C$20),0)","v":51163},51163,38713,42502]
[null,"ЗВПШ_18013035","ЗВПШ","L=1800, S=1300, H=350",null,{"$f":"ROUND(N107*(1+'Повышение цен'!$C$20),0)","v":48618},48618,"ЗВПШ_18014035","ЗВПШ","L=1800, S=1400, H=350",null,{"$f":"ROUND(O107*(1+'Повышение цен'!$C$20),0)","v":53420},53420,40388,44377]
[null,"ЗВПШ_19013035","ЗВПШ","L=1900, S=1300, H=350",null,{"$f":"ROUND(N108*(1+'Повышение цен'!$C$20),0)","v":49136},49136,"ЗВПШ_19014035","ЗВПШ","L=1900, S=1400, H=350",null,{"$f":"ROUND(O108*(1+'Повышение цен'!$C$20),0)","v":55661},55661,40818,46239]
[null,"ЗВПШ_20013035","ЗВПШ","L=2000, S=1300, H=350",null,{"$f":"ROUND(N109*(1+'Повышение цен'!$C$20),0)","v":55761},55761,"ЗВПШ_20014035","ЗВПШ","L=2000, S=1400, H=350",null,{"$f":"ROUND(O109*(1+'Повышение цен'!$C$20),0)","v":60828},60828,46322,50531]
[null,"ЗВПШ_21013035","ЗВПШ","L=2100, S=1300, H=350",null,{"$f":"ROUND(N110*(1+'Повышение цен'!$C$20),0)","v":57876},57876,"ЗВПШ_21014035","ЗВПШ","L=2100, S=1400, H=350",null,{"$f":"ROUND(O110*(1+'Повышение цен'!$C$20),0)","v":63166},63166,48079,52473]
[null,"ЗВПШ_22013035","ЗВПШ","L=2200, S=1300, H=350",null,{"$f":"ROUND(N111*(1+'Повышение цен'!$C$20),0)","v":56596},56596,"ЗВПШ_22014035","ЗВПШ","L=2200, S=1400, H=350",null,{"$f":"ROUND(O111*(1+'Повышение цен'!$C$20),0)","v":65490},65490,47015,54404]
[null,"ЗВПШ_23013035","ЗВПШ","L=2300, S=1300, H=350",null,{"$f":"ROUND(N112*(1+'Повышение цен'!$C$20),0)","v":62141},62141,"ЗВПШ_23014035","ЗВПШ","L=2300, S=1400, H=350",null,{"$f":"ROUND(O112*(1+'Повышение цен'!$C$20),0)","v":71095},71095,51622,59060]
[null,"ЗВПШ_24013035","ЗВПШ","L=2400, S=1300, H=350",null,{"$f":"ROUND(N113*(1+'Повышение цен'!$C$20),0)","v":62344},62344,"ЗВПШ_24014035","ЗВПШ","L=2400, S=1400, H=350",null,{"$f":"ROUND(O113*(1+'Повышение цен'!$C$20),0)","v":72071},72071,51790,59871]
[null,"ЗВПШ_25013035","ЗВПШ","L=2500, S=1300, H=350",null,{"$f":"ROUND(N114*(1+'Повышение цен'!$C$20),0)","v":66422},66422,"ЗВПШ_25014035","ЗВПШ","L=2500, S=1400, H=350",null,{"$f":"ROUND(O114*(1+'Повышение цен'!$C$20),0)","v":74550},74550,55178,61930]
[]
[null,"Патрубок для подключения к вентиляции (отверстие прорезается по месту) "]
[]
[null,"ПТРЗВ_100","ПТРЗВ","D=100, H=150",null,null,null,null,null,{"$f":"ROUND(N118*(1+'Повышение цен'!$C$20),0)","v":728},{"$f":"ROUND(IF($E$4=\"С НДС\",J118*(1-$E$3),J118*(1-$E$3)/1.22),0)","v":728},null,null,605]
[null,"ПТРЗВ_120","ПТРЗВ","D=120, H=150",null,null,null,null,null,{"$f":"ROUND(N119*(1+'Повышение цен'!$C$20),0)","v":874},874,null,null,726]
[null,"ПТРЗВ_125","ПТРЗВ","D=125, H=150",null,null,null,null,null,{"$f":"ROUND(N120*(1+'Повышение цен'!$C$20),0)","v":947},947,null,null,787]
[null,"ПТРЗВ_150","ПТРЗВ","D=150, H=150",null,null,null,null,null,{"$f":"ROUND(N121*(1+'Повышение цен'!$C$20),0)","v":1165},1165,null,null,968]
[null,"ПТРЗВ_200","ПТРЗВ","D=200, H=150",null,null,null,null,null,{"$f":"ROUND(N122*(1+'Повышение цен'!$C$20),0)","v":1384},1384,null,null,1150]
[null,"ПТРЗВ_220","ПТРЗВ","D=220, H=150",null,null,null,null,null,{"$f":"ROUND(N123*(1+'Повышение цен'!$C$20),0)","v":1457},1457,null,null,1210]
[]
[null,"Комплект для освещения зонтов (на одну сторону) "]
[]
[null,"Артикул","Модель","Характеристика номенклатуры",null,null,null,null,null,"Базовая цена,","Ваша цена,",null,null,"Базовая цена,"]
[null,null,null,null,null,null,null,null,null,"руб","руб",null,null,"руб"]
[null,"ЗВ.160.40.00.00","ЗВ","Комплект для освещения зонта ЗВ.160.40.00.00 L=500 для ЗВП Э/ЗВП Ш",null,null,null,null,null,{"$f":"ROUND(N129*(1+'Повышение цен'!$C$20),0)","v":1955},{"$f":"ROUND(IF($E$4=\"С НДС\",J129*(1-$E$3),J129*(1-$E$3)/1.22),0)","v":1955},null,null,1624]
[null,"ЗВ.160.40.00.00-01","ЗВ","Комплект для освещения зонта ЗВ.160.40.00.00-01 L=600 для ЗВП Э/ЗВП Ш",null,null,null,null,null,{"$f":"ROUND(N130*(1+'Повышение цен'!$C$20),0)","v":1955},1955,null,null,1624]
[null,"ЗВ.160.40.00.00-02","ЗВ","Комплект для освещения зонта ЗВ.160.40.00.00-02 L=700 для ЗВП Э/ЗВП Ш",null,null,null,null,null,{"$f":"ROUND(N131*(1+'Повышение цен'!$C$20),0)","v":1955},1955,null,null,1624]
[null,"ЗВ.160.40.00.00-03","ЗВ","Комплект для освещения зонта ЗВ.160.40.00.00-03 L=800 для ЗВП Э/ЗВП Ш",null,null,null,null,null,{"$f":"ROUND(N132*(1+'Повышение цен'!$C$20),0)","v":2510},2510,null,null,2085]
[null,"ЗВ.160.40.00.00-04","ЗВ","Комплект для освещения зонта ЗВ.160.40.00.00-04 L=900 для ЗВП Э/ЗВП Ш",null,null,null,null,null,{"$f":"ROUND(N133*(1+'Повышение цен'!$C$20),0)","v":2510},2510,null,null,2085]
[null,"ЗВ.160.40.00.00-05","ЗВ","Комплект для освещения зонта ЗВ.160.40.00.00-05 L=1000 для ЗВП Э/ЗВП Ш",null,null,null,null,null,{"$f":"ROUND(N134*(1+'Повышение цен'!$C$20),0)","v":2510},2510,null,null,2085]
[null,"ЗВ.160.40.00.00-06","ЗВ","Комплект для освещения зонта ЗВ.160.40.00.00-06 L=1100 для ЗВП Э/ЗВП Ш",null,null,null,null,null,{"$f":"ROUND(N135*(1+'Повышение цен'!$C$20),0)","v":2699},2699,null,null,2242]
[null,"ЗВ.160.40.00.00-07","ЗВ","Комплект для освещения зонта ЗВ.160.40.00.00-07 L=1200 для ЗВП Э/ЗВП Ш",null,null,null,null,null,{"$f":"ROUND(N136*(1+'Повышение цен'!$C$20),0)","v":2947},2947,null,null,2448]
[null,"ЗВ.160.40.00.00-08","ЗВ","Комплект для освещения зонта ЗВ.160.40.00.00-08 L=1300 для ЗВП Э/ЗВП Ш",null,null,null,null,null,{"$f":"ROUND(N137*(1+'Повышение цен'!$C$20),0)","v":2947},2947,null,null,2448]
[null,"ЗВ.160.40.00.00-09","ЗВ","Комплект для освещения зонта ЗВ.160.40.00.00-09 L=1400 для ЗВП Э/ЗВП Ш",null,null,null,null,null,{"$f":"ROUND(N138*(1+'Повышение цен'!$C$20),0)","v":2947},2947,null,null,2448]
[null,"ЗВ.160.40.00.00-10","ЗВ","Комплект для освещения зонта ЗВ.160.40.00.00-10 L=1500 для ЗВП Э/ЗВП Ш",null,null,null,null,null,{"$f":"ROUND(N139*(1+'Повышение цен'!$C$20),0)","v":4612},4612,null,null,3831]
[null,"ЗВ.160.40.00.00-11","ЗВ","Комплект для освещения зонта ЗВ.160.40.00.00-11 L=1600 для ЗВП Э/ЗВП Ш",null,null,null,null,null,{"$f":"ROUND(N140*(1+'Повышение цен'!$C$20),0)","v":4612},4612,null,null,3831]
[null,"ЗВ.160.40.00.00-12","ЗВ","Комплект для освещения зонта ЗВ.160.40.00.00-12 L=1700 для ЗВП Э/ЗВП Ш",null,null,null,null,null,{"$f":"ROUND(N141*(1+'Повышение цен'!$C$20),0)","v":5014},5014,null,null,4165]
[null,"ЗВ.160.40.00.00-13","ЗВ","Комплект для освещения зонта ЗВ.160.40.00.00-13 L=1800 для ЗВП Э/ЗВП Ш",null,null,null,null,null,{"$f":"ROUND(N142*(1+'Повышение цен'!$C$20),0)","v":5014},5014,null,null,4165]
[null,"ЗВ.160.40.00.00-14","ЗВ","Комплект для освещения зонта ЗВ.160.40.00.00-14 L=1900 для ЗВП Э/ЗВП Ш",null,null,null,null,null,{"$f":"ROUND(N143*(1+'Повышение цен'!$C$20),0)","v":5386},5386,null,null,4474]
[null,"ЗВ.160.40.00.00-15","ЗВ","Комплект для освещения зонта ЗВ.160.40.00.00-15 L=2000 для ЗВП Э/ЗВП Ш",null,null,null,null,null,{"$f":"ROUND(N144*(1+'Повышение цен'!$C$20),0)","v":5386},5386,null,null,4474]
[null,"ЗВ.160.40.00.00-16","ЗВ","Комплект для освещения зонта ЗВ.160.40.00.00-16 L=2100 для ЗВП Э/ЗВП Ш",null,null,null,null,null,{"$f":"ROUND(N145*(1+'Повышение цен'!$C$20),0)","v":5386},5386,null,null,4474]
[null,"ЗВ.160.40.00.00-17","ЗВ","Комплект для освещения зонта ЗВ.160.40.00.00-17 L=2200 для ЗВП Э/ЗВП Ш",null,null,null,null,null,{"$f":"ROUND(N146*(1+'Повышение цен'!$C$20),0)","v":5886},5886,null,null,4890]
[null,"ЗВ.160.40.00.00-18","ЗВ","Комплект для освещения зонта ЗВ.160.40.00.00-18 L=2300 для ЗВП Э/ЗВП Ш",null,null,null,null,null,{"$f":"ROUND(N147*(1+'Повышение цен'!$C$20),0)","v":5886},5886,null,null,4890]
[null,"ЗВ.160.40.00.00-19","ЗВ","Комплект для освещения зонта ЗВ.160.40.00.00-19 L=2400 для ЗВП Э/ЗВП Ш",null,null,null,null,null,{"$f":"ROUND(N148*(1+'Повышение цен'!$C$20),0)","v":5886},5886,null,null,4890]
[null,"ЗВ.160.40.00.00-20","ЗВ","Комплект для освещения зонта ЗВ.160.40.00.00-20 L=2500 для ЗВП Э/ЗВП Ш",null,null,null,null,null,{"$f":"ROUND(N149*(1+'Повышение цен'!$C$20),0)","v":5886},5886,null,null,4890]

{"sheet":"Зонты островные","index":21,"n_rows":121,"n_cols":15,"rows_kept":121,"cut":false,"hidden":false,"merged":[[8,0,9,0],[8,1,9,4],[8,5,9,6],[8,7,9,7],[8,8,9,8],[8,9,9,10],[1,0,1,3],[2,0,2,3],[3,0,3,3],[6,1,6,11],[7,3,7,12],[18,9,18,10],[19,9,19,10],[20,9,20,10],[21,9,21,10],[22,9,22,10],[23,9,23,10],[10,1,25,4],[10,5,25,6],[10,9,10,10],[11,9,11,10],[12,9,12,10],[13,9,13,10],[14,9,14,10],[15,9,15,10],[16,9,16,10],[17,9,17,10],[29,3,29,4],[29,9,29,10],[30,3,30,4],[30,9,30,10],[31,3,31,4],[31,9,31,10],[25,9,25,10],[27,1,28,1],[27,2,28,2],[27,3,28,4],[27,7,28,7],[27,8,28,8],[27,9,28,10],[35,3,35,4],[35,9,35,10],[36,3,36,4],[36,9,36,10],[37,3,37,4],[37,9,37,10],[32,3,32,4],[32,9,32,10],[33,3,33,4],[33,9,33,10],[34,3,34,4],[34,9,34,10],[44,3,44,4],[44,9,44,10],[41,3,41,4],[41,9,41,10],[42,3,42,4],[42,9,42,10],[43,3,43,4],[43,9,43,10],[38,3,38,4],[38,9,38,10],[39,3,39,4],[39,9,39,10],[40,3,40,4],[40,9,40,10],[49,3,49,4],[49,9,49,10],[50,3,50,4],[50,9,50,10],[51,3,51,4],[51,9,51,10],[48,3,48,4],[48,9,48,10],[46,1,47,1],[46,2,47,2],[46,3,47,4],[46,7,47,7],[46,8,47,8],[46,9,47,10],[55,3,55,4],[55,9,55,10],[56,3,56,4],[56,9,56,10],[57,3,57,4],[57,9,57,10],[52,3,52,4],[52,9,52,10],[53,3,53,4],[53,9,53,10],[54,3,54,4],[54,9,54,10],[61,3,61,4],[61,9,61,10],[62,3,62,4],[62,9,62,10],[63,3,63,4],[63,9,63,10],[58,3,58,4],[58,9,58,10],[59,3,59,4],[59,9,59,10],[60,3,60,4],[60,9,60,10],[71,3,71,4],[71,9,71,10],[72,3,72,4],[72,9,72,10],[73,3,73,4],[73,9,73,10],[70,9,70,10],[70,3,70,4],[68,1,69,1],[68,2,69,2],[68,3,69,4],[68,7,69,7],[68,8,69,8],[68,9,69,10],[77,3,77,4],[77,9,77,10],[78,3,78,4],[78,9,78,10],[79,3,79,4],[79,9,79,10],[74,3,74,4],[74,9,74,10],[75,3,75,4],[75,9,75,10],[76,3,76,4],[76,9,76,10],[100,3,100,8],[101,3,101,8],[83,3,83,4],[83,9,83,10],[84,3,84,4],[84,9,84,10],[85,3,85,4],[85,9,85,10],[80,3,80,4],[80,9,80,10],[81,3,81,4],[81,9,81,10],[82,3,82,4],[82,9,82,10],[87,1,87,11],[89,3,89,8],[90,3,90,8],[91,3,91,8],[92,3,92,8],[93,3,93,8],[94,3,94,8],[120,3,120,8],[24,9,24,10],[114,3,114,8],[115,3,115,8],[116,3,116,8],[117,3,117,8],[118,3,118,8],[119,3,119,8],[108,3,108,8],[109,3,109,8],[110,3,110,8],[111,3,111,8],[112,3,112,8],[113,3,113,8],[102,3,102,8],[103,3,103,8],[104,3,104,8],[105,3,105,8],[106,3,106,8],[107,3,107,8],[96,1,96,11],[98,1,99,1],[98,2,99,2],[98,3,99,8]]}
["Нейтральное оборудование/Зонты островные",null,null,null,null,null,null,null,null,null,null,null,"На главную"]
[]
["Ваша скидка:",null,null,null,{"$f":"Содержание!C2","v":0}]
["НДС:",null,null,null,{"$f":"IF(Лист2!A1=TRUE,\"С НДС\",\"БЕЗ НДС\")","v":"С НДС"}]
[]
[]
[null,"Зонты вытяжные пристенные ЗВЦ Ш"]
[]
[null,"Изображение",null,null,null,"Техническое описание",null,"Артикул","Модель","Характеристика номенклатуры",null,"Базовая цена,","Ваша цена,",null,"Базовая цена,"]
[null,null,null,null,null,null,null,null,null,null,null,"руб","руб",null,"руб"]
[null,null,null,null,null,"шлифованная н/ст Aisi 430, сварная конструкция, без отверстия под воздуховод. Комплектация: комплект жироулавливающих фильтров двух типоразмеров, основной типоразмер - 200*380 мм и дополнительный 100*380 ( при длинне, кратной- 100), два сливных крана, планка крепления к стене, подсветка приобретается отдельно",null,"ЗВЦШ_10010035","ЗВЦШ","L=1000, S=1000, H=350",null,{"$f":"ROUND(O11*(1+'Повышение цен'!$C$20),0)","v":32224},{"$f":"ROUND(IF($E$4=\"С НДС\",L11*(1-$E$3),L11*(1-$E$3)/1.22),0)","v":32224},null,26769]
[null,null,null,null,null,null,null,"ЗВЦШ_11010035","ЗВЦШ","L=1100, S=1000, H=350",null,{"$f":"ROUND(O12*(1+'Повышение цен'!$C$20),0)","v":34562},{"$f":"ROUND(IF($E$4=\"С НДС\",L12*(1-$E$3),L12*(1-$E$3)/1.22),0)","v":34562},null,28711]
[null,null,null,null,null,null,null,"ЗВЦШ_12010035","ЗВЦШ","L=1200, S=1000, H=350",null,{"$f":"ROUND(O13*(1+'Повышение цен'!$C$20),0)","v":36477},36477,null,30302]
[null,null,null,null,null,null,null,"ЗВЦШ_13010035","ЗВЦШ","L=1300, S=1000, H=350",null,{"$f":"ROUND(O14*(1+'Повышение цен'!$C$20),0)","v":38388},38388,null,31890]
[null,null,null,null,null,null,null,"ЗВЦШ_14010035","ЗВЦШ","L=1400, S=1000, H=350",null,{"$f":"ROUND(O15*(1+'Повышение цен'!$C$20),0)","v":40304},40304,null,33481]
[null,null,null,null,null,null,null,"ЗВЦШ_15010035","ЗВЦШ","L=1500, S=1000, H=350",null,{"$f":"ROUND(O16*(1+'Повышение цен'!$C$20),0)","v":44287},44287,null,36790]
[null,null,null,null,null,null,null,"ЗВЦШ_16010035","ЗВЦШ","L=1600, S=1000, H=350",null,{"$f":"ROUND(O17*(1+'Повышение цен'!$C$20),0)","v":47379},47379,null,39359]
[null,null,null,null,null,null,null,"ЗВЦШ_17010035","ЗВЦШ","L=1700, S=1000, H=350",null,{"$f":"ROUND(O18*(1+'Повышение цен'!$C$20),0)","v":49295},49295,null,40950]
[null,null,null,null,null,null,null,"ЗВЦШ_18010035","ЗВЦШ","L=1800, S=1000, H=350",null,{"$f":"ROUND(O19*(1+'Повышение цен'!$C$20),0)","v":51206},51206,null,42538]
[null,null,null,null,null,null,null,"ЗВЦШ_19010035","ЗВЦШ","L=1900, S=1000, H=350",null,{"$f":"ROUND(O20*(1+'Повышение цен'!$C$20),0)","v":53057},53057,null,44075]
[null,null,null,null,null,null,null,"ЗВЦШ_20010035","ЗВЦШ","L=2000, S=1000, H=350",null,{"$f":"ROUND(O21*(1+'Повышение цен'!$C$20),0)","v":58222},58222,null,48366]
[null,null,null,null,null,null,null,"ЗВЦШ_21010035","ЗВЦШ","L=2100, S=1000, H=350",null,{"$f":"ROUND(O22*(1+'Повышение цен'!$C$20),0)","v":60069},60069,null,49900]
[null,null,null,null,null,null,null,"ЗВЦШ_22010035","ЗВЦШ","L=2200, S=1000, H=350",null,{"$f":"ROUND(O23*(1+'Повышение цен'!$C$20),0)","v":61984},61984,null,51491]
[null,null,null,null,null,null,null,"ЗВЦШ_23010035","ЗВЦШ","L=2300, S=1000, H=350",null,{"$f":"ROUND(O24*(1+'Повышение цен'!$C$20),0)","v":63895},63895,null,53079]
[null,null,null,null,null,null,null,"ЗВЦШ_24010035","ЗВЦШ","L=2400, S=1000, H=350",null,{"$f":"ROUND(O25*(1+'Повышение цен'!$C$20),0)","v":65811},65811,null,54670]
[null,null,null,null,null,null,null,"ЗВЦШ_25010035","ЗВЦШ","L=2500, S=1000, H=350",null,{"$f":"ROUND(O26*(1+'Повышение цен'!$C$20),0)","v":69547},69547,null,57774]
[]
[null,"Артикул","Модель","Характеристика номенклатуры",null,"Базовая цена,","Ваша цена,","Артикул","Модель","Характеристика номенклатуры",null,"Базовая цена,","Ваша цена,","Базовая цена,","Базовая цена,"]
[null,null,null,null,null,"руб","руб",null,null,null,null,"руб","руб","руб","руб"]
[null,"ЗВЦШ_10012035","ЗВЦШ","L=1000, S=1200, H=350",null,{"$f":"ROUND(N30*(1+'Повышение цен'!$C$20),0)","v":32337},{"$f":"ROUND(IF($E$4=\"С НДС\",F30*(1-$E$3),F30*(1-$E$3)/1.2),0)","v":32337},"ЗВЦШ_10014035","ЗВЦШ","L=1000, S=1400, H=350",null,{"$f":"ROUND(O30*(1+'Повышение цен'!$C$20),0)","v":34904},{"$f":"ROUND(IF($E$4=\"С НДС\",L30*(1-$E$3),L30*(1-$E$3)/1.22),0)","v":34904},26863,28995]
[null,"ЗВЦШ_11012035","ЗВЦШ","L=1100, S=1200, H=350",null,{"$f":"ROUND(N31*(1+'Повышение цен'!$C$20),0)","v":35320},35320,"ЗВЦШ_11014035","ЗВЦШ","L=1100, S=1400, H=350",null,{"$f":"ROUND(O31*(1+'Повышение цен'!$C$20),0)","v":37192},37192,29341,30896]
[null,"ЗВЦШ_12012035","ЗВЦШ","L=1200, S=1200, H=350",null,{"$f":"ROUND(N32*(1+'Повышение цен'!$C$20),0)","v":37199},37199,"ЗВЦШ_12014035","ЗВЦШ","L=1200, S=1400, H=350",null,{"$f":"ROUND(O32*(1+'Повышение цен'!$C$20),0)","v":39474},39474,30902,32792]
[null,"ЗВЦШ_13012035","ЗВЦШ","L=1300, S=1200, H=350",null,{"$f":"ROUND(N33*(1+'Повышение цен'!$C$20),0)","v":39112},39112,"ЗВЦШ_13014035","ЗВЦШ","L=1300, S=1400, H=350",null,{"$f":"ROUND(O33*(1+'Повышение цен'!$C$20),0)","v":46678},46678,32491,38776]
[null,"ЗВЦШ_14012035","ЗВЦШ","L=1400, S=1200, H=350",null,{"$f":"ROUND(N34*(1+'Повышение цен'!$C$20),0)","v":42319},42319,"ЗВЦШ_14014035","ЗВЦШ","L=1400, S=1400, H=350",null,{"$f":"ROUND(O34*(1+'Повышение цен'!$C$20),0)","v":48970},48970,35155,40680]
[null,"ЗВЦШ_15012035","ЗВЦШ","L=1500, S=1200, H=350",null,{"$f":"ROUND(N35*(1+'Повышение цен'!$C$20),0)","v":44288},44288,"ЗВЦШ_15014035","ЗВЦШ","L=1500, S=1400, H=350",null,{"$f":"ROUND(O35*(1+'Повышение цен'!$C$20),0)","v":51368},51368,36791,42672]
[null,"ЗВЦШ_16012035","ЗВЦШ","L=1600, S=1200, H=350",null,{"$f":"ROUND(N36*(1+'Повышение цен'!$C$20),0)","v":47679},47679,"ЗВЦШ_16014035","ЗВЦШ","L=1600, S=1400, H=350",null,{"$f":"ROUND(O36*(1+'Повышение цен'!$C$20),0)","v":54379},54379,39608,45174]
[null,"ЗВЦШ_17012035","ЗВЦШ","L=1700, S=1200, H=350",null,{"$f":"ROUND(N37*(1+'Повышение цен'!$C$20),0)","v":51217},51217,"ЗВЦШ_17014035","ЗВЦШ","L=1700, S=1400, H=350",null,{"$f":"ROUND(O37*(1+'Повышение цен'!$C$20),0)","v":56475},56475,42547,46915]
[null,"ЗВЦШ_18012035","ЗВЦШ","L=1800, S=1200, H=350",null,{"$f":"ROUND(N38*(1+'Повышение цен'!$C$20),0)","v":53274},53274,"ЗВЦШ_18014035","ЗВЦШ","L=1800, S=1400, H=350",null,{"$f":"ROUND(O38*(1+'Повышение цен'!$C$20),0)","v":59019},59019,44256,49028]
[null,"ЗВЦШ_19012035","ЗВЦШ","L=1900, S=1200, H=350",null,{"$f":"ROUND(N39*(1+'Повышение цен'!$C$20),0)","v":55368},55368,"ЗВЦШ_19014035","ЗВЦШ","L=1900, S=1400, H=350",null,{"$f":"ROUND(O39*(1+'Повышение цен'!$C$20),0)","v":62747},62747,45995,52125]
[null,"ЗВЦШ_20012035","ЗВЦШ","L=2000, S=1200, H=350",null,{"$f":"ROUND(N40*(1+'Повышение цен'!$C$20),0)","v":59127},59127,"ЗВЦШ_20014035","ЗВЦШ","L=2000, S=1400, H=350",null,{"$f":"ROUND(O40*(1+'Повышение цен'!$C$20),0)","v":65186},65186,49118,54151]
[null,"ЗВЦШ_21012035","ЗВЦШ","L=2100, S=1200, H=350",null,{"$f":"ROUND(N41*(1+'Повышение цен'!$C$20),0)","v":64275},64275,"ЗВЦШ_21014035","ЗВЦШ","L=2100, S=1400, H=350",null,{"$f":"ROUND(O41*(1+'Повышение цен'!$C$20),0)","v":70700},70700,53394,58732]
[null,"ЗВЦШ_22012035","ЗВЦШ","L=2200, S=1200, H=350",null,{"$f":"ROUND(N42*(1+'Повышение цен'!$C$20),0)","v":66323},66323,"ЗВЦШ_22014035","ЗВЦШ","L=2200, S=1400, H=350",null,{"$f":"ROUND(O42*(1+'Повышение цен'!$C$20),0)","v":72956},72956,55096,60606]
[null,"ЗВЦШ_23012035","ЗВЦШ","L=2300, S=1200, H=350",null,{"$f":"ROUND(N43*(1+'Повышение цен'!$C$20),0)","v":68370},68370,"ЗВЦШ_23014035","ЗВЦШ","L=2300, S=1400, H=350",null,{"$f":"ROUND(O43*(1+'Повышение цен'!$C$20),0)","v":75207},75207,56796,62476]
[null,"ЗВЦШ_24012035","ЗВЦШ","L=2400, S=1200, H=350",null,{"$f":"ROUND(N44*(1+'Повышение цен'!$C$20),0)","v":70415},70415,"ЗВЦШ_24014035","ЗВЦШ","L=2400, S=1400, H=350",null,{"$f":"ROUND(O44*(1+'Повышение цен'!$C$20),0)","v":77458},77458,58495,64346]
[null,"ЗВЦШ_25012035","ЗВЦШ","L=2500, S=1200, H=350",null,{"$f":"ROUND(N45*(1+'Повышение цен'!$C$20),0)","v":74418},74418,"ЗВЦШ_25014035","ЗВЦШ","L=2500, S=1400, H=350",null,{"$f":"ROUND(O45*(1+'Повышение цен'!$C$20),0)","v":81859},81859,61820,68002]
[]
[null,"Артикул","Модель","Характеристика номенклатуры",null,"Базовая цена,","Ваша цена,","Артикул","Модель","Характеристика номенклатуры",null,"Базовая цена,","Ваша цена,","Базовая цена,","Базовая цена,"]
[null,null,null,null,null,"руб","руб",null,null,null,null,"руб","руб","руб","руб"]
[null,"ЗВЦШ_10016035","ЗВЦШ","L=1000, S=1600, H=350",null,{"$f":"ROUND(N49*(1+'Повышение цен'!$C$20),0)","v":37259},{"$f":"ROUND(IF($E$4=\"С НДС\",F49*(1-$E$3),F49*(1-$E$3)/1.2),0)","v":37259},"ЗВЦШ_10018035","ЗВЦШ","L=1000, S=1800, H=350",null,{"$f":"ROUND(O49*(1+'Повышение цен'!$C$20),0)","v":39722},{"$f":"ROUND(IF($E$4=\"С НДС\",L49*(1-$E$3),L49*(1-$E$3)/1.22),0)","v":39722},30952,32998]
[null,"ЗВЦШ_11016035","ЗВЦШ","L=1100, S=1600, H=350",null,{"$f":"ROUND(N50*(1+'Повышение цен'!$C$20),0)","v":40809},40809,"ЗВЦШ_11018035","ЗВЦШ","L=1100, S=1800, H=350",null,{"$f":"ROUND(O50*(1+'Повышение цен'!$C$20),0)","v":42277},42277,33901,35120]
[null,"ЗВЦШ_12016035","ЗВЦШ","L=1200, S=1600, H=350",null,{"$f":"ROUND(N51*(1+'Повышение цен'!$C$20),0)","v":43289},43289,"ЗВЦШ_12018035","ЗВЦШ","L=1200, S=1800, H=350",null,{"$f":"ROUND(O51*(1+'Повышение цен'!$C$20),0)","v":44814},44814,35961,37228]
[null,"ЗВЦШ_13016035","ЗВЦШ","L=1300, S=1600, H=350",null,{"$f":"ROUND(N52*(1+'Повышение цен'!$C$20),0)","v":48312},48312,"ЗВЦШ_13018035","ЗВЦШ","L=1300, S=1800, H=350",null,{"$f":"ROUND(O52*(1+'Повышение цен'!$C$20),0)","v":48686},48686,40134,40444]
[null,"ЗВЦШ_14016035","ЗВЦШ","L=1400, S=1600, H=350",null,{"$f":"ROUND(N53*(1+'Повышение цен'!$C$20),0)","v":50931},50931,"ЗВЦШ_14018035","ЗВЦШ","L=1400, S=1800, H=350",null,{"$f":"ROUND(O53*(1+'Повышение цен'!$C$20),0)","v":51292},51292,42309,42609]
[null,"ЗВЦШ_15016035","ЗВЦШ","L=1500, S=1600, H=350",null,{"$f":"ROUND(N54*(1+'Повышение цен'!$C$20),0)","v":53557},53557,"ЗВЦШ_15018035","ЗВЦШ","L=1500, S=1800, H=350",null,{"$f":"ROUND(O54*(1+'Повышение цен'!$C$20),0)","v":53920},53920,44491,44792]
[null,"ЗВЦШ_16016035","ЗВЦШ","L=1600, S=1600, H=350",null,{"$f":"ROUND(N55*(1+'Повышение цен'!$C$20),0)","v":56513},56513,"ЗВЦШ_16018035","ЗВЦШ","L=1600, S=1800, H=350",null,{"$f":"ROUND(O55*(1+'Повышение цен'!$C$20),0)","v":59923},59923,46946,49779]
[null,"ЗВЦШ_17016035","ЗВЦШ","L=1700, S=1600, H=350",null,{"$f":"ROUND(N56*(1+'Повышение цен'!$C$20),0)","v":58795},58795,"ЗВЦШ_17018035","ЗВЦШ","L=1700, S=1800, H=350",null,{"$f":"ROUND(O56*(1+'Повышение цен'!$C$20),0)","v":60755},60755,48842,50470]
[null,"ЗВЦШ_18016035","ЗВЦШ","L=1800, S=1600, H=350",null,{"$f":"ROUND(N57*(1+'Повышение цен'!$C$20),0)","v":61406},61406,"ЗВЦШ_18018035","ЗВЦШ","L=1800, S=1800, H=350",null,{"$f":"ROUND(O57*(1+'Повышение цен'!$C$20),0)","v":61761},61761,51011,51306]
[null,"ЗВЦШ_19016035","ЗВЦШ","L=1900, S=1600, H=350",null,{"$f":"ROUND(N58*(1+'Повышение цен'!$C$20),0)","v":64034},64034,"ЗВЦШ_19018035","ЗВЦШ","L=1900, S=1800, H=350",null,{"$f":"ROUND(O58*(1+'Повышение цен'!$C$20),0)","v":64382},64382,53194,53483]
[null,"ЗВЦШ_20016035","ЗВЦШ","L=2000, S=1600, H=350",null,{"$f":"ROUND(N59*(1+'Повышение цен'!$C$20),0)","v":66644},66644,"ЗВЦШ_20018035","ЗВЦШ","L=2000, S=1800, H=350",null,{"$f":"ROUND(O59*(1+'Повышение цен'!$C$20),0)","v":66997},66997,55362,55656]
[null,"ЗВЦШ_21016035","ЗВЦШ","L=2100, S=1600, H=350",null,{"$f":"ROUND(N60*(1+'Повышение цен'!$C$20),0)","v":74726},74726,"ЗВЦШ_21018035","ЗВЦШ","L=2100, S=1800, H=350",null,{"$f":"ROUND(O60*(1+'Повышение цен'!$C$20),0)","v":76775},76775,62076,63778]
[null,"ЗВЦШ_22016035","ЗВЦШ","L=2200, S=1600, H=350",null,{"$f":"ROUND(N61*(1+'Повышение цен'!$C$20),0)","v":80801},80801,"ЗВЦШ_22018035","ЗВЦШ","L=2200, S=1800, H=350",null,{"$f":"ROUND(O61*(1+'Повышение цен'!$C$20),0)","v":84840},84840,67123,70478]
[null,"ЗВЦШ_23016035","ЗВЦШ","L=2300, S=1600, H=350",null,{"$f":"ROUND(N62*(1+'Повышение цен'!$C$20),0)","v":85188},85188,"ЗВЦШ_23018035","ЗВЦШ","L=2300, S=1800, H=350",null,{"$f":"ROUND(O62*(1+'Повышение цен'!$C$20),0)","v":89448},89448,70767,74306]
[null,"ЗВЦШ_24016035","ЗВЦШ","L=2400, S=1600, H=350",null,{"$f":"ROUND(N63*(1+'Повышение цен'!$C$20),0)","v":89577},89577,"ЗВЦШ_24018035","ЗВЦШ","L=2400, S=1800, H=350",null,{"$f":"ROUND(O63*(1+'Повышение цен'!$C$20),0)","v":94056},94056,74413,78134]
[null,"ЗВЦШ_25016035","ЗВЦШ","L=2500, S=1600, H=350",null,{"$f":"ROUND(N64*(1+'Повышение цен'!$C$20),0)","v":94860},94860,"ЗВЦШ_25018035","ЗВЦШ","L=2500, S=1800, H=350",null,{"$f":"ROUND(O64*(1+'Повышение цен'!$C$20),0)","v":99602},99602,78802,82741]
[]
[]
[]
[]
[null,"Артикул","Модель","Характеристика номенклатуры",null,"Базовая цена,","Ваша цена,","Артикул","Модель","Характеристика номенклатуры",null,"Базовая цена,","Ваша цена,","Базовая цена,","Базовая цена,"]
[null,null,null,null,null,"руб","руб",null,null,null,null,"руб","руб","руб","руб"]
[null,"ЗВЦШ_10020035","ЗВЦШ","L=1000, S=2000, H=350",null,{"$f":"ROUND(N71*(1+'Повышение цен'!$C$20),0)","v":41139},{"$f":"ROUND(IF($E$4=\"С НДС\",F71*(1-$E$3),F71*(1-$E$3)/1.2),0)","v":41139},"ЗВЦШ_10022035","ЗВЦШ","L=1000, S=2200, H=350",null,{"$f":"ROUND(O71*(1+'Повышение цен'!$C$20),0)","v":45254},{"$f":"ROUND(IF($E$4=\"С НДС\",L71*(1-$E$3),L71*(1-$E$3)/1.22),0)","v":45254},34175,37593]
[null,"ЗВЦШ_11020035","ЗВЦШ","L=1100, S=2000, H=350",null,{"$f":"ROUND(N72*(1+'Повышение цен'!$C$20),0)","v":43750},43750,"ЗВЦШ_11022035","ЗВЦШ","L=1100, S=2200, H=350",null,{"$f":"ROUND(O72*(1+'Повышение цен'!$C$20),0)","v":48125},48125,36344,39978]
[null,"ЗВЦШ_12020035","ЗВЦШ","L=1200, S=2000, H=350",null,{"$f":"ROUND(N73*(1+'Повышение цен'!$C$20),0)","v":47653},47653,"ЗВЦШ_12022035","ЗВЦШ","L=1200, S=2200, H=350",null,{"$f":"ROUND(O73*(1+'Повышение цен'!$C$20),0)","v":52417},52417,39586,43544]
[null,"ЗВЦШ_13020035","ЗВЦШ","L=1300, S=2000, H=350",null,{"$f":"ROUND(N74*(1+'Повышение цен'!$C$20),0)","v":50341},50341,"ЗВЦШ_13022035","ЗВЦШ","L=1300, S=2200, H=350",null,{"$f":"ROUND(O74*(1+'Повышение цен'!$C$20),0)","v":55375},55375,41819,46001]
[null,"ЗВЦШ_14020035","ЗВЦШ","L=1400, S=2000, H=350",null,{"$f":"ROUND(N75*(1+'Повышение цен'!$C$20),0)","v":53019},53019,"ЗВЦШ_14022035","ЗВЦШ","L=1400, S=2200, H=350",null,{"$f":"ROUND(O75*(1+'Повышение цен'!$C$20),0)","v":58323},58323,44044,48450]
[null,"ЗВЦШ_15020035","ЗВЦШ","L=1500, S=2000, H=350",null,{"$f":"ROUND(N76*(1+'Повышение цен'!$C$20),0)","v":57208},57208,"ЗВЦШ_15022035","ЗВЦШ","L=1500, S=2200, H=350",null,{"$f":"ROUND(O76*(1+'Повышение цен'!$C$20),0)","v":62931},62931,47524,52278]
[null,"ЗВЦШ_16020035","ЗВЦШ","L=1600, S=2000, H=350",null,{"$f":"ROUND(N77*(1+'Повышение цен'!$C$20),0)","v":61785},61785,"ЗВЦШ_16022035","ЗВЦШ","L=1600, S=2200, H=350",null,{"$f":"ROUND(O77*(1+'Повышение цен'!$C$20),0)","v":67964},67964,51326,56459]
[null,"ЗВЦШ_17020035","ЗВЦШ","L=1700, S=2000, H=350",null,{"$f":"ROUND(N78*(1+'Повышение цен'!$C$20),0)","v":62737},62737,"ЗВЦШ_17022035","ЗВЦШ","L=1700, S=2200, H=350",null,{"$f":"ROUND(O78*(1+'Повышение цен'!$C$20),0)","v":69013},69013,52117,57330]
[null,"ЗВЦШ_18020035","ЗВЦШ","L=1800, S=2000, H=350",null,{"$f":"ROUND(N79*(1+'Повышение цен'!$C$20),0)","v":65482},65482,"ЗВЦШ_18022035","ЗВЦШ","L=1800, S=2200, H=350",null,{"$f":"ROUND(O79*(1+'Повышение цен'!$C$20),0)","v":72030},72030,54397,59837]
[null,"ЗВЦШ_19020035","ЗВЦШ","L=1900, S=2000, H=350",null,{"$f":"ROUND(N80*(1+'Повышение цен'!$C$20),0)","v":68247},68247,"ЗВЦШ_19022035","ЗВЦШ","L=1900, S=2200, H=350",null,{"$f":"ROUND(O80*(1+'Повышение цен'!$C$20),0)","v":75069},75069,56694,62361]
[null,"ЗВЦШ_20020035","ЗВЦШ","L=2000, S=2000, H=350",null,{"$f":"ROUND(N81*(1+'Повышение цен'!$C$20),0)","v":71000},71000,"ЗВЦШ_20022035","ЗВЦШ","L=2000, S=2200, H=350",null,{"$f":"ROUND(O81*(1+'Повышение цен'!$C$20),0)","v":78100},78100,58981,64879]
[null,"ЗВЦШ_21020035","ЗВЦШ","L=2100, S=2000, H=350",null,{"$f":"ROUND(N82*(1+'Повышение цен'!$C$20),0)","v":80615},80615,"ЗВЦШ_21022035","ЗВЦШ","L=2100, S=2200, H=350",null,{"$f":"ROUND(O82*(1+'Повышение цен'!$C$20),0)","v":88676},88676,66968,73665]
[null,"ЗВЦШ_22020035","ЗВЦШ","L=2200, S=2000, H=350",null,{"$f":"ROUND(N83*(1+'Повышение цен'!$C$20),0)","v":89083},89083,"ЗВЦШ_22022035","ЗВЦШ","L=2200, S=2200, H=350",null,{"$f":"ROUND(O83*(1+'Повышение цен'!$C$20),0)","v":97990},97990,74003,81402]
[null,"ЗВЦШ_23020035","ЗВЦШ","L=2300, S=2000, H=350",null,{"$f":"ROUND(N84*(1+'Повышение цен'!$C$20),0)","v":93921},93921,"ЗВЦШ_23022035","ЗВЦШ","L=2300, S=2200, H=350",null,{"$f":"ROUND(O84*(1+'Повышение цен'!$C$20),0)","v":103312},103312,78022,85823]
[null,"ЗВЦШ_24020035","ЗВЦШ","L=2400, S=2000, H=350",null,{"$f":"ROUND(N85*(1+'Повышение цен'!$C$20),0)","v":98759},98759,"ЗВЦШ_24022035","ЗВЦШ","L=2400, S=2200, H=350",null,{"$f":"ROUND(O85*(1+'Повышение цен'!$C$20),0)","v":108635},108635,82041,90245]
[null,"ЗВЦШ_25020035","ЗВЦШ","L=2500, S=2000, H=350",null,{"$f":"ROUND(N86*(1+'Повышение цен'!$C$20),0)","v":104582},104582,"ЗВЦШ_25022035","ЗВЦШ","L=2500, S=2200, H=350",null,{"$f":"ROUND(O86*(1+'Повышение цен'!$C$20),0)","v":115040},115040,86878,95566]
[]
[null,"Патрубок для подключения к вентиляции (отверстие прорезается по месту) "]
[]
[null,"ПТРЗВ_100","ПТРЗВ","D=100, H=150",null,null,null,null,null,{"$f":"ROUND(N90*(1+'Повышение цен'!$C$20),0)","v":728},{"$f":"ROUND(IF($E$4=\"С НДС\",J90*(1-$E$3),J90*(1-$E$3)/1.22),0)","v":728},null,null,605]
[null,"ПТРЗВ_120","ПТРЗВ","D=120, H=150",null,null,null,null,null,{"$f":"ROUND(N91*(1+'Повышение цен'!$C$20),0)","v":874},874,null,null,726]
[null,"ПТРЗВ_125","ПТРЗВ","D=125, H=150",null,null,null,null,null,{"$f":"ROUND(N92*(1+'Повышение цен'!$C$20),0)","v":947},947,null,null,787]
[null,"ПТРЗВ_150","ПТРЗВ","D=150, H=150",null,null,null,null,null,{"$f":"ROUND(N93*(1+'Повышение цен'!$C$20),0)","v":1165},1165,null,null,968]
[null,"ПТРЗВ_200","ПТРЗВ","D=200, H=150",null,null,null,null,null,{"$f":"ROUND(N94*(1+'Повышение цен'!$C$20),0)","v":1384},1384,null,null,1150]
[null,"ПТРЗВ_220","ПТРЗВ","D=220, H=150",null,null,null,null,null,{"$f":"ROUND(N95*(1+'Повышение цен'!$C$20),0)","v":1457},1457,null,null,1210]
[]
[null,"Комплект для освещения зонтов (на одну сторону), на две стороны приобретается 2 комплекта !!!"]
[]
[null,"Артикул","Модель","Характеристика номенклатуры",null,null,null,null,null,"Базовая цена,","Ваша цена,"]
[null,null,null,null,null,null,null,null,null,"руб","руб"]
[null,"ЗВ.160.40.00.00","ЗВ","Комплект для освещения зонта ЗВ.160.40.00.00 L=500 для ЗВП Э/ЗВП Ш",null,null,null,null,null,{"$f":"ROUND(N101*(1+'Повышение цен'!$C$20),0)","v":1955},{"$f":"ROUND(IF($E$4=\"С НДС\",J101*(1-$E$3),J101*(1-$E$3)/1.22),0)","v":1955},null,null,1624]
[null,"ЗВ.160.40.00.00-01","ЗВ","Комплект для освещения зонта ЗВ.160.40.00.00-01 L=600 для ЗВП Э/ЗВП Ш",null,null,null,null,null,{"$f":"ROUND(N102*(1+'Повышение цен'!$C$20),0)","v":1955},1955,null,null,1624]
[null,"ЗВ.160.40.00.00-02","ЗВ","Комплект для освещения зонта ЗВ.160.40.00.00-02 L=700 для ЗВП Э/ЗВП Ш",null,null,null,null,null,{"$f":"ROUND(N103*(1+'Повышение цен'!$C$20),0)","v":1955},1955,null,null,1624]
[null,"ЗВ.160.40.00.00-03","ЗВ","Комплект для освещения зонта ЗВ.160.40.00.00-03 L=800 для ЗВП Э/ЗВП Ш",null,null,null,null,null,{"$f":"ROUND(N104*(1+'Повышение цен'!$C$20),0)","v":2510},2510,null,null,2085]
[null,"ЗВ.160.40.00.00-04","ЗВ","Комплект для освещения зонта ЗВ.160.40.00.00-04 L=900 для ЗВП Э/ЗВП Ш",null,null,null,null,null,{"$f":"ROUND(N105*(1+'Повышение цен'!$C$20),0)","v":2510},2510,null,null,2085]
[null,"ЗВ.160.40.00.00-05","ЗВ","Комплект для освещения зонта ЗВ.160.40.00.00-05 L=1000 для ЗВП Э/ЗВП Ш",null,null,null,null,null,{"$f":"ROUND(N106*(1+'Повышение цен'!$C$20),0)","v":2510},2510,null,null,2085]
[null,"ЗВ.160.40.00.00-06","ЗВ","Комплект для освещения зонта ЗВ.160.40.00.00-06 L=1100 для ЗВП Э/ЗВП Ш",null,null,null,null,null,{"$f":"ROUND(N107*(1+'Повышение цен'!$C$20),0)","v":2699},2699,null,null,2242]
[null,"ЗВ.160.40.00.00-07","ЗВ","Комплект для освещения зонта ЗВ.160.40.00.00-07 L=1200 для ЗВП Э/ЗВП Ш",null,null,null,null,null,{"$f":"ROUND(N108*(1+'Повышение цен'!$C$20),0)","v":2947},2947,null,null,2448]
[null,"ЗВ.160.40.00.00-08","ЗВ","Комплект для освещения зонта ЗВ.160.40.00.00-08 L=1300 для ЗВП Э/ЗВП Ш",null,null,null,null,null,{"$f":"ROUND(N109*(1+'Повышение цен'!$C$20),0)","v":2947},2947,null,null,2448]
[null,"ЗВ.160.40.00.00-09","ЗВ","Комплект для освещения зонта ЗВ.160.40.00.00-09 L=1400 для ЗВП Э/ЗВП Ш",null,null,null,null,null,{"$f":"ROUND(N110*(1+'Повышение цен'!$C$20),0)","v":2947},2947,null,null,2448]
[null,"ЗВ.160.40.00.00-10","ЗВ","Комплект для освещения зонта ЗВ.160.40.00.00-10 L=1500 для ЗВП Э/ЗВП Ш",null,null,null,null,null,{"$f":"ROUND(N111*(1+'Повышение цен'!$C$20),0)","v":4612},4612,null,null,3831]
[null,"ЗВ.160.40.00.00-11","ЗВ","Комплект для освещения зонта ЗВ.160.40.00.00-11 L=1600 для ЗВП Э/ЗВП Ш",null,null,null,null,null,{"$f":"ROUND(N112*(1+'Повышение цен'!$C$20),0)","v":4612},4612,null,null,3831]
[null,"ЗВ.160.40.00.00-12","ЗВ","Комплект для освещения зонта ЗВ.160.40.00.00-12 L=1700 для ЗВП Э/ЗВП Ш",null,null,null,null,null,{"$f":"ROUND(N113*(1+'Повышение цен'!$C$20),0)","v":5014},5014,null,null,4165]
[null,"ЗВ.160.40.00.00-13","ЗВ","Комплект для освещения зонта ЗВ.160.40.00.00-13 L=1800 для ЗВП Э/ЗВП Ш",null,null,null,null,null,{"$f":"ROUND(N114*(1+'Повышение цен'!$C$20),0)","v":5014},5014,null,null,4165]
[null,"ЗВ.160.40.00.00-14","ЗВ","Комплект для освещения зонта ЗВ.160.40.00.00-14 L=1900 для ЗВП Э/ЗВП Ш",null,null,null,null,null,{"$f":"ROUND(N115*(1+'Повышение цен'!$C$20),0)","v":5386},5386,null,null,4474]
[null,"ЗВ.160.40.00.00-15","ЗВ","Комплект для освещения зонта ЗВ.160.40.00.00-15 L=2000 для ЗВП Э/ЗВП Ш",null,null,null,null,null,{"$f":"ROUND(N116*(1+'Повышение цен'!$C$20),0)","v":5386},5386,null,null,4474]
[null,"ЗВ.160.40.00.00-16","ЗВ","Комплект для освещения зонта ЗВ.160.40.00.00-16 L=2100 для ЗВП Э/ЗВП Ш",null,null,null,null,null,{"$f":"ROUND(N117*(1+'Повышение цен'!$C$20),0)","v":5386},5386,null,null,4474]
[null,"ЗВ.160.40.00.00-17","ЗВ","Комплект для освещения зонта ЗВ.160.40.00.00-17 L=2200 для ЗВП Э/ЗВП Ш",null,null,null,null,null,{"$f":"ROUND(N118*(1+'Повышение цен'!$C$20),0)","v":5886},5886,null,null,4890]
[null,"ЗВ.160.40.00.00-18","ЗВ","Комплект для освещения зонта ЗВ.160.40.00.00-18 L=2300 для ЗВП Э/ЗВП Ш",null,null,null,null,null,{"$f":"ROUND(N119*(1+'Повышение цен'!$C$20),0)","v":5886},5886,null,null,4890]
[null,"ЗВ.160.40.00.00-19","ЗВ","Комплект для освещения зонта ЗВ.160.40.00.00-19 L=2400 для ЗВП Э/ЗВП Ш",null,null,null,null,null,{"$f":"ROUND(N120*(1+'Повышение цен'!$C$20),0)","v":5886},5886,null,null,4890]
[null,"ЗВ.160.40.00.00-20","ЗВ","Комплект для освещения зонта ЗВ.160.40.00.00-20 L=2500 для ЗВП Э/ЗВП Ш",null,null,null,null,null,{"$f":"ROUND(N121*(1+'Повышение цен'!$C$20),0)","v":5886},5886,null,null,4890]

{"sheet":"Подставки,подтоварники,тележки","index":22,"n_rows":103,"n_cols":15,"rows_kept":103,"cut":false,"hidden":true,"merged":[[102,2,102,4],[102,6,102,9],[96,1,96,10],[98,1,99,1],[98,2,99,4],[98,5,99,5],[98,6,99,9],[98,12,99,13],[100,12,101,13],[101,2,101,4],[101,6,101,9],[102,12,102,13],[91,12,92,13],[93,1,94,1],[93,2,93,4],[93,6,93,9],[93,12,94,13],[66,12,76,13],[73,2,73,4],[73,6,73,9],[79,6,80,6],[79,9,80,9],[85,3,85,7],[86,3,86,6],[80,12,86,13],[78,12,78,13],[79,2,80,2],[79,7,80,7],[79,12,79,13],[83,9,83,11],[84,10,84,11],[85,8,85,11],[69,6,69,9],[58,2,58,4],[58,6,58,9],[59,2,59,4],[59,6,59,9],[91,2,92,4],[91,5,92,5],[91,6,92,9],[89,1,89,10],[91,1,92,1],[1,0,1,2],[2,0,2,2],[3,0,3,2],[3,4,3,8],[6,1,6,10],[7,2,7,11],[27,12,28,13],[29,1,34,1],[29,2,29,4],[29,6,29,9],[29,12,34,13],[30,2,30,4],[30,6,30,9],[31,2,31,4],[31,6,31,9],[32,2,32,4],[32,6,32,9],[33,2,33,4],[33,6,33,9],[34,2,34,4],[34,6,34,9],[10,12,11,13],[11,2,11,4],[11,6,11,9],[8,12,9,13],[12,0,12,11],[10,1,11,1],[10,2,10,4],[10,6,10,9],[8,0,9,0],[8,1,9,1],[8,2,9,4],[8,5,9,5],[8,6,9,9],[14,2,14,11],[27,0,28,0],[27,1,28,1],[27,2,28,4],[27,5,28,5],[27,6,28,9],[25,1,25,10],[46,1,46,10],[14,12,14,13],[15,2,16,2],[15,12,15,13],[16,12,22,13],[19,10,19,11],[21,9,21,11],[22,3,22,4],[35,0,35,11],[37,2,37,11],[37,12,37,13],[38,2,39,2],[38,7,39,7],[38,12,38,13],[39,12,44,13],[43,10,43,11],[44,3,44,4],[48,0,49,0],[48,1,49,1],[48,2,49,4],[48,5,49,5],[48,6,49,9],[48,12,49,13],[50,1,60,1],[62,1,62,10],[64,1,65,1],[64,2,65,4],[64,5,65,5],[64,6,65,9],[50,2,50,4],[50,6,50,9],[50,12,60,13],[51,2,51,4],[51,6,51,9],[52,2,52,4],[52,6,52,9],[53,2,53,4],[53,6,53,9],[54,2,54,4],[54,6,54,9],[60,2,60,4],[64,12,65,13],[66,2,66,4],[66,6,66,9],[67,2,67,4],[67,6,67,9],[68,2,68,4],[68,6,68,9],[69,2,69,4],[74,2,74,4],[74,6,74,9],[22,7,22,11],[15,7,16,7],[20,10,20,11],[100,2,100,4],[100,6,100,9],[94,2,94,4],[94,6,94,9],[78,2,78,11],[66,1,76,1],[70,2,70,4],[70,6,70,9],[72,2,72,4],[72,6,72,9],[75,2,75,4],[75,6,75,9],[76,2,76,4],[76,6,76,9],[44,8,44,11],[42,9,42,11],[60,6,60,9],[56,2,56,4],[56,6,56,9],[57,2,57,4],[57,6,57,9]]}
["Нейтральное оборудование/Подставки, подтоварники, тележки",null,null,null,null,null,null,null,null,null,null,null,null,"На главную"]
[]
["Ваша скидка:",null,null,{"$f":"Содержание!C2","v":0}]
["НДС:",null,null,{"$f":"IF(Лист2!A1=TRUE,\"С НДС\",\"БЕЗ НДС\")","v":"С НДС"},"Складская программа"]
[]
[]
[null,"Подставки для пароконвектоматов ПКО Ш"]
[]
[null,"Изображение","Артикул",null,null,"Модель","Характеристика номенклатуры",null,null,null,"Базовая цена,","Ваша цена,","Техническое описание",null,"Базовая цена,"]
[null,null,null,null,null,null,null,null,null,null,"руб","руб",null,null,"руб"]
[null,null,"ПКОШ_847069_1х6GN1/1",null,null,"ПКОШ","L=840, S=700, H=690, 1х6,GN1/1",null,null,null,{"$f":"ROUND(O11*(1+'Повышение цен'!$C$22),0)","v":25941},{"$f":"ROUND(IF($D$4=\"С НДС\",K11*(1-$D$3),K11*(1-$D$3)/1.2),0)","v":25941},"шлифованная н/ст, толщина стали  - 1 мм, сварная конструкция, каркас - труба 40*40*1,2 мм, направляющие для гастроемкостей GN1/1, кол-во уровней и направляющих указано в обозначении, в комплекте фиксаторы для настольного оборудования, крепятся по месту. регулируемые ножки(+/-20мм), ",null,21550]
[null,null,"ПКОШ_857370_2х7GN1/1",null,null,"ПКОШ","L=850, S=730, H=700, 2х7,GN1/1",null,null,null,{"$f":"ROUND(O12*(1+'Повышение цен'!$C$22),0)","v":30419},30419,null,null,25270]
[]
[]
[null,null,"Формула расчета цены",null,null,null,null,null,null,null,null,null,"Техническое описание"]
[null,"Артикул","Модель","Длина,","Глубина,","Высота","Кол-во",null,"Кол-во","Тип","Базовая цена,","Ваша цена,","Нестандартной модели"]
[null,null,null,"мм","мм","мм","уровн",null,"напр","направ","руб","руб",{"$f":"CONCATENATE(\"шлифованная н/ст, толщина стали столещницы - 1 мм, сварная конструкция, каркас - труба 40*40*1,2 мм, Hстолешницы - 40 мм, \",IF(J18=\"GN1/1\",\" направляющие для гастроемкостей GN1/1, \",\"\"),IF(J18=\"УНН\",\" универсальные направляющие для гастроемкостей GN 1/1 и противней 600*400, \",\"\"),IF(G18=1,\"один уровень, \",\"\"),IF(G18=2,\"два уровня, \",\"\"),I18,\" направляющих, регулируемые ножки(+/-20мм)\",\", длина \", D18,\"мм\",\", глубина \",E18,\"мм\",\" ,высота \",F18,\"мм\",\" Объем в упаковке \",ROUND(D18/1000*E18/1000*(F18+150)/1000,2), \"м3\")","v":"шлифованная н/ст, толщина стали столещницы - 1 мм, сварная конструкция, каркас - труба 40*40*1,2 мм, Hстолешницы - 40 мм,  направляющие для гастроемкостей GN1/1, один уровень, 6 направляющих, регулируемые ножки(+/-20мм), длина 840мм, глубина 700мм ,высота 690мм Объем в упаковке 0,49м3"}]
[null,{"$f":"UPPER(CONCATENATE(C18,\"_\",D18/10,E18/10,F18/10,\"_\",G18,H18,I18,J18))","v":"ПКОШ_847069_1X6GN1/1"},"ПКОШ",840,700,690,1,"X",6,"GN1/1",{"$f":"ROUND((K19*IF(F19>850,1.05,1))*1.1*1.07*1.15*(1+'Повышение цен'!$C$22),0)","v":25941},{"$f":"ROUND(IF($D$4=\"С НДС\",K18*(1-$D$3),K18*(1-$D$3)/1.2),0)","v":25941}]
[null,null,null,{"$f":"IF(AND(D18>499,D18<951),D18,\"не производим\")","v":840},{"$f":"IF(AND(E18>549,E18<901),E18,\"не производим\")","v":700},{"$f":"IF(AND(F18>599,F18<901),F18,\"не производим\")","v":690},{"$f":"IF(AND(G18>0.99,G18<2.01),G18,\"не производим\")","v":1},null,{"$f":"IF(AND(I18>4.99,I18<8.01),I18,\"не производим\")","v":6},null,{"$f":"IF(J18=\"GN1/1\",ROUND(ROUND(ROUND((((1030+800)/0.32)*D19/1000*E19/1000*1.5+110*F19/400*G19*1.2+I19*E19*80*0.00789)+400*F19/400*G19+1800,0)*0.99,0)*(0.85+0.6944),0),IF(J18=\"УНН\",ROUND(ROUND(ROUND((((1030+800)/0.32)*D19/1000*E19/1000*1.5+110*F19/400*G19*1.2+I19*E19*80*0.00789*1.1)+400*F19/400*G19+2000,0)*0.99,0)*(0.85+0.6944),0)))","v":15921}]
[null,null,null,"500-950","550-900","600-900","1_2",null,"5_8","GN1/1","Направляющие для гастроемкостей"]
[null,null,null,null,null,null,null,null,null,"УНН","Направляющие универсальные"]
[null,null,null,null,null,null,null,null,"5_8","кол-во направляющих"]
[null,null,"ПКОШ","Подставка",null,null,"1_2","кол-во нуровней"]
[]
[]
[null,"Подставки ПКК Ш"]
[]
[null,"Изображение","Артикул",null,null,"Модель","Характеристика номенклатуры",null,null,null,"Базовая цена,","Ваша цена,","Техническое описание",null,"Базовая цена,"]
[null,null,null,null,null,null,null,null,null,null,"руб","руб",null,null,"руб"]
[null,null,"ПККШ_454540",null,null,"ПККШ","L=450, S=450, H=400",null,null,null,{"$f":"ROUND(O30*(1+'Повышение цен'!$C$22),0)","v":7484},{"$f":"ROUND(IF($D$4=\"С НДС\",K30*(1-$D$3),K30*(1-$D$3)/1.2),0)","v":7484},"шлифованная н/ст, толщина стали - 1 мм, сварная конструкция, каркас - труба 40*40*1,2 мм, Hстолешницы -40 мм, обвязка с 4 сторон, регулируемые ножки(+/-20мм),",null,6217]
[null,null,"ПККШ_454560",null,null,"ПККШ","L=450, S=450, H=600",null,null,null,{"$f":"ROUND(O31*(1+'Повышение цен'!$C$22),0)","v":8113},8113,null,null,6740]
[null,null,"ПККШ_505040",null,null,"ПККШ","L=500, S=500, H=400",null,null,null,{"$f":"ROUND(O32*(1+'Повышение цен'!$C$22),0)","v":7935},7935,null,null,6592]
[null,null,"ПККШ_505060",null,null,"ПККШ","L=500, S=500, H=600",null,null,null,{"$f":"ROUND(O33*(1+'Повышение цен'!$C$22),0)","v":8565},8565,null,null,7115]
[null,null,"ПККШ_606040",null,null,"ПККШ","L=600, S=600, H=400",null,null,null,{"$f":"ROUND(O34*(1+'Повышение цен'!$C$22),0)","v":8980},8980,null,null,7460]
[null,null,"ПККШ_606060",null,null,"ПККШ","L=600, S=600, H=600",null,null,null,{"$f":"ROUND(O35*(1+'Повышение цен'!$C$22),0)","v":9613},9613,null,null,7986]
[]
[]
[null,null,"Формула расчета цены",null,null,null,null,null,null,null,null,null,"Техническое описание"]
[null,"Артикул","Модель","Длина,","Глубина,","Высота","Обвязка",null,"Каркас",null,"Базовая цена,","Ваша цена,","Нестандартной модели"]
[null,null,null,"мм","мм","мм","Полка",null,"раз/св",null,"руб","руб",{"$f":"CONCATENATE(\"шлифованная н/ст, толщина стали - 1 мм,\",IF(I41=\"СВ\",\"сварная конструкция\",\"разборная конструкция\"),\", каркас - труба 40*40*1,2 мм, Hстолешницы - 40 мм, \",IF(OR(G41=\"\",G41=\"ОБ\"),\" обвязка с 4 сторон, \",\"\"),IF(G41=\"СП\",\" сплошная полка, \",\"\"),\"регулируемые ножки(+/-20мм)\",\", длина \", D41,\"мм\",\", глубина \",E41,\"мм\",\" ,высота \",F41,\"мм\", \" Объем в упаковке \",ROUND(D41/1000*E41/1000*(F41+150)/1000,2), \"м3\")","v":"шлифованная н/ст, толщина стали - 1 мм,разборная конструкция, каркас - труба 40*40*1,2 мм, Hстолешницы - 40 мм,  обвязка с 4 сторон, регулируемые ножки(+/-20мм), длина 450мм, глубина 450мм ,высота 600мм Объем в упаковке 0,15м3"}]
[null,{"$f":"UPPER(CONCATENATE(C41,\"_\",D41/10,E41/10,F41/10,IF(G41=\"СП\",\"_СП\",\"\"),I41))","v":"ПККШ_454560"},"ПККШ",450,450,600,"ОБ",null,null,null,{"$f":"ROUND((K42*IF(I41=\"СВ\",1.07,1)*IF(F42>600,1.05,1))*1.1*1.07*1.1*(1+'Повышение цен'!$C$22),0)","v":8112},{"$f":"ROUND(IF($D$4=\"С НДС\",K41*(1-$D$3),K41*(1-$D$3)/1.2),0)","v":8112}]
[null,null,null,{"$f":"IF(AND(D41>399,D41<801),D41,\"не производим\")","v":450},{"$f":"IF(AND(E41>399,E41<801),E41,\"не производим\")","v":450},{"$f":"IF(AND(F41>399,F41<701),F41,\"не производим\")","v":600},{"$f":"IF(G41=\"ОБ\",\"\",G41)","v":""},null,{"$f":"IF(AND(I41>4.99,I41<8.01),I41,\"не производим\")","v":"не производим"},null,{"$f":"IF(OR(G41=\"\",G41=\"ОБ\"),ROUND(ROUND(ROUND((((1030+800)/0.54)*D42/1000*E42/1000*1.18+110*F42/400*1.18)+400*F42/400+1800,0)*0.99,0)*(0.85+0.6944),0),IF(G41=\"СП\",ROUND(ROUND(ROUND((((1030+800)/0.54)*2*D42/1000*E42/1000*1.18+110*F42/400*1.18)+400*F42/400+1800*1.5,0)*0.99,0)*(0.85+0.6944),0)))","v":5205}]
[null,null,null,"400-800","400-800","400-700","ОБ_СП",null,"СВ","сварная конструкция"]
[]
[null,null,"ПККШ","Подставка"]
[]
[null,"Подтоварник ПКИ Ш"]
[]
[null,"Изображение","Артикул",null,null,"Модель","Характеристика номенклатуры",null,null,null,"Базовая цена,","Ваша цена,","Техническое описание",null,"Базовая цена,"]
[null,null,null,null,null,null,null,null,null,null,"руб","руб",null,null,"руб"]
[null,null,"ПКИШ_604030",null,null,"ПКИШ","L=600, S=400, H=300",null,null,null,{"$f":"ROUND(O51*(1+'Повышение цен'!$C$22),0)","v":8154},{"$f":"ROUND(IF($D$4=\"С НДС\",K51*(1-$D$3),K51*(1-$D$3)/1.2),0)","v":8154},"шлифованная н/ст, толщина стали - 1 мм, разборная конструкция, каркас - труба 40*40*1,2 мм, столешница сплошная, регулируемые ножки(+/-20мм), нагрузка до 250 кг",null,6774]
[null,null,"ПКИШ_804030",null,null,"ПКИШ","L=800, S=400, H=300",null,null,null,{"$f":"ROUND(O52*(1+'Повышение цен'!$C$22),0)","v":8767},8767,null,null,7283]
[null,null,"ПКИШ_904030",null,null,"ПКИШ","L=900, S=400, H=300",null,null,null,{"$f":"ROUND(O53*(1+'Повышение цен'!$C$22),0)","v":9072},9072,null,null,7536]
[null,null,"ПКИШ_1004030",null,null,"ПКИШ","L=1000, S=400, H=300",null,null,null,{"$f":"ROUND(O54*(1+'Повышение цен'!$C$22),0)","v":9377},9377,null,null,7790]
[null,null,"ПКИШ_1204030",null,null,"ПКИШ","L=1200, S=400, H=300",null,null,null,{"$f":"ROUND(O55*(1+'Повышение цен'!$C$22),0)","v":9989},9989,null,null,8298]
[]
[null,null,"ПКИШ_606030",null,null,"ПКИШ","L=600, S=600, H=300",null,null,null,{"$f":"ROUND(O57*(1+'Повышение цен'!$C$22),0)","v":9072},{"$f":"ROUND(IF($D$4=\"С НДС\",K57*(1-$D$3),K57*(1-$D$3)/1.2),0)","v":9072},null,null,7536]
[null,null,"ПКИШ_806030",null,null,"ПКИШ","L=800, S=600, H=300",null,null,null,{"$f":"ROUND(O58*(1+'Повышение цен'!$C$22),0)","v":9989},9989,null,null,8298]
[null,null,"ПКИШ_906030",null,null,"ПКИШ","L=900, S=600, H=300",null,null,null,{"$f":"ROUND(O59*(1+'Повышение цен'!$C$22),0)","v":10446},10446,null,null,8678]
[null,null,"ПКИШ_1006030",null,null,"ПКИШ","L=1000, S=600, H=300",null,null,null,{"$f":"ROUND(O60*(1+'Повышение цен'!$C$22),0)","v":10905},10905,null,null,9059]
[null,null,"ПКИШ_1206030",null,null,"ПКИШ","L=1200, S=600, H=300",null,null,null,{"$f":"ROUND(O61*(1+'Повышение цен'!$C$22),0)","v":11822},11822,null,null,9821]
[]
[null,"Подтоварник ПКИ Э"]
[]
[null,"Изображение","Артикул",null,null,"Модель","Характеристика номенклатуры",null,null,null,"Базовая цена,","Ваша цена,","Техническое описание",null,"Базовая цена,"]
[null,null,null,null,null,null,null,null,null,null,"руб","руб",null,null,"руб"]
[null,null,"ПКИЭ_604040",null,null,"ПКИЭ","L=600, S=400, H=400",null,null,null,{"$f":"ROUND(O67*(1+'Повышение цен'!$C$22),0)","v":5502},{"$f":"ROUND(IF($D$4=\"С НДС\",K67*(1-$D$3),K67*(1-$D$3)/1.2),0)","v":5502},"н/ст, толщина стали - 0,8 мм, разборная конструкция, каркас - нерж. уголок 40*40*1,5 мм, столешница сплошная, регулируемые ножки(+/-20мм), нагрузка до 200 кг",null,4571]
[null,null,"ПКИЭ_804040",null,null,"ПКИЭ","L=800, S=400, H=400",null,null,null,{"$f":"ROUND(O68*(1+'Повышение цен'!$C$22),0)","v":6125},6125,null,null,5088]
[null,null,"ПКИЭ_904040",null,null,"ПКИЭ","L=900, S=400, H=400",null,null,null,{"$f":"ROUND(O69*(1+'Повышение цен'!$C$22),0)","v":6434},6434,null,null,5345]
[null,null,"ПКИЭ_1004040",null,null,"ПКИЭ","L=1000, S=400, H=400",null,null,null,{"$f":"ROUND(O70*(1+'Повышение цен'!$C$22),0)","v":6742},6742,null,null,5601]
[null,null,"ПКИЭ_1204040",null,null,"ПКИЭ","L=1200, S=400, H=400",null,null,null,{"$f":"ROUND(O71*(1+'Повышение цен'!$C$22),0)","v":7361},7361,null,null,6115]
[]
[null,null,"ПКИЭ_606040",null,null,"ПКИЭ","L=600, S=600, H=400",null,null,null,{"$f":"ROUND(O73*(1+'Повышение цен'!$C$22),0)","v":6434},{"$f":"ROUND(IF($D$4=\"С НДС\",K73*(1-$D$3),K73*(1-$D$3)/1.2),0)","v":6434},null,null,5345]
[null,null,"ПКИЭ_806040",null,null,"ПКИЭ","L=800, S=600, H=400",null,null,null,{"$f":"ROUND(O74*(1+'Повышение цен'!$C$22),0)","v":7361},7361,null,null,6115]
[null,null,"ПКИЭ_906040",null,null,"ПКИЭ","L=900, S=600, H=400",null,null,null,{"$f":"ROUND(O75*(1+'Повышение цен'!$C$22),0)","v":7826},7826,null,null,6501]
[null,null,"ПКИЭ_1006040",null,null,"ПКИЭ","L=1000, S=600, H=400",null,null,null,{"$f":"ROUND(O76*(1+'Повышение цен'!$C$22),0)","v":8290},8290,null,null,6887]
[null,null,"ПКИЭ_1206040",null,null,"ПКИЭ","L=1200, S=600, H=400",null,null,null,{"$f":"ROUND(O77*(1+'Повышение цен'!$C$22),0)","v":9219},9219,null,null,7658]
[]
[null,null,"Формула расчета цены",null,null,null,null,null,null,null,null,null,"Техническое описание"]
[null,"Артикул","Модель","Длина,","Глубина,","Высота",null,null,"Каркас",null,"Базовая цена,","Ваша цена,","Нестандартной модели"]
[null,null,null,"мм","мм","мм",null,null,"раз/св",null,"руб","руб",{"$f":"CONCATENATE(IF(C82=\"ПКИШ\",\"шлифованная н/ст, толщина стали  - 1 мм, каркас - труба 40*40*1,2 мм, столешница сплошная, регулируемые ножки(+/-20мм) нагрузка до 250 кг \",\"\"),IF(C82=\"ПКИЭ\",\" н/ст, толщина стали  - 0,8 мм, каркас - нерж. уголок 40*40*1,5 мм, столешница сплошная, регулируемые ножки(+/-20мм) нагрузка до 200 кг \",\"\"),IF(I82=\"СВ\",\"сварная конструкция\",\"разборная конструкция\"),\", длина \",D82,\"мм\",\", глубина \",E82,\"мм\",\" ,высота \",F82,\"мм, \",\"Объем в упаковке \",IF(I82=\"\",ROUND(D82/1000*E82/1000*0.2,2),ROUND(D82/1000*E82/1000*(F82+150)/1000,2)),\" м3\")","v":" н/ст, толщина стали  - 0,8 мм, каркас - нерж. уголок 40*40*1,5 мм, столешница сплошная, регулируемые ножки(+/-20мм) нагрузка до 200 кг разборная конструкция, длина 1200мм, глубина 600мм ,высота 400мм, Объем в упаковке 0,14 м3"}]
[null,{"$f":"UPPER(CONCATENATE(C82,\"_\",D82/10,E82/10,F82/10,IF(G82=\"СП\",\"_СП\",\"\"),I82))","v":"ПКИЭ_1206040"},"ПКИЭ",1200,600,400,null,null,null,null,{"$f":"ROUND((K83*IF(D83>1200,1.05,1)*IF(E83>600,1.05,1)*IF(F83>400,1.05,1)*IF(I82=\"СВ\",1.07,1))*1.1*1.07*1.1*(1+'Повышение цен'!$C$22),0)","v":9219},{"$f":"ROUND(IF($D$4=\"С НДС\",K82*(1-$D$3),K82*(1-$D$3)/1.2),0)","v":9219}]
[null,null,null,{"$f":"IF(C82=\"ПКИШ\",IF(AND(D82>399,D82<1501),D82,\"не производим\"),IF(C82=\"ПКИЭ\",IF(AND(D82>399,D82<1501),D82,\"не производим\")))","v":1200},{"$f":"IF(AND(E82>399,E82<801),E82,\"не производим\")","v":600},{"$f":"IF(AND(F82>149,F82<501),F82,\"не производим\")","v":400},null,null,{"$f":"IF(AND(I82>4.99,I82<8.01),I82,\"не производим\")","v":"не производим"},null,{"$f":"IF(C82=\"ПКИШ\",ROUND(ROUND(ROUND((((1030+370)/0.54)*D83/1000*E83/1000*1.18+110*1.18)+600*(F83/300)+1800,0)*1.0379,0)*(0.85+0.6944),0),IF(C82=\"ПКИЭ\",ROUND(ROUND(ROUND((2625*D83/1000*E83/1000*1.18+120*1.18+100*1.18)+300*F83/400+900,0)*1.0379,0)*(0.85+0.6944),0)))","v":5915}]
[null,null,null,{"$f":"IF(C82=\"ПКИШ\",\"400-1500\",IF(C82=\"ПКИЭ\",\"400-1500\"))","v":"400-1500"},"400-800","150-500",null,null,"СВ","сварная конструкция"]
[]
[null,null,"ПКИШ","Подтоварники на каркасе квадратная труба"]
[null,null,"ПКИЭ","Подтоварникина каркасе из нерж уголка"]
[]
[]
[null,"Тележки грузовые ТГ Э"]
[]
[null,"Изображение","Артикул",null,null,"Модель","Характеристика номенклатуры",null,null,null,"Базовая цена,","Ваша цена,","Техническое описание",null,"Базовая цена,"]
[null,null,null,null,null,null,null,null,null,null,"руб","руб",null,null,"руб"]
[null,null,"ТГЭ_1006095",null,null,"ТГЭ","L=1000, S=600, H=950",null,null,null,{"$f":"ROUND(O94*(1+'Повышение цен'!$C$22),0)","v":40814},{"$f":"ROUND(IF($D$4=\"С НДС\",K94*(1-$D$3),K94*(1-$D$3)/1.2),0)","v":40814},"н/ст, сварная конструкция, нагрузка до 250 кг",null,33905]
[null,null,"ТГЭ_1206095",null,null,"ТГЭ","L=1200, S=600, H=950",null,null,null,{"$f":"ROUND(O95*(1+'Повышение цен'!$C$22),0)","v":42854},42854,null,null,35600]
[]
[null,"Тележки сервировочные ТС/ТГП"]
[]
[null,"Изображение","Артикул",null,null,"Модель","Характеристика номенклатуры",null,null,null,"Базовая цена,","Ваша цена,","Техническое описание",null,"Базовая цена,"]
[null,null,null,null,null,null,null,null,null,null,"руб","руб",null,null,"руб"]
[null,null,"ТС-2П",null,null,"СТСЭ","L=500, S=800, H=850, 2",null,null,null,{"$f":"ROUND(O101*(1+'Повышение цен'!$C$22),0)","v":23505},{"$f":"ROUND(IF($D$4=\"С НДС\",K101*(1-$D$3),K101*(1-$D$3)/1.2),0)","v":23505},"шлифованная н/ст Aisi 430, толщина стали 1,0 мм, каркас разборный, труба, диаметром 25 мм, оснащена 2 или 3 полками с бортиками, высота бортиков 15 мм, 4 колеса, два из них с тормозом.",null,19526]
[null,null,"ТС-3П",null,null,"СТСЭ","L=500, S=800, H=850, 3",null,null,null,{"$f":"ROUND(O102*(1+'Повышение цен'!$C$22),0)","v":27776},27776,null,null,23074]
[null,null,"ТГП-2П",null,null,"СТПЭ","L=500, S=800, H=850, 2",null,null,null,{"$f":"ROUND(O103*(1+'Повышение цен'!$C$22),0)","v":26183},{"$f":"ROUND(IF($D$4=\"С НДС\",K103*(1-$D$3),K103*(1-$D$3)/1.2),0)","v":26183},"шлифованная н/ст Aisi 430, толщина стали 1,0 мм, каркас разборный, труба, диаметром 25 мм, оснащена 2 полками с бортиками, высота бортиков 90 мм, 4 колеса, два из них с тормозом.",null,21751]

{"sheet":"Повышение цен","index":23,"n_rows":23,"n_cols":8,"rows_kept":23,"cut":false,"hidden":true,"merged":[[6,4,6,13]]}
[]
[]
[]
[]
[]
[]
[null,null,null,null,"Повышение цен, проставлять вручню"]
["Наименование","Серия","Итоговый % повышения",null,"2022-03-23","2023-07-14","2025-11-05","2026-01-01"]
["Столы открытые ","шеф",{"$f":"(100%+1*(IF(E9=\"\",0,E9)))*(1+(IF(F9=\"\",0,F9)))*(1+(IF(G9=\"\",0,G9)))*(1+(IF(H9=\"\",0,H9)))*(1+(IF(I9=\"\",0,I9)))*(1+(IF(J9=\"\",0,J9)))*(1+(IF(K9=\"\",0,K9)))*(1+(IF(L9=\"\",0,L9)))*(1+(IF(M9=\"\",0,M9)))-100%","v":0.20377794680000005},null,0.19600000000000001,0.1,-0.1,1.6670000000000001E-2]
["Столы открытые ","эконом",{"$f":"(100%+1*(IF(E10=\"\",0,E10)))*(1+(IF(F10=\"\",0,F10)))*(1+(IF(G10=\"\",0,G10)))*(1+(IF(H10=\"\",0,H10)))*(1+(IF(I10=\"\",0,I10)))*(1+(IF(J10=\"\",0,J10)))*(1+(IF(K10=\"\",0,K10)))*(1+(IF(L10=\"\",0,L10)))*(1+(IF(M10=\"\",0,M10)))-100%","v":0.20377794680000005},null,0.19600000000000001,0.1,-0.1,1.6670000000000001E-2]
["Столы закрытые","шеф",0.20377794680000005,null,0.19600000000000001,0.1,-0.1,1.6670000000000001E-2]
["Ванны моечные","шеф",0.20377794680000005,null,0.19600000000000001,0.1,-0.1,1.6670000000000001E-2]
["Ванны моечные сварные","эконом",0.20377794680000005,null,0.19600000000000001,0.1,-0.1,1.6670000000000001E-2]
["Стеллажи","шеф",0.20377794680000005,null,0.19600000000000001,0.1,-0.1,1.6670000000000001E-2]
["Стеллажи","эконом",0.20377794680000005,null,0.19600000000000001,0.1,-0.1,1.6670000000000001E-2]
["Полки навесные открытые",null,0.20377794680000005,null,0.19600000000000001,0.1,-0.1,1.6670000000000001E-2]
["Полки навесные закрытые",null,0.20377794680000005,null,0.19600000000000001,0.1,-0.1,1.6670000000000001E-2]
["Полки настольные",null,0.20377794680000005,null,0.19600000000000001,0.1,-0.1,1.6670000000000001E-2]
["Шкафы",null,0.20377794680000005,null,0.19600000000000001,0.1,-0.1,1.6670000000000001E-2]
["Зонты",null,0.20377794680000005,null,0.19600000000000001,0.1,-0.1,1.6670000000000001E-2]
["Рукомойники, котломоечные",null,0.20377794680000005,null,0.19600000000000001,0.1,-0.1,1.6670000000000001E-2]
["Подставки, подтоварники, тележки",null,0.20377794680000005,null,0.19600000000000001,0.1,-0.1,1.6670000000000001E-2]
["Шпильки",null,{"$f":"(100%+1*(IF(E23=\"\",0,E23)))*(1+(IF(F23=\"\",0,F23)))*(1+(IF(G23=\"\",0,G23)))*(1+(IF(H23=\"\",0,H23)))*(1+(IF(I23=\"\",0,I23)))*(1+(IF(J23=\"\",0,J23)))*(1+(IF(K23=\"\",0,K23)))*(1+(IF(L23=\"\",0,L23)))*(1+(IF(M23=\"\",0,M23)))-100%","v":0.20377794680000005},null,0.19600000000000001,0.1,-0.1,1.6670000000000001E-2]

{"sheet":"Техно","index":24,"n_rows":116,"n_cols":49,"rows_kept":116,"cut":false,"hidden":true,"merged":[[6,18,6,19],[6,8,6,9],[6,10,6,11],[6,12,6,13],[6,14,6,15],[6,16,6,17],[6,48,6,49],[6,20,6,21],[6,22,6,23],[6,30,6,31],[6,28,6,29],[6,26,6,27],[6,24,6,25],[6,32,6,33],[6,34,6,35],[6,42,6,43],[6,44,6,45],[6,46,6,47]]}
["ДЛ/ГЛУ",null,"Высота","Кол полок"]
[]
[150]
[200]
[250]
[300]
[350,null,600,null,"СП",250,500,null,null,null,null,null,null,null,null,null,null,null,null,null,"Стол закрытый",null,"Стол закрытый с ванной",null,null,null,null,null,null,null,"Рукомойник",null,"Столы под рыбу",null,null,null,null,null,null,null,null,null,"Полки,шкафы закрытые",null,"Зонты пристенные",null,"Зонты островные",null,"Подставки"]
[{"$f":"A7+50","v":400},null,{"$f":"C7+50","v":650},1,"СП2Б",300,{"$f":"G7+10","v":510},"У",null,0.78500000000000003,null,0.78500000000000003,null,0.78500000000000003,null,0.78500000000000003,null,0.78500000000000003,null,0.78500000000000003,null,null,null,null,null,0.78500000000000003,null,0.78500000000000003,null,0.78500000000000003,null,null,null,null,null,0.78500000000000003,null,0.78500000000000003,null,0.78500000000000003,null,0.78500000000000003]
[450,null,{"$f":"C8+50","v":700},2,"СП3Б",null,{"$f":"G8+10","v":520}]
[500,null,{"$f":"C9+50","v":750},3,null,null,530,null,1,94.17,1,94.17,1,94.17,1,94.17,1,94.17,1,94.17,null,null,null,2060,1,94.17,1,94.17,1,94.17,null,null,null,null,1,94.17,1,94.17,1,94.17,1,94.17]
[550,null,{"$f":"C10+50","v":800},4,"ОБ",null,540,null,0.8,101.63,0.8,101.63,0.8,101.63,0.8,101.63,0.8,101.63,0.8,101.63,null,null,null,2995,0.8,101.63,0.8,101.63,0.8,101.63,null,null,null,null,0.8,101.63,0.8,101.63,0.8,101.63,0.8,101.63]
[600,null,{"$f":"C11+50","v":850},5,"СП",null,550,null,0.8,90.09,0.8,90.09,0.8,90.09,0.8,90.09,0.8,90.09,0.8,90.09,null,null,null,null,0.8,90.09,0.8,90.09,0.8,90.09,null,null,null,null,0.8,90.09,0.8,90.09,0.8,90.09,0.8,90.09]
[650,null,870,6,null,null,560,null,0.5,92.76,0.5,92.76,0.5,92.76,0.5,92.76,0.5,92.76,0.5,92.76,null,null,null,null,0.5,92.76,0.5,92.76,0.5,92.76,null,null,null,null,0.5,92.76,0.5,92.76,0.5,92.76,0.5,92.76]
[700,null,900,7,"ОБ",null,570,null,1.5,94.41,1.5,94.41,1.5,94.41,1.5,94.41,1.5,94.41,1.5,94.41,null,null,null,null,1.5,94.41,1.5,94.41,1.5,94.41,null,null,null,null,1.5,94.41,1.5,94.41,1.5,94.41,1.5,94.41]
[750,null,950,8,"ОБ2Б",null,580,null,1.5,51,1.5,51,1.5,51,1.5,51,1.5,51,1.5,51,null,null,null,null,1.5,51,1.5,51,1.5,51,null,null,null,null,1.5,51,1.5,51,1.5,51,1.5,51]
[800,null,1000,null,null,null,590,null,0.45,49.4,0.45,49.4,0.45,49.4,0.45,49.4,0.45,49.4,0.45,49.4,null,null,null,null,0.45,49.4,0.45,49.4,0.45,49.4,null,null,null,null,0.45,49.4,0.45,49.4,0.45,49.4,0.45,49.4]
[850,null,null,null,null,null,600,null,0.8,49.19,0.8,49.19,0.8,49.19,0.8,49.19,0.8,49.19,0.8,49.19,null,null,null,null,0.8,49.19,0.8,49.19,0.8,49.19,null,null,null,null,0.8,49.19,0.8,49.19,0.8,49.19,0.8,49.19]
[900,null,700,null,"ОБ",null,610,null,null,136.99,null,136.99,null,136.99,null,136.99,null,136.99,null,136.99,null,null,null,null,null,136.99,null,136.99,null,136.99,null,null,null,null,null,136.99,null,136.99,null,136.99,null,136.99]
[950,null,750,null,"Н",null,620,null,null,199.64,null,199.64,null,199.64,null,199.64,null,199.64,null,199.64,null,null,null,null,null,199.64,null,199.64,null,199.64,null,null,null,null,null,199.64,null,199.64,null,199.64,null,199.64]
[1000,null,770,null,null,null,630,null,null,184.32,null,184.32,null,184.32,null,184.32,null,184.32,null,184.32,null,null,null,null,null,184.32,null,184.32,null,184.32,null,null,null,null,null,184.32,null,184.32,null,184.32,null,184.32]
[1050,null,800,null,null,null,640,null,null,63.56,null,63.56,null,63.56,null,63.56,null,63.56,null,63.56,null,null,null,null,null,63.56,null,63.56,null,63.56,null,null,null,null,null,63.56,null,63.56,null,63.56,null,63.56]
[1100,null,null,null,null,null,650,null,null,125.76,null,125.76,null,125.76,null,125.76,null,125.76,null,125.76,null,null,null,null,null,125.76,null,125.76,null,125.76,null,null,null,null,null,125.76,null,125.76,null,125.76,null,125.76]
[1150,null,null,null,null,null,660]
[1200,null,null,null,null,null,670,null,null,650,null,650,null,650,null,null,null,null,null,650,null,null,null,null,null,650,null,650]
[1250,null,null,null,null,null,680,null,null,1000,null,1000,null,1000,null,1000,null,1000,null,1000,null,null,null,null,null,1000,null,1000,null,1000,null,null,null,null,null,1000,null,1000,null,1000,null,1000]
[1300,null,null,null,null,null,690,null,null,215,null,215,null,215,null,215,null,215,null,215,null,null,null,null,null,215,null,215,null,215,null,null,null,null,null,215,null,215,null,215,null,215]
[1350,null,null,null,null,null,700,null,null,{"$f":"J26*0.33","v":70.95},null,{"$f":"L26*0.33","v":70.95},null,{"$f":"N26*0.33","v":70.95},null,{"$f":"P26*0.33","v":70.95},null,{"$f":"R26*0.33","v":70.95},null,{"$f":"T26*0.33","v":70.95},null,null,null,null,null,{"$f":"Z26*0.33","v":70.95},null,{"$f":"AB26*0.33","v":70.95},null,{"$f":"AD26*0.33","v":70.95},null,null,null,null,null,{"$f":"AJ26*0.33","v":70.95},null,{"$f":"AL26*0.33","v":70.95},null,{"$f":"AN26*0.33","v":70.95},null,{"$f":"AP26*0.33","v":70.95}]
[1400,null,null,null,null,null,710]
[1450,null,null,null,null,null,720,null,null,2060,null,2060,null,2060,null,5568,null,5568,null,2060,null,null,null,null,null,2060,null,2060,null,2060]
[1500,null,null,null,null,null,730,null,null,2995,null,2995,null,2995,null,33314,null,33314,null,2995,null,null,null,null,null,2995,null,2995,null,2995]
[1550,null,null,null,null,null,740]
[1600,null,null,null,null,null,750]
[1650,null,null,null,null,null,760]
[1700,null,null,null,null,null,770]
[1750,null,null,null,null,null,780]
[1800,null,null,null,null,null,790]
[1850,null,null,null,null,null,800]
[1900,null,null,null,null,null,810]
[1950,null,null,null,null,null,820]
[2000,null,null,null,null,null,830]
[2050,null,null,null,null,null,840]
[2100,null,null,null,null,null,850]
[2150,null,null,null,null,null,860]
[2200,null,null,null,null,null,870]
[2250,null,null,null,null,null,880]
[2300,null,null,null,null,null,890]
[2350,null,null,null,null,null,900]
[2400,null,null,null,null,null,910]
[2450,null,null,null,null,null,920]
[2500,null,null,null,null,null,930]
[null,null,null,null,null,null,940]
[null,null,null,null,null,null,950]
[530]
[550]
[600]
[630]
[650]
[700]
[750]
[{"$f":"A59+50","v":800}]
[850]
[900]
[950]
[1000]
[1050]
[1100]
[1150]
[1200]
[1250]
[1300]
[1350]
[1400]
[1450]
[1500]
[1550]
[1600]
[1650]
[1700]
[1750]
[1800]
[]
[]
[]
[]
[]
[]
[]
[]
[]
[]
[]
[]
["ВМПНS1"]
["ВМПНSЛ1"]
["ВМПНSП1"]
["ВМЦНS1"]
["ВМЦНSЛП1"]
["ВМПНS2"]
["ВМПНSЛ2"]
["ВМПНSП2"]
["ВМЦНS2"]
["ВМЦНSЛП2"]
["ВМПНS3"]
["ВМЦНS3"]
["ВМПЦS1"]
["ВМПЦSЛ1"]
["ВМПЦSП1"]
["ВМЦЦS1"]
["ВМЦЦSЛП1"]
["ВМПЦS2"]
["ВМПЦSЛ2"]
["ВМПЦSП2"]
["ВМЦЦS2"]
["ВМЦЦSЛП2"]
["ВМПЦS3"]
["ВМЦЦS3"]

{"sheet":"Лист2","index":25,"n_rows":7,"n_cols":1,"rows_kept":7,"cut":false,"hidden":true,"merged":[]}
[true]
["Базовая \nцена, руб."]
["Базовая \nцена, руб. б/НДС"]
[{"$f":"IF(A1=TRUE,\"руб.\",\"руб. б/НДС\")","v":"руб."}]
[{"$f":"CONCATENATE(\"Ваша цена, \",A4)","v":"Ваша цена, руб."}]
[{"$f":"IF(A1=TRUE,1,1.22)","v":1}]
[{"$f":"IF(A1=TRUE,1,1.22)","v":1}]